Workbook

Sheet 1. dönem e okul yapıştır
A1: OKUL ADI | C1: …………………………………………………………………………………………... ORTAOKULU
A2: SINIFI | C2: 8/A
A3: SIRA | B3: Okul No | C3: Adı Soyadı | D3: 1. ÜRÜN DEĞ. | E3: 2. ÜRÜN DEĞ. | F3: 1. Sınav (ÜRÜN ORT) | G3: 2. Sınav Yazılı | H3: 1. Ders Etk. Kat. | I3: 2. Ders Etk. Kat. | J3: 1.Dönem Notu
A4: 1 | B4: 896 | C4: Sinem AKÇA | D4: 100 | E4: 95 | F4: =(D4+E4)/2 -> 97.5 | G4: 85 | H4: 90 | I4: 100 | J4: =((F4+G4+(H4+I4)/2)/3) -> 92.5
A5: 2 | B5: 7852 | C5: Melih Tunç | D5: 100 | E5: 100 | F5: =(D5+E5)/2 -> 100 | G5: 100 | H5: 100 | I5: 100 | J5: =((F5+G5+(H5+I5)/2)/3) -> 100
A6: 3 | F6: =(D6+E6)/2 -> 0 | J6: =((F6+G6+(H6+I6)/2)/3) -> 0
A7: 4 | F7: =(D7+E7)/2 -> 0 | J7: =((F7+G7+(H7+I7)/2)/3) -> 0
A8: 5 | F8: =(D8+E8)/2 -> 0 | J8: =((F8+G8+(H8+I8)/2)/3) -> 0
A9: 6 | F9: =(D9+E9)/2 -> 0 | J9: =((F9+G9+(H9+I9)/2)/3) -> 0
A10: 7 | F10: =(D10+E10)/2 -> 0 | J10: =((F10+G10+(H10+I10)/2)/3) -> 0
A11: 8 | F11: =(D11+E11)/2 -> 0 | J11: =((F11+G11+(H11+I11)/2)/3) -> 0
A12: 9 | F12: =(D12+E12)/2 -> 0 | J12: =((F12+G12+(H12+I12)/2)/3) -> 0
A13: 10 | F13: =(D13+E13)/2 -> 0 | J13: =((F13+G13+(H13+I13)/2)/3) -> 0
A14: 11 | F14: =(D14+E14)/2 -> 0 | J14: =((F14+G14+(H14+I14)/2)/3) -> 0
A15: 12 | F15: =(D15+E15)/2 -> 0 | J15: =((F15+G15+(H15+I15)/2)/3) -> 0
A16: 13 | F16: =(D16+E16)/2 -> 0 | J16: =((F16+G16+(H16+I16)/2)/3) -> 0
A17: 14 | F17: =(D17+E17)/2 -> 0 | J17: =((F17+G17+(H17+I17)/2)/3) -> 0
... A21: 18 | F21: =(D21+E21)/2 -> 0 | J21: =((F21+G21+(H21+I21)/2)/3) -> 0
A22: 19 | F22: =(D22+E22)/2 -> 0 | J22: =((F22+G22+(H22+I22)/2)/3) -> 0 | L22: https://www.teknolojitasarimdersi.com
A23: 20 | F23: =(D23+E23)/2 -> 0 | J23: =((F23+G23+(H23+I23)/2)/3) -> 0
A24: 21 | F24: =(D24+E24)/2 -> 0 | J24: =((F24+G24+(H24+I24)/2)/3) -> 0 | L24: Bu sayfaya bilgiler elle veya e-okuldan kopyala - özel yapıştır seçeneklerinden (Değer) ile girilebilir. Bu bilgiler otomatik olarak 1. dönem sayfasına aktarılır, verdiğiniz notlar 1. Dönem çizelgesinde otomatik dağıtılır ve ortalaması hesaplanır. Ortaokulun ismini, Sınıfı- Öğrencilerin Numaraları ve isimlerini, notlarını (2 Ürün +1 Yazılı + 2 Ders Etk), en altta da Öğretmen ismini giriniz.
A25: 22 | F25: =(D25+E25)/2 -> 0 | J25: =((F25+G25+(H25+I25)/2)/3) -> 0
A26: 23 | F26: =(D26+E26)/2 -> 0 | J26: =((F26+G26+(H26+I26)/2)/3) -> 0
A27: 24 | F27: =(D27+E27)/2 -> 0 | J27: =((F27+G27+(H27+I27)/2)/3) -> 0
A28: 25 | F28: =(D28+E28)/2 -> 0 | J28: =((F28+G28+(H28+I28)/2)/3) -> 0
A29: 26 | F29: =(D29+E29)/2 -> 0 | J29: =((F29+G29+(H29+I29)/2)/3) -> 0
A30: 27 | F30: =(D30+E30)/2 -> 0 | J30: =((F30+G30+(H30+I30)/2)/3) -> 0
A31: 28 | F31: =(D31+E31)/2 -> 0 | J31: =((F31+G31+(H31+I31)/2)/3) -> 0
A32: 29 | F32: =(D32+E32)/2 -> 0 | J32: =((F32+G32+(H32+I32)/2)/3) -> 0
A33: 30 | F33: =(D33+E33)/2 -> 0 | J33: =((F33+G33+(H33+I33)/2)/3) -> 0
A35: Öğretmen adı: | D35: Hasan YILDIZ
A36: Branşı: | D36: Teknoloji ve Tasarım Öğretmeni

Sheet 1. Dönem
A1: ='1. dönem e okul yapıştır'!C1 -> …………………………………………………………………………………………... ORTAOKULU
A2: ='1. dönem e okul yapıştır'!C2 -> 8/A | L2: SINIFI TEKNOLOJİ VE TASARIM DERSİ 1. DÖNEM DEĞERLENDİRME ÖLÇEĞİ
A3: SIRA | B3: NO | C3: 2026-2027 Eğitim Öğretim Yılı ADI SOYADI | D3: 1.İnovasyon (yenilik) kavramını açıklar. | E3: 2.İnsan hayatını kolaylaştıracak inovatif bir fikir geliştirir. | F3: 3.Geliştirdiği inovatif fikri değerlendirir. | G3: 4.Patent , faydalı model kavramlarını açıklar. | H3: 5.Fikrî ve sınai mülk.hak. teknolojik ilerlemedeki ön. açıklar. | I3: 8.A. TEKNOLOJİ VE TASARIMIN TEMELLERİ GÖZLEM (5 x 20 puan) | J3: 1. DERS ETKİNLİKLERİNE KATILIM - (Gözlem-Performans) | K3: 1.Tasarımı için taslak çizimler yapar. | L3: 2.Taslak çizim. bilgisayar yardımıyla üç boyutlu görsellere dönüştürür. | M3: 3.Sensör teknolojisinin günlük hayattaki uygulamalarını değerlendirir. | N3: 4.İnternete bağlı tekn. araç. günlük hayattaki kulla. örnekler verir. | O3: 5.Akıllı ürün kavramına uygun olarak gelecekte kulla. bir ürün tasarlar. | P3: 8.B.TASARIM SÜRECİ VE TANITIM GÖZLEM (5 x 20 puan) | Q3: 1.Tanıtım ve pazarlama tekniklerini açıklar. | R3: 2.Mevcut bir kurum veya şirkete ait pazarlama tekniklerini analiz eder. | S3: 8.B.2 TANITIM VE PAZARLAMA GÖZLEM (2 x 50 puan) | T3: 2. DERS ETKİNLİKLERİNE KATILIM - (Gözlem-Performans) | U3: 1. Bir sorun/ihtiyacı tasarım problemi şeklinde ifade eder | V3: 2. Belirlediği probleme yönelik çözüm önerileri geliştirir | W3: 3. Çözüm önerileri arasından en uygun çözümü seçer | X3: 4. Tasarım sürecinin araştırma basamaklarını söyler | Y3: 5. Tasarım geliştirme kriterlerini söyler | Z3: 6. Pazarlanabilir hale getirir,marka ,logo ,ambalaj tasarlar | AA3: 7. Reklam senaryosu yazar,reklam panosu hazırlar | AB3: 8.B.TASARIM SÜRECİ VE TANITIM ÜRÜN DEĞERLENDİRME (2*15+5*14) | AC3: 1. ÜRÜN DEĞERLENDİRME NOTU | AD3: 1.Görsel iletişim tasarımı kavramını açıklar. | AE3: 2.Grafik tasarım eleman ve ilkelerini kullanarak ürün tasarlar. | AF3: 3. Ürününü geri bildirimler doğrultusunda yeniden yapılandırır | AG3: 4.Yayın grafiği tasarımı kavramını açıklar. | AH3: 5.Mizanpaj ilkelerini açıklar. | AI3: 6.Mizanpaj ilkelerini kullanarak bir tasarım oluşturur. | AJ3: 7. Ürün için tanıtım ve pazarlama tekniklerini uygular. | AK3: 8.C.YAPILI ÇEVRE VE ÜRÜN (2*15+5*14) | AL3: 2. ÜRÜN DEĞERLENDİRME NOTU | AM3: ÜRÜN DEĞERLENDİRME (Ortalama) NOTU (1. Sınav) | AN3: YAZILI DEĞERLENDİRME NOTU - (2. Sınav) | AO3: 1.DÖNEM NOTU
A5: PUANLAMA | D5: =($J5-MOD($J5,5))/5+IF(MOD($J5,5)>0,1,0) -> 20 | E5: =($J5-MOD($J5,5))/5+IF(MOD($J5,5)>1,1,0) -> 20 | F5: =($J5-MOD($J5,5))/5+IF(MOD($J5,5)>2,1,0) -> 20 | G5: =($J5-MOD($J5,5))/5+IF(MOD($J5,5)>3,1,0) -> 20 | H5: =($J5-MOD($J5,5))/5+IF(MOD($J5,5)>4,1,0) -> 20 | I5: =J5 -> 100 | J5: 100 | K5: =($P5-MOD($P5,5))/5+IF(MOD($P5,5)>0,1,0) -> 20 | L5: =($P5-MOD($P5,5))/5+IF(MOD($P5,5)>1,1,0) -> 20 | M5: =($P5-MOD($P5,5))/5+IF(MOD($P5,5)>2,1,0) -> 20 | N5: =($P5-MOD($P5,5))/5+IF(MOD($P5,5)>3,1,0) -> 20 | O5: =($P5-MOD($P5,5))/5+IF(MOD($P5,5)>4,1,0) -> 20 | P5: =T5 -> 100 | Q5: =($S5-MOD($S5,2))/2+IF(MOD($S5,2)>0,1,0) -> 50 | R5: =($S5-MOD($S5,2))/2+IF(MOD($S5,2)>1,1,0) -> 50 | S5: =T5 -> 100 | T5: 100 | U5: =($AC5-MOD($AC5,7))/7+IF(MOD($AC5,7)>0,1,0) -> 15 | V5: =($AC5-MOD($AC5,7))/7+IF(MOD($AC5,7)>1,1,0) -> 15 | W5: =($AC5-MOD($AC5,7))/7+IF(MOD($AC5,7)>2,1,0) -> 14 | X5: =($AC5-MOD($AC5,7))/7+IF(MOD($AC5,7)>3,1,0) -> 14 | Y5: =($AC5-MOD($AC5,7))/7+IF(MOD($AC5,7)>4,1,0) -> 14 | Z5: =($AC5-MOD($AC5,7))/7+IF(MOD($AC5,7)>5,1,0) -> 14 | AA5: =($AC5-MOD($AC5,7))/7+IF(MOD($AC5,7)>6,1,0) -> 14 | AB5: =AC5 -> 100 | AC5: 100 | AD5: =($AL5-MOD($AL5,7))/7+IF(MOD($AL5,7)>0,1,0) -> 15 | AE5: =($AL5-MOD($AL5,7))/7+IF(MOD($AL5,7)>1,1,0) -> 15 | AF5: =($AL5-MOD($AL5,7))/7+IF(MOD($AL5,7)>2,1,0) -> 14 | AG5: =($AL5-MOD($AL5,7))/7+IF(MOD($AL5,7)>3,1,0) -> 14 | AH5: =($AL5-MOD($AL5,7))/7+IF(MOD($AL5,7)>4,1,0) -> 14 | AI5: =($AL5-MOD($AL5,7))/7+IF(MOD($AL5,7)>5,1,0) -> 14 | AJ5: =($AL5-MOD($AL5,7))/7+IF(MOD($AL5,7)>6,1,0) -> 14 | AK5: =SUM(AD5:AJ5) -> 100 | AL5: 100 | AM5: 100 | AN5: 100 | AO5: =AVERAGE((J5+T5)/2,AC5,AL5) -> 100
A6: ='1. dönem e okul yapıştır'!A4 -> 1 | B6: ='1. dönem e okul yapıştır'!B4 -> 896 | C6: ='1. dönem e okul yapıştır'!C4 -> Sinem AKÇA | D6: =($J6-MOD($J6,5))/5+IF(MOD($J6,5)>0,1,0) -> 18 | E6: =($J6-MOD($J6,5))/5+IF(MOD($J6,5)>1,1,0) -> 18 | F6: =($J6-MOD($J6,5))/5+IF(MOD($J6,5)>2,1,0) -> 18 | G6: =($J6-MOD($J6,5))/5+IF(MOD($J6,5)>3,1,0) -> 18 | H6: =($J6-MOD($J6,5))/5+IF(MOD($J6,5)>4,1,0) -> 18 | I6: =J6 -> 90 | J6: ='1. dönem e okul yapıştır'!H4 -> 90 | K6: =($P6-MOD($P6,5))/5+IF(MOD($P6,5)>0,1,0) -> 20 | L6: =($P6-MOD($P6,5))/5+IF(MOD($P6,5)>1,1,0) -> 20 | M6: =($P6-MOD($P6,5))/5+IF(MOD($P6,5)>2,1,0) -> 20 | N6: =($P6-MOD($P6,5))/5+IF(MOD($P6,5)>3,1,0) -> 20 | O6: =($P6-MOD($P6,5))/5+IF(MOD($P6,5)>4,1,0) -> 20 | P6: =T6 -> 100 | Q6: =($S6-MOD($S6,2))/2+IF(MOD($S6,2)>0,1,0) -> 50 | R6: =($S6-MOD($S6,2))/2+IF(MOD($S6,2)>1,1,0) -> 50 | S6: =T6 -> 100 | T6: ='1. dönem e okul yapıştır'!I4 -> 100 | U6: =($AC6-MOD($AC6,7))/7+IF(MOD($AC6,7)>0,1,0) -> 15 | V6: =($AC6-MOD($AC6,7))/7+IF(MOD($AC6,7)>1,1,0) -> 15 | W6: =($AC6-MOD($AC6,7))/7+IF(MOD($AC6,7)>2,1,0) -> 14 | X6: =($AC6-MOD($AC6,7))/7+IF(MOD($AC6,7)>3,1,0) -> 14 | Y6: =($AC6-MOD($AC6,7))/7+IF(MOD($AC6,7)>4,1,0) -> 14 | Z6: =($AC6-MOD($AC6,7))/7+IF(MOD($AC6,7)>5,1,0) -> 14 | AA6: =($AC6-MOD($AC6,7))/7+IF(MOD($AC6,7)>6,1,0) -> 14 | AB6: =AC6 -> 100 | AC6: ='1. dönem e okul yapıştır'!D4 -> 100 | AD6: =($AL6-MOD($AL6,7))/7+IF(MOD($AL6,7)>0,1,0) -> 14 | AE6: =($AL6-MOD($AL6,7))/7+IF(MOD($AL6,7)>1,1,0) -> 14 | AF6: =($AL6-MOD($AL6,7))/7+IF(MOD($AL6,7)>2,1,0) -> 14 | AG6: =($AL6-MOD($AL6,7))/7+IF(MOD($AL6,7)>3,1,0) -> 14 | AH6: =($AL6-MOD($AL6,7))/7+IF(MOD($AL6,7)>4,1,0) -> 13 | AI6: =($AL6-MOD($AL6,7))/7+IF(MOD($AL6,7)>5,1,0) -> 13 | AJ6: =($AL6-MOD($AL6,7))/7+IF(MOD($AL6,7)>6,1,0) -> 13 | AK6: =SUM(AD6:AJ6) -> 95 | AL6: ='1. dönem e okul yapıştır'!E4 -> 95 | AM6: ='1. dönem e okul yapıştır'!F4 -> 97.5 | AN6: ='1. dönem e okul yapıştır'!G4 -> 85 | AO6: ='1. dönem e okul yapıştır'!J4 -> 92.5
A7: ='1. dönem e okul yapıştır'!A5 -> 2 | B7: ='1. dönem e okul yapıştır'!B5 -> 7852 | C7: ='1. dönem e okul yapıştır'!C5 -> Melih Tunç | D7: =($J7-MOD($J7,5))/5+IF(MOD($J7,5)>0,1,0) -> 20 | E7: =($J7-MOD($J7,5))/5+IF(MOD($J7,5)>1,1,0) -> 20 | F7: =($J7-MOD($J7,5))/5+IF(MOD($J7,5)>2,1,0) -> 20 | G7: =($J7-MOD($J7,5))/5+IF(MOD($J7,5)>3,1,0) -> 20 | H7: =($J7-MOD($J7,5))/5+IF(MOD($J7,5)>4,1,0) -> 20 | I7: =J7 -> 100 | J7: ='1. dönem e okul yapıştır'!H5 -> 100 | K7: =($P7-MOD($P7,5))/5+IF(MOD($P7,5)>0,1,0) -> 20 | L7: =($P7-MOD($P7,5))/5+IF(MOD($P7,5)>1,1,0) -> 20 | M7: =($P7-MOD($P7,5))/5+IF(MOD($P7,5)>2,1,0) -> 20 | N7: =($P7-MOD($P7,5))/5+IF(MOD($P7,5)>3,1,0) -> 20 | O7: =($P7-MOD($P7,5))/5+IF(MOD($P7,5)>4,1,0) -> 20 | P7: =T7 -> 100 | Q7: =($S7-MOD($S7,2))/2+IF(MOD($S7,2)>0,1,0) -> 50 | R7: =($S7-MOD($S7,2))/2+IF(MOD($S7,2)>1,1,0) -> 50 | S7: =T7 -> 100 | T7: ='1. dönem e okul yapıştır'!I5 -> 100 | U7: =($AC7-MOD($AC7,7))/7+IF(MOD($AC7,7)>0,1,0) -> 15 | V7: =($AC7-MOD($AC7,7))/7+IF(MOD($AC7,7)>1,1,0) -> 15 | W7: =($AC7-MOD($AC7,7))/7+IF(MOD($AC7,7)>2,1,0) -> 14 | X7: =($AC7-MOD($AC7,7))/7+IF(MOD($AC7,7)>3,1,0) -> 14 | Y7: =($AC7-MOD($AC7,7))/7+IF(MOD($AC7,7)>4,1,0) -> 14 | Z7: =($AC7-MOD($AC7,7))/7+IF(MOD($AC7,7)>5,1,0) -> 14 | AA7: =($AC7-MOD($AC7,7))/7+IF(MOD($AC7,7)>6,1,0) -> 14 | AB7: =AC7 -> 100 | AC7: ='1. dönem e okul yapıştır'!D5 -> 100 | AD7: =($AL7-MOD($AL7,7))/7+IF(MOD($AL7,7)>0,1,0) -> 15 | AE7: =($AL7-MOD($AL7,7))/7+IF(MOD($AL7,7)>1,1,0) -> 15 | AF7: =($AL7-MOD($AL7,7))/7+IF(MOD($AL7,7)>2,1,0) -> 14 | AG7: =($AL7-MOD($AL7,7))/7+IF(MOD($AL7,7)>3,1,0) -> 14 | AH7: =($AL7-MOD($AL7,7))/7+IF(MOD($AL7,7)>4,1,0) -> 14 | AI7: =($AL7-MOD($AL7,7))/7+IF(MOD($AL7,7)>5,1,0) -> 14 | AJ7: =($AL7-MOD($AL7,7))/7+IF(MOD($AL7,7)>6,1,0) -> 14 | AK7: =SUM(AD7:AJ7) -> 100 | AL7: ='1. dönem e okul yapıştır'!E5 -> 100 | AM7: ='1. dönem e okul yapıştır'!F5 -> 100 | AN7: ='1. dönem e okul yapıştır'!G5 -> 100 | AO7: ='1. dönem e okul yapıştır'!J5 -> 100
A8: ='1. dönem e okul yapıştır'!A6 -> 3 | B8: ='1. dönem e okul yapıştır'!B6 -> 0 | C8: ='1. dönem e okul yapıştır'!C6 -> 0 | D8: =($J8-MOD($J8,5))/5+IF(MOD($J8,5)>0,1,0) -> 0 | E8: =($J8-MOD($J8,5))/5+IF(MOD($J8,5)>1,1,0) -> 0 | F8: =($J8-MOD($J8,5))/5+IF(MOD($J8,5)>2,1,0) -> 0 | G8: =($J8-MOD($J8,5))/5+IF(MOD($J8,5)>3,1,0) -> 0 | H8: =($J8-MOD($J8,5))/5+IF(MOD($J8,5)>4,1,0) -> 0 | I8: =J8 -> 0 | J8: ='1. dönem e okul yapıştır'!H6 -> 0 | K8: =($P8-MOD($P8,5))/5+IF(MOD($P8,5)>0,1,0) -> 0 | L8: =($P8-MOD($P8,5))/5+IF(MOD($P8,5)>1,1,0) -> 0 | M8: =($P8-MOD($P8,5))/5+IF(MOD($P8,5)>2,1,0) -> 0 | N8: =($P8-MOD($P8,5))/5+IF(MOD($P8,5)>3,1,0) -> 0 | O8: =($P8-MOD($P8,5))/5+IF(MOD($P8,5)>4,1,0) -> 0 | P8: =T8 -> 0 | Q8: =($S8-MOD($S8,2))/2+IF(MOD($S8,2)>0,1,0) -> 0 | R8: =($S8-MOD($S8,2))/2+IF(MOD($S8,2)>1,1,0) -> 0 | S8: =T8 -> 0 | T8: ='1. dönem e okul yapıştır'!I6 -> 0 | U8: =($AC8-MOD($AC8,7))/7+IF(MOD($AC8,7)>0,1,0) -> 0 | V8: =($AC8-MOD($AC8,7))/7+IF(MOD($AC8,7)>1,1,0) -> 0 | W8: =($AC8-MOD($AC8,7))/7+IF(MOD($AC8,7)>2,1,0) -> 0 | X8: =($AC8-MOD($AC8,7))/7+IF(MOD($AC8,7)>3,1,0) -> 0 | Y8: =($AC8-MOD($AC8,7))/7+IF(MOD($AC8,7)>4,1,0) -> 0 | Z8: =($AC8-MOD($AC8,7))/7+IF(MOD($AC8,7)>5,1,0) -> 0 | AA8: =($AC8-MOD($AC8,7))/7+IF(MOD($AC8,7)>6,1,0) -> 0 | AB8: =AC8 -> 0 | AC8: ='1. dönem e okul yapıştır'!D6 -> 0 | AD8: =($AL8-MOD($AL8,7))/7+IF(MOD($AL8,7)>0,1,0) -> 0 | AE8: =($AL8-MOD($AL8,7))/7+IF(MOD($AL8,7)>1,1,0) -> 0 | AF8: =($AL8-MOD($AL8,7))/7+IF(MOD($AL8,7)>2,1,0) -> 0 | AG8: =($AL8-MOD($AL8,7))/7+IF(MOD($AL8,7)>3,1,0) -> 0 | AH8: =($AL8-MOD($AL8,7))/7+IF(MOD($AL8,7)>4,1,0) -> 0 | AI8: =($AL8-MOD($AL8,7))/7+IF(MOD($AL8,7)>5,1,0) -> 0 | AJ8: =($AL8-MOD($AL8,7))/7+IF(MOD($AL8,7)>6,1,0) -> 0 | AK8: =SUM(AD8:AJ8) -> 0 | AL8: ='1. dönem e okul yapıştır'!E6 -> 0 | AM8: ='1. dönem e okul yapıştır'!F6 -> 0 | AN8: ='1. dönem e okul yapıştır'!G6 -> 0 | AO8: ='1. dönem e okul yapıştır'!J6 -> 0
A9: ='1. dönem e okul yapıştır'!A7 -> 4 | B9: ='1. dönem e okul yapıştır'!B7 -> 0 | C9: ='1. dönem e okul yapıştır'!C7 -> 0 | D9: =($J9-MOD($J9,5))/5+IF(MOD($J9,5)>0,1,0) -> 0 | E9: =($J9-MOD($J9,5))/5+IF(MOD($J9,5)>1,1,0) -> 0 | F9: =($J9-MOD($J9,5))/5+IF(MOD($J9,5)>2,1,0) -> 0 | G9: =($J9-MOD($J9,5))/5+IF(MOD($J9,5)>3,1,0) -> 0 | H9: =($J9-MOD($J9,5))/5+IF(MOD($J9,5)>4,1,0) -> 0 | I9: =J9 -> 0 | J9: ='1. dönem e okul yapıştır'!H7 -> 0 | K9: =($P9-MOD($P9,5))/5+IF(MOD($P9,5)>0,1,0) -> 0 | L9: =($P9-MOD($P9,5))/5+IF(MOD($P9,5)>1,1,0) -> 0 | M9: =($P9-MOD($P9,5))/5+IF(MOD($P9,5)>2,1,0) -> 0 | N9: =($P9-MOD($P9,5))/5+IF(MOD($P9,5)>3,1,0) -> 0 | O9: =($P9-MOD($P9,5))/5+IF(MOD($P9,5)>4,1,0) -> 0 | P9: =T9 -> 0 | Q9: =($S9-MOD($S9,2))/2+IF(MOD($S9,2)>0,1,0) -> 0 | R9: =($S9-MOD($S9,2))/2+IF(MOD($S9,2)>1,1,0) -> 0 | S9: =T9 -> 0 | T9: ='1. dönem e okul yapıştır'!I7 -> 0 | U9: =($AC9-MOD($AC9,7))/7+IF(MOD($AC9,7)>0,1,0) -> 0 | V9: =($AC9-MOD($AC9,7))/7+IF(MOD($AC9,7)>1,1,0) -> 0 | W9: =($AC9-MOD($AC9,7))/7+IF(MOD($AC9,7)>2,1,0) -> 0 | X9: =($AC9-MOD($AC9,7))/7+IF(MOD($AC9,7)>3,1,0) -> 0 | Y9: =($AC9-MOD($AC9,7))/7+IF(MOD($AC9,7)>4,1,0) -> 0 | Z9: =($AC9-MOD($AC9,7))/7+IF(MOD($AC9,7)>5,1,0) -> 0 | AA9: =($AC9-MOD($AC9,7))/7+IF(MOD($AC9,7)>6,1,0) -> 0 | AB9: =AC9 -> 0 | AC9: ='1. dönem e okul yapıştır'!D7 -> 0 | AD9: =($AL9-MOD($AL9,7))/7+IF(MOD($AL9,7)>0,1,0) -> 0 | AE9: =($AL9-MOD($AL9,7))/7+IF(MOD($AL9,7)>1,1,0) -> 0 | AF9: =($AL9-MOD($AL9,7))/7+IF(MOD($AL9,7)>2,1,0) -> 0 | AG9: =($AL9-MOD($AL9,7))/7+IF(MOD($AL9,7)>3,1,0) -> 0 | AH9: =($AL9-MOD($AL9,7))/7+IF(MOD($AL9,7)>4,1,0) -> 0 | AI9: =($AL9-MOD($AL9,7))/7+IF(MOD($AL9,7)>5,1,0) -> 0 | AJ9: =($AL9-MOD($AL9,7))/7+IF(MOD($AL9,7)>6,1,0) -> 0 | AK9: =SUM(AD9:AJ9) -> 0 | AL9: ='1. dönem e okul yapıştır'!E7 -> 0 | AM9: ='1. dönem e okul yapıştır'!F7 -> 0 | AN9: ='1. dönem e okul yapıştır'!G7 -> 0 | AO9: ='1. dönem e okul yapıştır'!J7 -> 0
A10: ='1. dönem e okul yapıştır'!A8 -> 5 | B10: ='1. dönem e okul yapıştır'!B8 -> 0 | C10: ='1. dönem e okul yapıştır'!C8 -> 0 | D10: =($J10-MOD($J10,5))/5+IF(MOD($J10,5)>0,1,0) -> 0 | E10: =($J10-MOD($J10,5))/5+IF(MOD($J10,5)>1,1,0) -> 0 | F10: =($J10-MOD($J10,5))/5+IF(MOD($J10,5)>2,1,0) -> 0 | G10: =($J10-MOD($J10,5))/5+IF(MOD($J10,5)>3,1,0) -> 0 | H10: =($J10-MOD($J10,5))/5+IF(MOD($J10,5)>4,1,0) -> 0 | I10: =J10 -> 0 | J10: ='1. dönem e okul yapıştır'!H8 -> 0 | K10: =($P10-MOD($P10,5))/5+IF(MOD($P10,5)>0,1,0) -> 0 | L10: =($P10-MOD($P10,5))/5+IF(MOD($P10,5)>1,1,0) -> 0 | M10: =($P10-MOD($P10,5))/5+IF(MOD($P10,5)>2,1,0) -> 0 | N10: =($P10-MOD($P10,5))/5+IF(MOD($P10,5)>3,1,0) -> 0 | O10: =($P10-MOD($P10,5))/5+IF(MOD($P10,5)>4,1,0) -> 0 | P10: =T10 -> 0 | Q10: =($S10-MOD($S10,2))/2+IF(MOD($S10,2)>0,1,0) -> 0 | R10: =($S10-MOD($S10,2))/2+IF(MOD($S10,2)>1,1,0) -> 0 | S10: =T10 -> 0 | T10: ='1. dönem e okul yapıştır'!I8 -> 0 | U10: =($AC10-MOD($AC10,7))/7+IF(MOD($AC10,7)>0,1,0) -> 0 | V10: =($AC10-MOD($AC10,7))/7+IF(MOD($AC10,7)>1,1,0) -> 0 | W10: =($AC10-MOD($AC10,7))/7+IF(MOD($AC10,7)>2,1,0) -> 0 | X10: =($AC10-MOD($AC10,7))/7+IF(MOD($AC10,7)>3,1,0) -> 0 | Y10: =($AC10-MOD($AC10,7))/7+IF(MOD($AC10,7)>4,1,0) -> 0 | Z10: =($AC10-MOD($AC10,7))/7+IF(MOD($AC10,7)>5,1,0) -> 0 | AA10: =($AC10-MOD($AC10,7))/7+IF(MOD($AC10,7)>6,1,0) -> 0 | AB10: =AC10 -> 0 | AC10: ='1. dönem e okul yapıştır'!D8 -> 0 | AD10: =($AL10-MOD($AL10,7))/7+IF(MOD($AL10,7)>0,1,0) -> 0 | AE10: =($AL10-MOD($AL10,7))/7+IF(MOD($AL10,7)>1,1,0) -> 0 | AF10: =($AL10-MOD($AL10,7))/7+IF(MOD($AL10,7)>2,1,0) -> 0 | AG10: =($AL10-MOD($AL10,7))/7+IF(MOD($AL10,7)>3,1,0) -> 0 | AH10: =($AL10-MOD($AL10,7))/7+IF(MOD($AL10,7)>4,1,0) -> 0 | AI10: =($AL10-MOD($AL10,7))/7+IF(MOD($AL10,7)>5,1,0) -> 0 | AJ10: =($AL10-MOD($AL10,7))/7+IF(MOD($AL10,7)>6,1,0) -> 0 | AK10: =SUM(AD10:AJ10) -> 0 | AL10: ='1. dönem e okul yapıştır'!E8 -> 0 | AM10: ='1. dönem e okul yapıştır'!F8 -> 0 | AN10: ='1. dönem e okul yapıştır'!G8 -> 0 | AO10: ='1. dönem e okul yapıştır'!J8 -> 0
A11: ='1. dönem e okul yapıştır'!A9 -> 6 | B11: ='1. dönem e okul yapıştır'!B9 -> 0 | C11: ='1. dönem e okul yapıştır'!C9 -> 0 | D11: =($J11-MOD($J11,5))/5+IF(MOD($J11,5)>0,1,0) -> 0 | E11: =($J11-MOD($J11,5))/5+IF(MOD($J11,5)>1,1,0) -> 0 | F11: =($J11-MOD($J11,5))/5+IF(MOD($J11,5)>2,1,0) -> 0 | G11: =($J11-MOD($J11,5))/5+IF(MOD($J11,5)>3,1,0) -> 0 | H11: =($J11-MOD($J11,5))/5+IF(MOD($J11,5)>4,1,0) -> 0 | I11: =J11 -> 0 | J11: ='1. dönem e okul yapıştır'!H9 -> 0 | K11: =($P11-MOD($P11,5))/5+IF(MOD($P11,5)>0,1,0) -> 0 | L11: =($P11-MOD($P11,5))/5+IF(MOD($P11,5)>1,1,0) -> 0 | M11: =($P11-MOD($P11,5))/5+IF(MOD($P11,5)>2,1,0) -> 0 | N11: =($P11-MOD($P11,5))/5+IF(MOD($P11,5)>3,1,0) -> 0 | O11: =($P11-MOD($P11,5))/5+IF(MOD($P11,5)>4,1,0) -> 0 | P11: =T11 -> 0 | Q11: =($S11-MOD($S11,2))/2+IF(MOD($S11,2)>0,1,0) -> 0 | R11: =($S11-MOD($S11,2))/2+IF(MOD($S11,2)>1,1,0) -> 0 | S11: =T11 -> 0 | T11: ='1. dönem e okul yapıştır'!I9 -> 0 | U11: =($AC11-MOD($AC11,7))/7+IF(MOD($AC11,7)>0,1,0) -> 0 | V11: =($AC11-MOD($AC11,7))/7+IF(MOD($AC11,7)>1,1,0) -> 0 | W11: =($AC11-MOD($AC11,7))/7+IF(MOD($AC11,7)>2,1,0) -> 0 | X11: =($AC11-MOD($AC11,7))/7+IF(MOD($AC11,7)>3,1,0) -> 0 | Y11: =($AC11-MOD($AC11,7))/7+IF(MOD($AC11,7)>4,1,0) -> 0 | Z11: =($AC11-MOD($AC11,7))/7+IF(MOD($AC11,7)>5,1,0) -> 0 | AA11: =($AC11-MOD($AC11,7))/7+IF(MOD($AC11,7)>6,1,0) -> 0 | AB11: =AC11 -> 0 | AC11: ='1. dönem e okul yapıştır'!D9 -> 0 | AD11: =($AL11-MOD($AL11,7))/7+IF(MOD($AL11,7)>0,1,0) -> 0 | AE11: =($AL11-MOD($AL11,7))/7+IF(MOD($AL11,7)>1,1,0) -> 0 | AF11: =($AL11-MOD($AL11,7))/7+IF(MOD($AL11,7)>2,1,0) -> 0 | AG11: =($AL11-MOD($AL11,7))/7+IF(MOD($AL11,7)>3,1,0) -> 0 | AH11: =($AL11-MOD($AL11,7))/7+IF(MOD($AL11,7)>4,1,0) -> 0 | AI11: =($AL11-MOD($AL11,7))/7+IF(MOD($AL11,7)>5,1,0) -> 0 | AJ11: =($AL11-MOD($AL11,7))/7+IF(MOD($AL11,7)>6,1,0) -> 0 | AK11: =SUM(AD11:AJ11) -> 0 | AL11: ='1. dönem e okul yapıştır'!E9 -> 0 | AM11: ='1. dönem e okul yapıştır'!F9 -> 0 | AN11: ='1. dönem e okul yapıştır'!G9 -> 0 | AO11: ='1. dönem e okul yapıştır'!J9 -> 0
A12: ='1. dönem e okul yapıştır'!A10 -> 7 | B12: ='1. dönem e okul yapıştır'!B10 -> 0 | C12: ='1. dönem e okul yapıştır'!C10 -> 0 | D12: =($J12-MOD($J12,5))/5+IF(MOD($J12,5)>0,1,0) -> 0 | E12: =($J12-MOD($J12,5))/5+IF(MOD($J12,5)>1,1,0) -> 0 | F12: =($J12-MOD($J12,5))/5+IF(MOD($J12,5)>2,1,0) -> 0 | G12: =($J12-MOD($J12,5))/5+IF(MOD($J12,5)>3,1,0) -> 0 | H12: =($J12-MOD($J12,5))/5+IF(MOD($J12,5)>4,1,0) -> 0 | I12: =J12 -> 0 | J12: ='1. dönem e okul yapıştır'!H10 -> 0 | K12: =($P12-MOD($P12,5))/5+IF(MOD($P12,5)>0,1,0) -> 0 | L12: =($P12-MOD($P12,5))/5+IF(MOD($P12,5)>1,1,0) -> 0 | M12: =($P12-MOD($P12,5))/5+IF(MOD($P12,5)>2,1,0) -> 0 | N12: =($P12-MOD($P12,5))/5+IF(MOD($P12,5)>3,1,0) -> 0 | O12: =($P12-MOD($P12,5))/5+IF(MOD($P12,5)>4,1,0) -> 0 | P12: =T12 -> 0 | Q12: =($S12-MOD($S12,2))/2+IF(MOD($S12,2)>0,1,0) -> 0 | R12: =($S12-MOD($S12,2))/2+IF(MOD($S12,2)>1,1,0) -> 0 | S12: =T12 -> 0 | T12: ='1. dönem e okul yapıştır'!I10 -> 0 | U12: =($AC12-MOD($AC12,7))/7+IF(MOD($AC12,7)>0,1,0) -> 0 | V12: =($AC12-MOD($AC12,7))/7+IF(MOD($AC12,7)>1,1,0) -> 0 | W12: =($AC12-MOD($AC12,7))/7+IF(MOD($AC12,7)>2,1,0) -> 0 | X12: =($AC12-MOD($AC12,7))/7+IF(MOD($AC12,7)>3,1,0) -> 0 | Y12: =($AC12-MOD($AC12,7))/7+IF(MOD($AC12,7)>4,1,0) -> 0 | Z12: =($AC12-MOD($AC12,7))/7+IF(MOD($AC12,7)>5,1,0) -> 0 | AA12: =($AC12-MOD($AC12,7))/7+IF(MOD($AC12,7)>6,1,0) -> 0 | AB12: =AC12 -> 0 | AC12: ='1. dönem e okul yapıştır'!D10 -> 0 | AD12: =($AL12-MOD($AL12,7))/7+IF(MOD($AL12,7)>0,1,0) -> 0 | AE12: =($AL12-MOD($AL12,7))/7+IF(MOD($AL12,7)>1,1,0) -> 0 | AF12: =($AL12-MOD($AL12,7))/7+IF(MOD($AL12,7)>2,1,0) -> 0 | AG12: =($AL12-MOD($AL12,7))/7+IF(MOD($AL12,7)>3,1,0) -> 0 | AH12: =($AL12-MOD($AL12,7))/7+IF(MOD($AL12,7)>4,1,0) -> 0 | AI12: =($AL12-MOD($AL12,7))/7+IF(MOD($AL12,7)>5,1,0) -> 0 | AJ12: =($AL12-MOD($AL12,7))/7+IF(MOD($AL12,7)>6,1,0) -> 0 | AK12: =SUM(AD12:AJ12) -> 0 | AL12: ='1. dönem e okul yapıştır'!E10 -> 0 | AM12: ='1. dönem e okul yapıştır'!F10 -> 0 | AN12: ='1. dönem e okul yapıştır'!G10 -> 0 | AO12: ='1. dönem e okul yapıştır'!J10 -> 0
A13: ='1. dönem e okul yapıştır'!A11 -> 8 | B13: ='1. dönem e okul yapıştır'!B11 -> 0 | C13: ='1. dönem e okul yapıştır'!C11 -> 0 | D13: =($J13-MOD($J13,5))/5+IF(MOD($J13,5)>0,1,0) -> 0 | E13: =($J13-MOD($J13,5))/5+IF(MOD($J13,5)>1,1,0) -> 0 | F13: =($J13-MOD($J13,5))/5+IF(MOD($J13,5)>2,1,0) -> 0 | G13: =($J13-MOD($J13,5))/5+IF(MOD($J13,5)>3,1,0) -> 0 | H13: =($J13-MOD($J13,5))/5+IF(MOD($J13,5)>4,1,0) -> 0 | I13: =J13 -> 0 | J13: ='1. dönem e okul yapıştır'!H11 -> 0 | K13: =($P13-MOD($P13,5))/5+IF(MOD($P13,5)>0,1,0) -> 0 | L13: =($P13-MOD($P13,5))/5+IF(MOD($P13,5)>1,1,0) -> 0 | M13: =($P13-MOD($P13,5))/5+IF(MOD($P13,5)>2,1,0) -> 0 | N13: =($P13-MOD($P13,5))/5+IF(MOD($P13,5)>3,1,0) -> 0 | O13: =($P13-MOD($P13,5))/5+IF(MOD($P13,5)>4,1,0) -> 0 | P13: =T13 -> 0 | Q13: =($S13-MOD($S13,2))/2+IF(MOD($S13,2)>0,1,0) -> 0 | R13: =($S13-MOD($S13,2))/2+IF(MOD($S13,2)>1,1,0) -> 0 | S13: =T13 -> 0 | T13: ='1. dönem e okul yapıştır'!I11 -> 0 | U13: =($AC13-MOD($AC13,7))/7+IF(MOD($AC13,7)>0,1,0) -> 0 | V13: =($AC13-MOD($AC13,7))/7+IF(MOD($AC13,7)>1,1,0) -> 0 | W13: =($AC13-MOD($AC13,7))/7+IF(MOD($AC13,7)>2,1,0) -> 0 | X13: =($AC13-MOD($AC13,7))/7+IF(MOD($AC13,7)>3,1,0) -> 0 | Y13: =($AC13-MOD($AC13,7))/7+IF(MOD($AC13,7)>4,1,0) -> 0 | Z13: =($AC13-MOD($AC13,7))/7+IF(MOD($AC13,7)>5,1,0) -> 0 | AA13: =($AC13-MOD($AC13,7))/7+IF(MOD($AC13,7)>6,1,0) -> 0 | AB13: =AC13 -> 0 | AC13: ='1. dönem e okul yapıştır'!D11 -> 0 | AD13: =($AL13-MOD($AL13,7))/7+IF(MOD($AL13,7)>0,1,0) -> 0 | AE13: =($AL13-MOD($AL13,7))/7+IF(MOD($AL13,7)>1,1,0) -> 0 | AF13: =($AL13-MOD($AL13,7))/7+IF(MOD($AL13,7)>2,1,0) -> 0 | AG13: =($AL13-MOD($AL13,7))/7+IF(MOD($AL13,7)>3,1,0) -> 0 | AH13: =($AL13-MOD($AL13,7))/7+IF(MOD($AL13,7)>4,1,0) -> 0 | AI13: =($AL13-MOD($AL13,7))/7+IF(MOD($AL13,7)>5,1,0) -> 0 | AJ13: =($AL13-MOD($AL13,7))/7+IF(MOD($AL13,7)>6,1,0) -> 0 | AK13: =SUM(AD13:AJ13) -> 0 | AL13: ='1. dönem e okul yapıştır'!E11 -> 0 | AM13: ='1. dönem e okul yapıştır'!F11 -> 0 | AN13: ='1. dönem e okul yapıştır'!G11 -> 0 | AO13: ='1. dönem e okul yapıştır'!J11 -> 0
A14: ='1. dönem e okul yapıştır'!A12 -> 9 | B14: ='1. dönem e okul yapıştır'!B12 -> 0 | C14: ='1. dönem e okul yapıştır'!C12 -> 0 | D14: =($J14-MOD($J14,5))/5+IF(MOD($J14,5)>0,1,0) -> 0 | E14: =($J14-MOD($J14,5))/5+IF(MOD($J14,5)>1,1,0) -> 0 | F14: =($J14-MOD($J14,5))/5+IF(MOD($J14,5)>2,1,0) -> 0 | G14: =($J14-MOD($J14,5))/5+IF(MOD($J14,5)>3,1,0) -> 0 | H14: =($J14-MOD($J14,5))/5+IF(MOD($J14,5)>4,1,0) -> 0 | I14: =J14 -> 0 | J14: ='1. dönem e okul yapıştır'!H12 -> 0 | K14: =($P14-MOD($P14,5))/5+IF(MOD($P14,5)>0,1,0) -> 0 | L14: =($P14-MOD($P14,5))/5+IF(MOD($P14,5)>1,1,0) -> 0 | M14: =($P14-MOD($P14,5))/5+IF(MOD($P14,5)>2,1,0) -> 0 | N14: =($P14-MOD($P14,5))/5+IF(MOD($P14,5)>3,1,0) -> 0 | O14: =($P14-MOD($P14,5))/5+IF(MOD($P14,5)>4,1,0) -> 0 | P14: =T14 -> 0 | Q14: =($S14-MOD($S14,2))/2+IF(MOD($S14,2)>0,1,0) -> 0 | R14: =($S14-MOD($S14,2))/2+IF(MOD($S14,2)>1,1,0) -> 0 | S14: =T14 -> 0 | T14: ='1. dönem e okul yapıştır'!I12 -> 0 | U14: =($AC14-MOD($AC14,7))/7+IF(MOD($AC14,7)>0,1,0) -> 0 | V14: =($AC14-MOD($AC14,7))/7+IF(MOD($AC14,7)>1,1,0) -> 0 | W14: =($AC14-MOD($AC14,7))/7+IF(MOD($AC14,7)>2,1,0) -> 0 | X14: =($AC14-MOD($AC14,7))/7+IF(MOD($AC14,7)>3,1,0) -> 0 | Y14: =($AC14-MOD($AC14,7))/7+IF(MOD($AC14,7)>4,1,0) -> 0 | Z14: =($AC14-MOD($AC14,7))/7+IF(MOD($AC14,7)>5,1,0) -> 0 | AA14: =($AC14-MOD($AC14,7))/7+IF(MOD($AC14,7)>6,1,0) -> 0 | AB14: =AC14 -> 0 | AC14: ='1. dönem e okul yapıştır'!D12 -> 0 | AD14: =($AL14-MOD($AL14,7))/7+IF(MOD($AL14,7)>0,1,0) -> 0 | AE14: =($AL14-MOD($AL14,7))/7+IF(MOD($AL14,7)>1,1,0) -> 0 | AF14: =($AL14-MOD($AL14,7))/7+IF(MOD($AL14,7)>2,1,0) -> 0 | AG14: =($AL14-MOD($AL14,7))/7+IF(MOD($AL14,7)>3,1,0) -> 0 | AH14: =($AL14-MOD($AL14,7))/7+IF(MOD($AL14,7)>4,1,0) -> 0 | AI14: =($AL14-MOD($AL14,7))/7+IF(MOD($AL14,7)>5,1,0) -> 0 | AJ14: =($AL14-MOD($AL14,7))/7+IF(MOD($AL14,7)>6,1,0) -> 0 | AK14: =SUM(AD14:AJ14) -> 0 | AL14: ='1. dönem e okul yapıştır'!E12 -> 0 | AM14: ='1. dönem e okul yapıştır'!F12 -> 0 | AN14: ='1. dönem e okul yapıştır'!G12 -> 0 | AO14: ='1. dönem e okul yapıştır'!J12 -> 0
A15: ='1. dönem e okul yapıştır'!A13 -> 10 | B15: ='1. dönem e okul yapıştır'!B13 -> 0 | C15: ='1. dönem e okul yapıştır'!C13 -> 0 | D15: =($J15-MOD($J15,5))/5+IF(MOD($J15,5)>0,1,0) -> 0 | E15: =($J15-MOD($J15,5))/5+IF(MOD($J15,5)>1,1,0) -> 0 | F15: =($J15-MOD($J15,5))/5+IF(MOD($J15,5)>2,1,0) -> 0 | G15: =($J15-MOD($J15,5))/5+IF(MOD($J15,5)>3,1,0) -> 0 | H15: =($J15-MOD($J15,5))/5+IF(MOD($J15,5)>4,1,0) -> 0 | I15: =J15 -> 0 | J15: ='1. dönem e okul yapıştır'!H13 -> 0 | K15: =($P15-MOD($P15,5))/5+IF(MOD($P15,5)>0,1,0) -> 0 | L15: =($P15-MOD($P15,5))/5+IF(MOD($P15,5)>1,1,0) -> 0 | M15: =($P15-MOD($P15,5))/5+IF(MOD($P15,5)>2,1,0) -> 0 | N15: =($P15-MOD($P15,5))/5+IF(MOD($P15,5)>3,1,0) -> 0 | O15: =($P15-MOD($P15,5))/5+IF(MOD($P15,5)>4,1,0) -> 0 | P15: =T15 -> 0 | Q15: =($S15-MOD($S15,2))/2+IF(MOD($S15,2)>0,1,0) -> 0 | R15: =($S15-MOD($S15,2))/2+IF(MOD($S15,2)>1,1,0) -> 0 | S15: =T15 -> 0 | T15: ='1. dönem e okul yapıştır'!I13 -> 0 | U15: =($AC15-MOD($AC15,7))/7+IF(MOD($AC15,7)>0,1,0) -> 0 | V15: =($AC15-MOD($AC15,7))/7+IF(MOD($AC15,7)>1,1,0) -> 0 | W15: =($AC15-MOD($AC15,7))/7+IF(MOD($AC15,7)>2,1,0) -> 0 | X15: =($AC15-MOD($AC15,7))/7+IF(MOD($AC15,7)>3,1,0) -> 0 | Y15: =($AC15-MOD($AC15,7))/7+IF(MOD($AC15,7)>4,1,0) -> 0 | Z15: =($AC15-MOD($AC15,7))/7+IF(MOD($AC15,7)>5,1,0) -> 0 | AA15: =($AC15-MOD($AC15,7))/7+IF(MOD($AC15,7)>6,1,0) -> 0 | AB15: =AC15 -> 0 | AC15: ='1. dönem e okul yapıştır'!D13 -> 0 | AD15: =($AL15-MOD($AL15,7))/7+IF(MOD($AL15,7)>0,1,0) -> 0 | AE15: =($AL15-MOD($AL15,7))/7+IF(MOD($AL15,7)>1,1,0) -> 0 | AF15: =($AL15-MOD($AL15,7))/7+IF(MOD($AL15,7)>2,1,0) -> 0 | AG15: =($AL15-MOD($AL15,7))/7+IF(MOD($AL15,7)>3,1,0) -> 0 | AH15: =($AL15-MOD($AL15,7))/7+IF(MOD($AL15,7)>4,1,0) -> 0 | AI15: =($AL15-MOD($AL15,7))/7+IF(MOD($AL15,7)>5,1,0) -> 0 | AJ15: =($AL15-MOD($AL15,7))/7+IF(MOD($AL15,7)>6,1,0) -> 0 | AK15: =SUM(AD15:AJ15) -> 0 | AL15: ='1. dönem e okul yapıştır'!E13 -> 0 | AM15: ='1. dönem e okul yapıştır'!F13 -> 0 | AN15: ='1. dönem e okul yapıştır'!G13 -> 0 | AO15: ='1. dönem e okul yapıştır'!J13 -> 0
A16: ='1. dönem e okul yapıştır'!A14 -> 11 | B16: ='1. dönem e okul yapıştır'!B14 -> 0 | C16: ='1. dönem e okul yapıştır'!C14 -> 0 | D16: =($J16-MOD($J16,5))/5+IF(MOD($J16,5)>0,1,0) -> 0 | E16: =($J16-MOD($J16,5))/5+IF(MOD($J16,5)>1,1,0) -> 0 | F16: =($J16-MOD($J16,5))/5+IF(MOD($J16,5)>2,1,0) -> 0 | G16: =($J16-MOD($J16,5))/5+IF(MOD($J16,5)>3,1,0) -> 0 | H16: =($J16-MOD($J16,5))/5+IF(MOD($J16,5)>4,1,0) -> 0 | I16: =J16 -> 0 | J16: ='1. dönem e okul yapıştır'!H14 -> 0 | K16: =($P16-MOD($P16,5))/5+IF(MOD($P16,5)>0,1,0) -> 0 | L16: =($P16-MOD($P16,5))/5+IF(MOD($P16,5)>1,1,0) -> 0 | M16: =($P16-MOD($P16,5))/5+IF(MOD($P16,5)>2,1,0) -> 0 | N16: =($P16-MOD($P16,5))/5+IF(MOD($P16,5)>3,1,0) -> 0 | O16: =($P16-MOD($P16,5))/5+IF(MOD($P16,5)>4,1,0) -> 0 | P16: =T16 -> 0 | Q16: =($S16-MOD($S16,2))/2+IF(MOD($S16,2)>0,1,0) -> 0 | R16: =($S16-MOD($S16,2))/2+IF(MOD($S16,2)>1,1,0) -> 0 | S16: =T16 -> 0 | T16: ='1. dönem e okul yapıştır'!I14 -> 0 | U16: =($AC16-MOD($AC16,7))/7+IF(MOD($AC16,7)>0,1,0) -> 0 | V16: =($AC16-MOD($AC16,7))/7+IF(MOD($AC16,7)>1,1,0) -> 0 | W16: =($AC16-MOD($AC16,7))/7+IF(MOD($AC16,7)>2,1,0) -> 0 | X16: =($AC16-MOD($AC16,7))/7+IF(MOD($AC16,7)>3,1,0) -> 0 | Y16: =($AC16-MOD($AC16,7))/7+IF(MOD($AC16,7)>4,1,0) -> 0 | Z16: =($AC16-MOD($AC16,7))/7+IF(MOD($AC16,7)>5,1,0) -> 0 | AA16: =($AC16-MOD($AC16,7))/7+IF(MOD($AC16,7)>6,1,0) -> 0 | AB16: =AC16 -> 0 | AC16: ='1. dönem e okul yapıştır'!D14 -> 0 | AD16: =($AL16-MOD($AL16,7))/7+IF(MOD($AL16,7)>0,1,0) -> 0 | AE16: =($AL16-MOD($AL16,7))/7+IF(MOD($AL16,7)>1,1,0) -> 0 | AF16: =($AL16-MOD($AL16,7))/7+IF(MOD($AL16,7)>2,1,0) -> 0 | AG16: =($AL16-MOD($AL16,7))/7+IF(MOD($AL16,7)>3,1,0) -> 0 | AH16: =($AL16-MOD($AL16,7))/7+IF(MOD($AL16,7)>4,1,0) -> 0 | AI16: =($AL16-MOD($AL16,7))/7+IF(MOD($AL16,7)>5,1,0) -> 0 | AJ16: =($AL16-MOD($AL16,7))/7+IF(MOD($AL16,7)>6,1,0) -> 0 | AK16: =SUM(AD16:AJ16) -> 0 | AL16: ='1. dönem e okul yapıştır'!E14 -> 0 | AM16: ='1. dönem e okul yapıştır'!F14 -> 0 | AN16: ='1. dönem e okul yapıştır'!G14 -> 0 | AO16: ='1. dönem e okul yapıştır'!J14 -> 0
A17: ='1. dönem e okul yapıştır'!A15 -> 12 | B17: ='1. dönem e okul yapıştır'!B15 -> 0 | C17: ='1. dönem e okul yapıştır'!C15 -> 0 | D17: =($J17-MOD($J17,5))/5+IF(MOD($J17,5)>0,1,0) -> 0 | E17: =($J17-MOD($J17,5))/5+IF(MOD($J17,5)>1,1,0) -> 0 | F17: =($J17-MOD($J17,5))/5+IF(MOD($J17,5)>2,1,0) -> 0 | G17: =($J17-MOD($J17,5))/5+IF(MOD($J17,5)>3,1,0) -> 0 | H17: =($J17-MOD($J17,5))/5+IF(MOD($J17,5)>4,1,0) -> 0 | I17: =J17 -> 0 | J17: ='1. dönem e okul yapıştır'!H15 -> 0 | K17: =($P17-MOD($P17,5))/5+IF(MOD($P17,5)>0,1,0) -> 0 | L17: =($P17-MOD($P17,5))/5+IF(MOD($P17,5)>1,1,0) -> 0 | M17: =($P17-MOD($P17,5))/5+IF(MOD($P17,5)>2,1,0) -> 0 | N17: =($P17-MOD($P17,5))/5+IF(MOD($P17,5)>3,1,0) -> 0 | O17: =($P17-MOD($P17,5))/5+IF(MOD($P17,5)>4,1,0) -> 0 | P17: =T17 -> 0 | Q17: =($S17-MOD($S17,2))/2+IF(MOD($S17,2)>0,1,0) -> 0 | R17: =($S17-MOD($S17,2))/2+IF(MOD($S17,2)>1,1,0) -> 0 | S17: =T17 -> 0 | T17: ='1. dönem e okul yapıştır'!I15 -> 0 | U17: =($AC17-MOD($AC17,7))/7+IF(MOD($AC17,7)>0,1,0) -> 0 | V17: =($AC17-MOD($AC17,7))/7+IF(MOD($AC17,7)>1,1,0) -> 0 | W17: =($AC17-MOD($AC17,7))/7+IF(MOD($AC17,7)>2,1,0) -> 0 | X17: =($AC17-MOD($AC17,7))/7+IF(MOD($AC17,7)>3,1,0) -> 0 | Y17: =($AC17-MOD($AC17,7))/7+IF(MOD($AC17,7)>4,1,0) -> 0 | Z17: =($AC17-MOD($AC17,7))/7+IF(MOD($AC17,7)>5,1,0) -> 0 | AA17: =($AC17-MOD($AC17,7))/7+IF(MOD($AC17,7)>6,1,0) -> 0 | AB17: =AC17 -> 0 | AC17: ='1. dönem e okul yapıştır'!D15 -> 0 | AD17: =($AL17-MOD($AL17,7))/7+IF(MOD($AL17,7)>0,1,0) -> 0 | AE17: =($AL17-MOD($AL17,7))/7+IF(MOD($AL17,7)>1,1,0) -> 0 | AF17: =($AL17-MOD($AL17,7))/7+IF(MOD($AL17,7)>2,1,0) -> 0 | AG17: =($AL17-MOD($AL17,7))/7+IF(MOD($AL17,7)>3,1,0) -> 0 | AH17: =($AL17-MOD($AL17,7))/7+IF(MOD($AL17,7)>4,1,0) -> 0 | AI17: =($AL17-MOD($AL17,7))/7+IF(MOD($AL17,7)>5,1,0) -> 0 | AJ17: =($AL17-MOD($AL17,7))/7+IF(MOD($AL17,7)>6,1,0) -> 0 | AK17: =SUM(AD17:AJ17) -> 0 | AL17: ='1. dönem e okul yapıştır'!E15 -> 0 | AM17: ='1. dönem e okul yapıştır'!F15 -> 0 | AN17: ='1. dönem e okul yapıştır'!G15 -> 0 | AO17: ='1. dönem e okul yapıştır'!J15 -> 0
... A35: ='1. dönem e okul yapıştır'!A33 -> 30 | B35: ='1. dönem e okul yapıştır'!B33 -> 0 | C35: ='1. dönem e okul yapıştır'!C33 -> 0 | D35: =($J35-MOD($J35,5))/5+IF(MOD($J35,5)>0,1,0) -> 0 | E35: =($J35-MOD($J35,5))/5+IF(MOD($J35,5)>1,1,0) -> 0 | F35: =($J35-MOD($J35,5))/5+IF(MOD($J35,5)>2,1,0) -> 0 | G35: =($J35-MOD($J35,5))/5+IF(MOD($J35,5)>3,1,0) -> 0 | H35: =($J35-MOD($J35,5))/5+IF(MOD($J35,5)>4,1,0) -> 0 | I35: =J35 -> 0 | J35: ='1. dönem e okul yapıştır'!H33 -> 0 | K35: =($P35-MOD($P35,5))/5+IF(MOD($P35,5)>0,1,0) -> 0 | L35: =($P35-MOD($P35,5))/5+IF(MOD($P35,5)>1,1,0) -> 0 | M35: =($P35-MOD($P35,5))/5+IF(MOD($P35,5)>2,1,0) -> 0 | N35: =($P35-MOD($P35,5))/5+IF(MOD($P35,5)>3,1,0) -> 0 | O35: =($P35-MOD($P35,5))/5+IF(MOD($P35,5)>4,1,0) -> 0 | P35: =T35 -> 0 | Q35: =($S35-MOD($S35,2))/2+IF(MOD($S35,2)>0,1,0) -> 0 | R35: =($S35-MOD($S35,2))/2+IF(MOD($S35,2)>1,1,0) -> 0 | S35: =T35 -> 0 | T35: ='1. dönem e okul yapıştır'!I33 -> 0 | U35: =($AC35-MOD($AC35,7))/7+IF(MOD($AC35,7)>0,1,0) -> 0 | V35: =($AC35-MOD($AC35,7))/7+IF(MOD($AC35,7)>1,1,0) -> 0 | W35: =($AC35-MOD($AC35,7))/7+IF(MOD($AC35,7)>2,1,0) -> 0 | X35: =($AC35-MOD($AC35,7))/7+IF(MOD($AC35,7)>3,1,0) -> 0 | Y35: =($AC35-MOD($AC35,7))/7+IF(MOD($AC35,7)>4,1,0) -> 0 | Z35: =($AC35-MOD($AC35,7))/7+IF(MOD($AC35,7)>5,1,0) -> 0 | AA35: =($AC35-MOD($AC35,7))/7+IF(MOD($AC35,7)>6,1,0) -> 0 | AB35: =AC35 -> 0 | AC35: ='1. dönem e okul yapıştır'!D33 -> 0 | AD35: =($AL35-MOD($AL35,7))/7+IF(MOD($AL35,7)>0,1,0) -> 0 | AE35: =($AL35-MOD($AL35,7))/7+IF(MOD($AL35,7)>1,1,0) -> 0 | AF35: =($AL35-MOD($AL35,7))/7+IF(MOD($AL35,7)>2,1,0) -> 0 | AG35: =($AL35-MOD($AL35,7))/7+IF(MOD($AL35,7)>3,1,0) -> 0 | AH35: =($AL35-MOD($AL35,7))/7+IF(MOD($AL35,7)>4,1,0) -> 0 | AI35: =($AL35-MOD($AL35,7))/7+IF(MOD($AL35,7)>5,1,0) -> 0 | AJ35: =($AL35-MOD($AL35,7))/7+IF(MOD($AL35,7)>6,1,0) -> 0 | AK35: =SUM(AD35:AJ35) -> 0 | AL35: ='1. dönem e okul yapıştır'!E33 -> 0 | AM35: ='1. dönem e okul yapıştır'!F33 -> 0 | AN35: ='1. dönem e okul yapıştır'!G33 -> 0 | AO35: ='1. dönem e okul yapıştır'!J33 -> 0
AD38: ='1. dönem e okul yapıştır'!D35 -> Hasan YILDIZ
AD39: ='1. dönem e okul yapıştır'!D36 -> Teknoloji ve Tasarım Öğretmeni

Sheet 2. dönem e okul yapıştır
A1: OKUL ADI | C1: ='1. dönem e okul yapıştır'!C1:J1 -> …………………………………………………………………………………………... ORTAOKULU
A2: SINIFI | C2: ='1. dönem e okul yapıştır'!C2:J2 -> 8/A | L2: Bu sayfaya bilgiler elle veya e-okuldan kopyala - özel yapıştır seçeneklerinden (Değer) ile girilebilir. Bu bilgiler otomatik olarak 2. dönem sayfasına aktarılır, verdiğiniz notlar 2. Dönem çizelgesinde otomatik dağıtılır ve ortalaması hesaplanır. Öğrencilerin Numaraları ve isimlerini, notlarını (2 Ürün +1 Yazılı + 2 Ders Etk), giriniz. Ortaokulun ismini, Sınıfı - Öğretmen ismini 1. dönem çizelgesinden otomatik alınır.
A3: SIRA | B3: Okul No | C3: Adı Soyadı | D3: 1. ÜRÜN DEĞ. | E3: 2. ÜRÜN DEĞ. | F3: 1. Sınav (ÜRÜN ORT) | G3: 2. Sınav Yazılı | H3: 1. Ders Etk. Kat. | I3: 2. Ders Etk. Kat. | J3: 2.Dönem Notu
A4: 1 | B4: 175 | C4: Arda YİĞİT | D4: 85 | E4: 100 | F4: =(D4+E4)/2 -> 92.5 | G4: 95 | H4: 90 | I4: 95 | J4: =((F4+G4+(H4+I4)/2)/3) -> 93.333333
A5: 2 | B5: 7852 | C5: Melih Tunç | D5: 100 | E5: 100 | F5: =(D5+E5)/2 -> 100 | G5: 100 | H5: 100 | I5: 100 | J5: =((F5+G5+(H5+I5)/2)/3) -> 100
A6: 3 | F6: =(D6+E6)/2 -> 0 | J6: =((F6+G6+(H6+I6)/2)/3) -> 0
A7: 4 | F7: =(D7+E7)/2 -> 0 | J7: =((F7+G7+(H7+I7)/2)/3) -> 0
A8: 5 | F8: =(D8+E8)/2 -> 0 | J8: =((F8+G8+(H8+I8)/2)/3) -> 0
A9: 6 | F9: =(D9+E9)/2 -> 0 | J9: =((F9+G9+(H9+I9)/2)/3) -> 0
A10: 7 | F10: =(D10+E10)/2 -> 0 | J10: =((F10+G10+(H10+I10)/2)/3) -> 0
A11: 8 | F11: =(D11+E11)/2 -> 0 | J11: =((F11+G11+(H11+I11)/2)/3) -> 0
A12: 9 | F12: =(D12+E12)/2 -> 0 | J12: =((F12+G12+(H12+I12)/2)/3) -> 0
A13: 10 | F13: =(D13+E13)/2 -> 0 | J13: =((F13+G13+(H13+I13)/2)/3) -> 0
A14: 11 | F14: =(D14+E14)/2 -> 0 | J14: =((F14+G14+(H14+I14)/2)/3) -> 0
A15: 12 | F15: =(D15+E15)/2 -> 0 | J15: =((F15+G15+(H15+I15)/2)/3) -> 0
A16: 13 | F16: =(D16+E16)/2 -> 0 | J16: =((F16+G16+(H16+I16)/2)/3) -> 0
A17: 14 | F17: =(D17+E17)/2 -> 0 | J17: =((F17+G17+(H17+I17)/2)/3) -> 0
... A33: 30 | F33: =(D33+E33)/2 -> 0 | J33: =((F33+G33+(H33+I33)/2)/3) -> 0
A35: Öğretmen adı: | D35: ='1. dönem e okul yapıştır'!D35 -> Hasan YILDIZ
A36: Branşı: | D36: ='1. dönem e okul yapıştır'!D36 -> Teknoloji ve Tasarım Öğretmeni

Sheet 2. dönem
A1: ='2. dönem e okul yapıştır'!C1 -> …………………………………………………………………………………………... ORTAOKULU
A2: ='2. dönem e okul yapıştır'!C2 -> 8/A | K2: SINIFI TEKNOLOJİ VE TASARIM DERSİ 2. DÖNEM DEĞERLENDİRME ÖLÇEĞİ
A3: SIRA | B3: NO | C3: 2026-2027 Eğitim Öğretim Yılı ADI SOYADI | D3: 1.DÖNEM NOTU | E3: 1. Ergonomi kavramını ifade eder. | F3: 2. Ürün tasarımında ergonominin önemini açıklar. | G3: 3. Bir ürünün günlük hayattaki kullanımını analiz eder. | H3: 4. Ergonomi kavramını dikkate alarak bir ürün tasarlar. | I3: C. 2. Ürün Geliştirme (4 x 25 puan) | J3: DERSE KATILIM VE ETKİNLİK NOTU 1 | K3: 1. Mühendislik ve tasarım ilişkisini ifade eder. | L3: 2. Çevresindeki ürünleri mühendislik ve tasarım kavramları açısından ilişkilendirir. | M3: 3. Mühendislik tasarım sürecindeki sınırlılıkları değerlendirir. | N3: 4. Mühendislik tasarım sürecini kullanarak bir ürün tasarlar. | O3: C. 3. Mühendislik ve Tasarım (4 x 25 puan) | P3: ÜRÜN DEĞERLENDİRME 1 | Q3: 1. Biyotaklit kavramını açıklar. | R3: 2. Biyotaklit ile tasarlanmış bir ürünü analiz eder. | S3: 3. Gündelik hayatında var olan bir sorunun çözümünde biyotaklit kavramını kullanarak ürün tasarlar. | T3: C. 4. Doğadan Tasarıma (3 x 17 puan) | U3: 1. Ulaşım araçlarının tasarımında dikkate alınan temel prensipleri açıklar. | V3: 2. Farklı ortamlarda kullanılan ulaşım araçlarını özelliklerine göre sınıflandırır. | W3: 3. Farklı ortamlarda çalışabilecek bir ulaşım aracı tasarlar. | X3: Ç. 1. Ulaşım Teknolojileri (17+16+16) | Y3: DERSE KATILIM VE ETKİNLİK NOTU 2 | Z3: 1. Günlük hayatta karşılaştığı tasarım problemlerini örneklerle açıklar. | AA3: 2. Tasarım probleminin çözümüne yönelik araştırma basamaklarını uygular. | AB3: 3. Tasarım planlama sürecini uygular. | AC3: 4. Özgün tasarım modelini veya prototipini oluşturur. | AD3: 5. Tasarladığı ürünü değerlendirir. | AE3: 6. Tasarladığı ürünü (model veya prototip) yeniden yapılandırır. | AF3: D. 1. Özgün Ürünümü Tasarlıyorum (3*17+2*16) | AG3: 2. ÜRÜN DEĞERLENDİRME NOTU | AH3: ÜRÜN DEĞERLENDİRME (Ortalama) NOTU (1. Sınav) | AI3: YAZILI DEĞERLENDİRME NOTU - (2. Sınav) | AJ3: 2. DÖNEM NOTU | AK3: YIL SONU NOTU
A5: PUANLAMA | D5: ='1. Dönem'!AO5 -> 100 | E5: =($J5-MOD($J5,4))/4+IF(MOD($J5,4)>0,1,0) -> 25 | F5: =($J5-MOD($J5,4))/4+IF(MOD($J5,4)>1,1,0) -> 25 | G5: =($J5-MOD($J5,4))/4+IF(MOD($J5,4)>2,1,0) -> 25 | H5: =($J5-MOD($J5,4))/4+IF(MOD($J5,4)>3,1,0) -> 25 | I5: =J5 -> 100 | J5: 100 | K5: =($P5-MOD($P5,4))/4+IF(MOD($P5,4)>0,1,0) -> 25 | L5: =($P5-MOD($P5,4))/4+IF(MOD($P5,4)>1,1,0) -> 25 | M5: =($P5-MOD($P5,4))/4+IF(MOD($P5,4)>2,1,0) -> 25 | N5: =($P5-MOD($P5,4))/4+IF(MOD($P5,4)>3,1,0) -> 25 | O5: =P5 -> 100 | P5: 100 | Q5: =($Y5-MOD($Y5,6))/6+IF(MOD($Y5,6)>0,1,0) -> 17 | R5: =($Y5-MOD($Y5,6))/6+IF(MOD($Y5,6)>1,1,0) -> 17 | S5: =($Y5-MOD($Y5,6))/6+IF(MOD($Y5,6)>2,1,0) -> 17 | T5: =SUM(Q5:S5) -> 51 | U5: =($Y5-MOD($Y5,6))/6+IF(MOD($Y5,6)>3,1,0) -> 17 | V5: =($Y5-MOD($Y5,6))/6+IF(MOD($Y5,6)>4,1,0) -> 16 | W5: =($Y5-MOD($Y5,6))/6+IF(MOD($Y5,6)>5,1,0) -> 16 | X5: =SUM(U5:W5) -> 49 | Y5: 100 | Z5: =($AF5-MOD($AF5,6))/6+IF(MOD($AF5,6)>0,1,0) -> 17 | AA5: =($AF5-MOD($AF5,6))/6+IF(MOD($AF5,6)>1,1,0) -> 17 | AB5: =($AF5-MOD($AF5,6))/6+IF(MOD($AF5,6)>2,1,0) -> 17 | AC5: =($AF5-MOD($AF5,6))/6+IF(MOD($AF5,6)>3,1,0) -> 17 | AD5: =($AF5-MOD($AF5,6))/6+IF(MOD($AF5,6)>4,1,0) -> 16 | AE5: =($AF5-MOD($AF5,6))/6+IF(MOD($AF5,6)>5,1,0) -> 16 | AF5: =AG5 -> 100 | AG5: 100 | AH5: 100 | AI5: 100 | AJ5: =AVERAGE(AG5,P5,(Y5+J5)/2) -> 100 | AK5: =AVERAGE(AJ5,D5) -> 100
A6: ='2. dönem e okul yapıştır'!A4 -> 1 | B6: ='2. dönem e okul yapıştır'!B4 -> 175 | C6: ='2. dönem e okul yapıştır'!C4 -> Arda YİĞİT | D6: ='1. Dönem'!AO6 -> 92.5 | E6: =($J6-MOD($J6,4))/4+IF(MOD($J6,4)>0,1,0) -> 23 | F6: =($J6-MOD($J6,4))/4+IF(MOD($J6,4)>1,1,0) -> 23 | G6: =($J6-MOD($J6,4))/4+IF(MOD($J6,4)>2,1,0) -> 22 | H6: =($J6-MOD($J6,4))/4+IF(MOD($J6,4)>3,1,0) -> 22 | I6: =J6 -> 90 | J6: ='2. dönem e okul yapıştır'!H4 -> 90 | K6: =($P6-MOD($P6,4))/4+IF(MOD($P6,4)>0,1,0) -> 22 | L6: =($P6-MOD($P6,4))/4+IF(MOD($P6,4)>1,1,0) -> 21 | M6: =($P6-MOD($P6,4))/4+IF(MOD($P6,4)>2,1,0) -> 21 | N6: =($P6-MOD($P6,4))/4+IF(MOD($P6,4)>3,1,0) -> 21 | O6: =P6 -> 85 | P6: ='2. dönem e okul yapıştır'!D4 -> 85 | Q6: =($Y6-MOD($Y6,6))/6+IF(MOD($Y6,6)>0,1,0) -> 16 | R6: =($Y6-MOD($Y6,6))/6+IF(MOD($Y6,6)>1,1,0) -> 16 | S6: =($Y6-MOD($Y6,6))/6+IF(MOD($Y6,6)>2,1,0) -> 16 | T6: =SUM(Q6:S6) -> 48 | U6: =($Y6-MOD($Y6,6))/6+IF(MOD($Y6,6)>3,1,0) -> 16 | V6: =($Y6-MOD($Y6,6))/6+IF(MOD($Y6,6)>4,1,0) -> 16 | W6: =($Y6-MOD($Y6,6))/6+IF(MOD($Y6,6)>5,1,0) -> 15 | X6: =SUM(U6:W6) -> 47 | Y6: ='2. dönem e okul yapıştır'!I4 -> 95 | Z6: =($AF6-MOD($AF6,6))/6+IF(MOD($AF6,6)>0,1,0) -> 17 | AA6: =($AF6-MOD($AF6,6))/6+IF(MOD($AF6,6)>1,1,0) -> 17 | AB6: =($AF6-MOD($AF6,6))/6+IF(MOD($AF6,6)>2,1,0) -> 17 | AC6: =($AF6-MOD($AF6,6))/6+IF(MOD($AF6,6)>3,1,0) -> 17 | AD6: =($AF6-MOD($AF6,6))/6+IF(MOD($AF6,6)>4,1,0) -> 16 | AE6: =($AF6-MOD($AF6,6))/6+IF(MOD($AF6,6)>5,1,0) -> 16 | AF6: =AG6 -> 100 | AG6: ='2. dönem e okul yapıştır'!E4 -> 100 | AH6: ='2. dönem e okul yapıştır'!F4 -> 92.5 | AI6: ='2. dönem e okul yapıştır'!G4 -> 95 | AJ6: ='2. dönem e okul yapıştır'!J4 -> 93.333333 | AK6: =AVERAGE(D6,AJ6) -> 92.916667
A7: ='2. dönem e okul yapıştır'!A5 -> 2 | B7: ='2. dönem e okul yapıştır'!B5 -> 7852 | C7: ='2. dönem e okul yapıştır'!C5 -> Melih Tunç | D7: ='1. Dönem'!AO7 -> 100 | E7: =($J7-MOD($J7,4))/4+IF(MOD($J7,4)>0,1,0) -> 25 | F7: =($J7-MOD($J7,4))/4+IF(MOD($J7,4)>1,1,0) -> 25 | G7: =($J7-MOD($J7,4))/4+IF(MOD($J7,4)>2,1,0) -> 25 | H7: =($J7-MOD($J7,4))/4+IF(MOD($J7,4)>3,1,0) -> 25 | I7: =J7 -> 100 | J7: ='2. dönem e okul yapıştır'!H5 -> 100 | K7: =($P7-MOD($P7,4))/4+IF(MOD($P7,4)>0,1,0) -> 25 | L7: =($P7-MOD($P7,4))/4+IF(MOD($P7,4)>1,1,0) -> 25 | M7: =($P7-MOD($P7,4))/4+IF(MOD($P7,4)>2,1,0) -> 25 | N7: =($P7-MOD($P7,4))/4+IF(MOD($P7,4)>3,1,0) -> 25 | O7: =P7 -> 100 | P7: ='2. dönem e okul yapıştır'!D5 -> 100 | Q7: =($Y7-MOD($Y7,6))/6+IF(MOD($Y7,6)>0,1,0) -> 17 | R7: =($Y7-MOD($Y7,6))/6+IF(MOD($Y7,6)>1,1,0) -> 17 | S7: =($Y7-MOD($Y7,6))/6+IF(MOD($Y7,6)>2,1,0) -> 17 | T7: =SUM(Q7:S7) -> 51 | U7: =($Y7-MOD($Y7,6))/6+IF(MOD($Y7,6)>3,1,0) -> 17 | V7: =($Y7-MOD($Y7,6))/6+IF(MOD($Y7,6)>4,1,0) -> 16 | W7: =($Y7-MOD($Y7,6))/6+IF(MOD($Y7,6)>5,1,0) -> 16 | X7: =SUM(U7:W7) -> 49 | Y7: ='2. dönem e okul yapıştır'!I5 -> 100 | Z7: =($AF7-MOD($AF7,6))/6+IF(MOD($AF7,6)>0,1,0) -> 17 | AA7: =($AF7-MOD($AF7,6))/6+IF(MOD($AF7,6)>1,1,0) -> 17 | AB7: =($AF7-MOD($AF7,6))/6+IF(MOD($AF7,6)>2,1,0) -> 17 | AC7: =($AF7-MOD($AF7,6))/6+IF(MOD($AF7,6)>3,1,0) -> 17 | AD7: =($AF7-MOD($AF7,6))/6+IF(MOD($AF7,6)>4,1,0) -> 16 | AE7: =($AF7-MOD($AF7,6))/6+IF(MOD($AF7,6)>5,1,0) -> 16 | AF7: =AG7 -> 100 | AG7: ='2. dönem e okul yapıştır'!E5 -> 100 | AH7: ='2. dönem e okul yapıştır'!F5 -> 100 | AI7: ='2. dönem e okul yapıştır'!G5 -> 100 | AJ7: ='2. dönem e okul yapıştır'!J5 -> 100 | AK7: =AVERAGE(D7,AJ7) -> 100
A8: ='2. dönem e okul yapıştır'!A6 -> 3 | B8: ='2. dönem e okul yapıştır'!B6 -> 0 | C8: ='2. dönem e okul yapıştır'!C6 -> 0 | D8: ='1. Dönem'!AO8 -> 0 | E8: =($J8-MOD($J8,4))/4+IF(MOD($J8,4)>0,1,0) -> 0 | F8: =($J8-MOD($J8,4))/4+IF(MOD($J8,4)>1,1,0) -> 0 | G8: =($J8-MOD($J8,4))/4+IF(MOD($J8,4)>2,1,0) -> 0 | H8: =($J8-MOD($J8,4))/4+IF(MOD($J8,4)>3,1,0) -> 0 | I8: =J8 -> 0 | J8: ='2. dönem e okul yapıştır'!H6 -> 0 | K8: =($P8-MOD($P8,4))/4+IF(MOD($P8,4)>0,1,0) -> 0 | L8: =($P8-MOD($P8,4))/4+IF(MOD($P8,4)>1,1,0) -> 0 | M8: =($P8-MOD($P8,4))/4+IF(MOD($P8,4)>2,1,0) -> 0 | N8: =($P8-MOD($P8,4))/4+IF(MOD($P8,4)>3,1,0) -> 0 | O8: =P8 -> 0 | P8: ='2. dönem e okul yapıştır'!D6 -> 0 | Q8: =($Y8-MOD($Y8,6))/6+IF(MOD($Y8,6)>0,1,0) -> 0 | R8: =($Y8-MOD($Y8,6))/6+IF(MOD($Y8,6)>1,1,0) -> 0 | S8: =($Y8-MOD($Y8,6))/6+IF(MOD($Y8,6)>2,1,0) -> 0 | T8: =SUM(Q8:S8) -> 0 | U8: =($Y8-MOD($Y8,6))/6+IF(MOD($Y8,6)>3,1,0) -> 0 | V8: =($Y8-MOD($Y8,6))/6+IF(MOD($Y8,6)>4,1,0) -> 0 | W8: =($Y8-MOD($Y8,6))/6+IF(MOD($Y8,6)>5,1,0) -> 0 | X8: =SUM(U8:W8) -> 0 | Y8: ='2. dönem e okul yapıştır'!I6 -> 0 | Z8: =($AF8-MOD($AF8,6))/6+IF(MOD($AF8,6)>0,1,0) -> 0 | AA8: =($AF8-MOD($AF8,6))/6+IF(MOD($AF8,6)>1,1,0) -> 0 | AB8: =($AF8-MOD($AF8,6))/6+IF(MOD($AF8,6)>2,1,0) -> 0 | AC8: =($AF8-MOD($AF8,6))/6+IF(MOD($AF8,6)>3,1,0) -> 0 | AD8: =($AF8-MOD($AF8,6))/6+IF(MOD($AF8,6)>4,1,0) -> 0 | AE8: =($AF8-MOD($AF8,6))/6+IF(MOD($AF8,6)>5,1,0) -> 0 | AF8: =AG8 -> 0 | AG8: ='2. dönem e okul yapıştır'!E6 -> 0 | AH8: ='2. dönem e okul yapıştır'!F6 -> 0 | AI8: ='2. dönem e okul yapıştır'!G6 -> 0 | AJ8: ='2. dönem e okul yapıştır'!J6 -> 0 | AK8: =AVERAGE(D8,AJ8) -> 0
A9: ='2. dönem e okul yapıştır'!A7 -> 4 | B9: ='2. dönem e okul yapıştır'!B7 -> 0 | C9: ='2. dönem e okul yapıştır'!C7 -> 0 | D9: ='1. Dönem'!AO9 -> 0 | E9: =($J9-MOD($J9,4))/4+IF(MOD($J9,4)>0,1,0) -> 0 | F9: =($J9-MOD($J9,4))/4+IF(MOD($J9,4)>1,1,0) -> 0 | G9: =($J9-MOD($J9,4))/4+IF(MOD($J9,4)>2,1,0) -> 0 | H9: =($J9-MOD($J9,4))/4+IF(MOD($J9,4)>3,1,0) -> 0 | I9: =J9 -> 0 | J9: ='2. dönem e okul yapıştır'!H7 -> 0 | K9: =($P9-MOD($P9,4))/4+IF(MOD($P9,4)>0,1,0) -> 0 | L9: =($P9-MOD($P9,4))/4+IF(MOD($P9,4)>1,1,0) -> 0 | M9: =($P9-MOD($P9,4))/4+IF(MOD($P9,4)>2,1,0) -> 0 | N9: =($P9-MOD($P9,4))/4+IF(MOD($P9,4)>3,1,0) -> 0 | O9: =P9 -> 0 | P9: ='2. dönem e okul yapıştır'!D7 -> 0 | Q9: =($Y9-MOD($Y9,6))/6+IF(MOD($Y9,6)>0,1,0) -> 0 | R9: =($Y9-MOD($Y9,6))/6+IF(MOD($Y9,6)>1,1,0) -> 0 | S9: =($Y9-MOD($Y9,6))/6+IF(MOD($Y9,6)>2,1,0) -> 0 | T9: =SUM(Q9:S9) -> 0 | U9: =($Y9-MOD($Y9,6))/6+IF(MOD($Y9,6)>3,1,0) -> 0 | V9: =($Y9-MOD($Y9,6))/6+IF(MOD($Y9,6)>4,1,0) -> 0 | W9: =($Y9-MOD($Y9,6))/6+IF(MOD($Y9,6)>5,1,0) -> 0 | X9: =SUM(U9:W9) -> 0 | Y9: ='2. dönem e okul yapıştır'!I7 -> 0 | Z9: =($AF9-MOD($AF9,6))/6+IF(MOD($AF9,6)>0,1,0) -> 0 | AA9: =($AF9-MOD($AF9,6))/6+IF(MOD($AF9,6)>1,1,0) -> 0 | AB9: =($AF9-MOD($AF9,6))/6+IF(MOD($AF9,6)>2,1,0) -> 0 | AC9: =($AF9-MOD($AF9,6))/6+IF(MOD($AF9,6)>3,1,0) -> 0 | AD9: =($AF9-MOD($AF9,6))/6+IF(MOD($AF9,6)>4,1,0) -> 0 | AE9: =($AF9-MOD($AF9,6))/6+IF(MOD($AF9,6)>5,1,0) -> 0 | AF9: =AG9 -> 0 | AG9: ='2. dönem e okul yapıştır'!E7 -> 0 | AH9: ='2. dönem e okul yapıştır'!F7 -> 0 | AI9: ='2. dönem e okul yapıştır'!G7 -> 0 | AJ9: ='2. dönem e okul yapıştır'!J7 -> 0 | AK9: =AVERAGE(D9,AJ9) -> 0
A10: ='2. dönem e okul yapıştır'!A8 -> 5 | B10: ='2. dönem e okul yapıştır'!B8 -> 0 | C10: ='2. dönem e okul yapıştır'!C8 -> 0 | D10: ='1. Dönem'!AO10 -> 0 | E10: =($J10-MOD($J10,4))/4+IF(MOD($J10,4)>0,1,0) -> 0 | F10: =($J10-MOD($J10,4))/4+IF(MOD($J10,4)>1,1,0) -> 0 | G10: =($J10-MOD($J10,4))/4+IF(MOD($J10,4)>2,1,0) -> 0 | H10: =($J10-MOD($J10,4))/4+IF(MOD($J10,4)>3,1,0) -> 0 | I10: =J10 -> 0 | J10: ='2. dönem e okul yapıştır'!H8 -> 0 | K10: =($P10-MOD($P10,4))/4+IF(MOD($P10,4)>0,1,0) -> 0 | L10: =($P10-MOD($P10,4))/4+IF(MOD($P10,4)>1,1,0) -> 0 | M10: =($P10-MOD($P10,4))/4+IF(MOD($P10,4)>2,1,0) -> 0 | N10: =($P10-MOD($P10,4))/4+IF(MOD($P10,4)>3,1,0) -> 0 | O10: =P10 -> 0 | P10: ='2. dönem e okul yapıştır'!D8 -> 0 | Q10: =($Y10-MOD($Y10,6))/6+IF(MOD($Y10,6)>0,1,0) -> 0 | R10: =($Y10-MOD($Y10,6))/6+IF(MOD($Y10,6)>1,1,0) -> 0 | S10: =($Y10-MOD($Y10,6))/6+IF(MOD($Y10,6)>2,1,0) -> 0 | T10: =SUM(Q10:S10) -> 0 | U10: =($Y10-MOD($Y10,6))/6+IF(MOD($Y10,6)>3,1,0) -> 0 | V10: =($Y10-MOD($Y10,6))/6+IF(MOD($Y10,6)>4,1,0) -> 0 | W10: =($Y10-MOD($Y10,6))/6+IF(MOD($Y10,6)>5,1,0) -> 0 | X10: =SUM(U10:W10) -> 0 | Y10: ='2. dönem e okul yapıştır'!I8 -> 0 | Z10: =($AF10-MOD($AF10,6))/6+IF(MOD($AF10,6)>0,1,0) -> 0 | AA10: =($AF10-MOD($AF10,6))/6+IF(MOD($AF10,6)>1,1,0) -> 0 | AB10: =($AF10-MOD($AF10,6))/6+IF(MOD($AF10,6)>2,1,0) -> 0 | AC10: =($AF10-MOD($AF10,6))/6+IF(MOD($AF10,6)>3,1,0) -> 0 | AD10: =($AF10-MOD($AF10,6))/6+IF(MOD($AF10,6)>4,1,0) -> 0 | AE10: =($AF10-MOD($AF10,6))/6+IF(MOD($AF10,6)>5,1,0) -> 0 | AF10: =AG10 -> 0 | AG10: ='2. dönem e okul yapıştır'!E8 -> 0 | AH10: ='2. dönem e okul yapıştır'!F8 -> 0 | AI10: ='2. dönem e okul yapıştır'!G8 -> 0 | AJ10: ='2. dönem e okul yapıştır'!J8 -> 0 | AK10: =AVERAGE(D10,AJ10) -> 0
A11: ='2. dönem e okul yapıştır'!A9 -> 6 | B11: ='2. dönem e okul yapıştır'!B9 -> 0 | C11: ='2. dönem e okul yapıştır'!C9 -> 0 | D11: ='1. Dönem'!AO11 -> 0 | E11: =($J11-MOD($J11,4))/4+IF(MOD($J11,4)>0,1,0) -> 0 | F11: =($J11-MOD($J11,4))/4+IF(MOD($J11,4)>1,1,0) -> 0 | G11: =($J11-MOD($J11,4))/4+IF(MOD($J11,4)>2,1,0) -> 0 | H11: =($J11-MOD($J11,4))/4+IF(MOD($J11,4)>3,1,0) -> 0 | I11: =J11 -> 0 | J11: ='2. dönem e okul yapıştır'!H9 -> 0 | K11: =($P11-MOD($P11,4))/4+IF(MOD($P11,4)>0,1,0) -> 0 | L11: =($P11-MOD($P11,4))/4+IF(MOD($P11,4)>1,1,0) -> 0 | M11: =($P11-MOD($P11,4))/4+IF(MOD($P11,4)>2,1,0) -> 0 | N11: =($P11-MOD($P11,4))/4+IF(MOD($P11,4)>3,1,0) -> 0 | O11: =P11 -> 0 | P11: ='2. dönem e okul yapıştır'!D9 -> 0 | Q11: =($Y11-MOD($Y11,6))/6+IF(MOD($Y11,6)>0,1,0) -> 0 | R11: =($Y11-MOD($Y11,6))/6+IF(MOD($Y11,6)>1,1,0) -> 0 | S11: =($Y11-MOD($Y11,6))/6+IF(MOD($Y11,6)>2,1,0) -> 0 | T11: =SUM(Q11:S11) -> 0 | U11: =($Y11-MOD($Y11,6))/6+IF(MOD($Y11,6)>3,1,0) -> 0 | V11: =($Y11-MOD($Y11,6))/6+IF(MOD($Y11,6)>4,1,0) -> 0 | W11: =($Y11-MOD($Y11,6))/6+IF(MOD($Y11,6)>5,1,0) -> 0 | X11: =SUM(U11:W11) -> 0 | Y11: ='2. dönem e okul yapıştır'!I9 -> 0 | Z11: =($AF11-MOD($AF11,6))/6+IF(MOD($AF11,6)>0,1,0) -> 0 | AA11: =($AF11-MOD($AF11,6))/6+IF(MOD($AF11,6)>1,1,0) -> 0 | AB11: =($AF11-MOD($AF11,6))/6+IF(MOD($AF11,6)>2,1,0) -> 0 | AC11: =($AF11-MOD($AF11,6))/6+IF(MOD($AF11,6)>3,1,0) -> 0 | AD11: =($AF11-MOD($AF11,6))/6+IF(MOD($AF11,6)>4,1,0) -> 0 | AE11: =($AF11-MOD($AF11,6))/6+IF(MOD($AF11,6)>5,1,0) -> 0 | AF11: =AG11 -> 0 | AG11: ='2. dönem e okul yapıştır'!E9 -> 0 | AH11: ='2. dönem e okul yapıştır'!F9 -> 0 | AI11: ='2. dönem e okul yapıştır'!G9 -> 0 | AJ11: ='2. dönem e okul yapıştır'!J9 -> 0 | AK11: =AVERAGE(D11,AJ11) -> 0
A12: ='2. dönem e okul yapıştır'!A10 -> 7 | B12: ='2. dönem e okul yapıştır'!B10 -> 0 | C12: ='2. dönem e okul yapıştır'!C10 -> 0 | D12: ='1. Dönem'!AO12 -> 0 | E12: =($J12-MOD($J12,4))/4+IF(MOD($J12,4)>0,1,0) -> 0 | F12: =($J12-MOD($J12,4))/4+IF(MOD($J12,4)>1,1,0) -> 0 | G12: =($J12-MOD($J12,4))/4+IF(MOD($J12,4)>2,1,0) -> 0 | H12: =($J12-MOD($J12,4))/4+IF(MOD($J12,4)>3,1,0) -> 0 | I12: =J12 -> 0 | J12: ='2. dönem e okul yapıştır'!H10 -> 0 | K12: =($P12-MOD($P12,4))/4+IF(MOD($P12,4)>0,1,0) -> 0 | L12: =($P12-MOD($P12,4))/4+IF(MOD($P12,4)>1,1,0) -> 0 | M12: =($P12-MOD($P12,4))/4+IF(MOD($P12,4)>2,1,0) -> 0 | N12: =($P12-MOD($P12,4))/4+IF(MOD($P12,4)>3,1,0) -> 0 | O12: =P12 -> 0 | P12: ='2. dönem e okul yapıştır'!D10 -> 0 | Q12: =($Y12-MOD($Y12,6))/6+IF(MOD($Y12,6)>0,1,0) -> 0 | R12: =($Y12-MOD($Y12,6))/6+IF(MOD($Y12,6)>1,1,0) -> 0 | S12: =($Y12-MOD($Y12,6))/6+IF(MOD($Y12,6)>2,1,0) -> 0 | T12: =SUM(Q12:S12) -> 0 | U12: =($Y12-MOD($Y12,6))/6+IF(MOD($Y12,6)>3,1,0) -> 0 | V12: =($Y12-MOD($Y12,6))/6+IF(MOD($Y12,6)>4,1,0) -> 0 | W12: =($Y12-MOD($Y12,6))/6+IF(MOD($Y12,6)>5,1,0) -> 0 | X12: =SUM(U12:W12) -> 0 | Y12: ='2. dönem e okul yapıştır'!I10 -> 0 | Z12: =($AF12-MOD($AF12,6))/6+IF(MOD($AF12,6)>0,1,0) -> 0 | AA12: =($AF12-MOD($AF12,6))/6+IF(MOD($AF12,6)>1,1,0) -> 0 | AB12: =($AF12-MOD($AF12,6))/6+IF(MOD($AF12,6)>2,1,0) -> 0 | AC12: =($AF12-MOD($AF12,6))/6+IF(MOD($AF12,6)>3,1,0) -> 0 | AD12: =($AF12-MOD($AF12,6))/6+IF(MOD($AF12,6)>4,1,0) -> 0 | AE12: =($AF12-MOD($AF12,6))/6+IF(MOD($AF12,6)>5,1,0) -> 0 | AF12: =AG12 -> 0 | AG12: ='2. dönem e okul yapıştır'!E10 -> 0 | AH12: ='2. dönem e okul yapıştır'!F10 -> 0 | AI12: ='2. dönem e okul yapıştır'!G10 -> 0 | AJ12: ='2. dönem e okul yapıştır'!J10 -> 0 | AK12: =AVERAGE(D12,AJ12) -> 0
A13: ='2. dönem e okul yapıştır'!A11 -> 8 | B13: ='2. dönem e okul yapıştır'!B11 -> 0 | C13: ='2. dönem e okul yapıştır'!C11 -> 0 | D13: ='1. Dönem'!AO13 -> 0 | E13: =($J13-MOD($J13,4))/4+IF(MOD($J13,4)>0,1,0) -> 0 | F13: =($J13-MOD($J13,4))/4+IF(MOD($J13,4)>1,1,0) -> 0 | G13: =($J13-MOD($J13,4))/4+IF(MOD($J13,4)>2,1,0) -> 0 | H13: =($J13-MOD($J13,4))/4+IF(MOD($J13,4)>3,1,0) -> 0 | I13: =J13 -> 0 | J13: ='2. dönem e okul yapıştır'!H11 -> 0 | K13: =($P13-MOD($P13,4))/4+IF(MOD($P13,4)>0,1,0) -> 0 | L13: =($P13-MOD($P13,4))/4+IF(MOD($P13,4)>1,1,0) -> 0 | M13: =($P13-MOD($P13,4))/4+IF(MOD($P13,4)>2,1,0) -> 0 | N13: =($P13-MOD($P13,4))/4+IF(MOD($P13,4)>3,1,0) -> 0 | O13: =P13 -> 0 | P13: ='2. dönem e okul yapıştır'!D11 -> 0 | Q13: =($Y13-MOD($Y13,6))/6+IF(MOD($Y13,6)>0,1,0) -> 0 | R13: =($Y13-MOD($Y13,6))/6+IF(MOD($Y13,6)>1,1,0) -> 0 | S13: =($Y13-MOD($Y13,6))/6+IF(MOD($Y13,6)>2,1,0) -> 0 | T13: =SUM(Q13:S13) -> 0 | U13: =($Y13-MOD($Y13,6))/6+IF(MOD($Y13,6)>3,1,0) -> 0 | V13: =($Y13-MOD($Y13,6))/6+IF(MOD($Y13,6)>4,1,0) -> 0 | W13: =($Y13-MOD($Y13,6))/6+IF(MOD($Y13,6)>5,1,0) -> 0 | X13: =SUM(U13:W13) -> 0 | Y13: ='2. dönem e okul yapıştır'!I11 -> 0 | Z13: =($AF13-MOD($AF13,6))/6+IF(MOD($AF13,6)>0,1,0) -> 0 | AA13: =($AF13-MOD($AF13,6))/6+IF(MOD($AF13,6)>1,1,0) -> 0 | AB13: =($AF13-MOD($AF13,6))/6+IF(MOD($AF13,6)>2,1,0) -> 0 | AC13: =($AF13-MOD($AF13,6))/6+IF(MOD($AF13,6)>3,1,0) -> 0 | AD13: =($AF13-MOD($AF13,6))/6+IF(MOD($AF13,6)>4,1,0) -> 0 | AE13: =($AF13-MOD($AF13,6))/6+IF(MOD($AF13,6)>5,1,0) -> 0 | AF13: =AG13 -> 0 | AG13: ='2. dönem e okul yapıştır'!E11 -> 0 | AH13: ='2. dönem e okul yapıştır'!F11 -> 0 | AI13: ='2. dönem e okul yapıştır'!G11 -> 0 | AJ13: ='2. dönem e okul yapıştır'!J11 -> 0 | AK13: =AVERAGE(D13,AJ13) -> 0
A14: ='2. dönem e okul yapıştır'!A12 -> 9 | B14: ='2. dönem e okul yapıştır'!B12 -> 0 | C14: ='2. dönem e okul yapıştır'!C12 -> 0 | D14: ='1. Dönem'!AO14 -> 0 | E14: =($J14-MOD($J14,4))/4+IF(MOD($J14,4)>0,1,0) -> 0 | F14: =($J14-MOD($J14,4))/4+IF(MOD($J14,4)>1,1,0) -> 0 | G14: =($J14-MOD($J14,4))/4+IF(MOD($J14,4)>2,1,0) -> 0 | H14: =($J14-MOD($J14,4))/4+IF(MOD($J14,4)>3,1,0) -> 0 | I14: =J14 -> 0 | J14: ='2. dönem e okul yapıştır'!H12 -> 0 | K14: =($P14-MOD($P14,4))/4+IF(MOD($P14,4)>0,1,0) -> 0 | L14: =($P14-MOD($P14,4))/4+IF(MOD($P14,4)>1,1,0) -> 0 | M14: =($P14-MOD($P14,4))/4+IF(MOD($P14,4)>2,1,0) -> 0 | N14: =($P14-MOD($P14,4))/4+IF(MOD($P14,4)>3,1,0) -> 0 | O14: =P14 -> 0 | P14: ='2. dönem e okul yapıştır'!D12 -> 0 | Q14: =($Y14-MOD($Y14,6))/6+IF(MOD($Y14,6)>0,1,0) -> 0 | R14: =($Y14-MOD($Y14,6))/6+IF(MOD($Y14,6)>1,1,0) -> 0 | S14: =($Y14-MOD($Y14,6))/6+IF(MOD($Y14,6)>2,1,0) -> 0 | T14: =SUM(Q14:S14) -> 0 | U14: =($Y14-MOD($Y14,6))/6+IF(MOD($Y14,6)>3,1,0) -> 0 | V14: =($Y14-MOD($Y14,6))/6+IF(MOD($Y14,6)>4,1,0) -> 0 | W14: =($Y14-MOD($Y14,6))/6+IF(MOD($Y14,6)>5,1,0) -> 0 | X14: =SUM(U14:W14) -> 0 | Y14: ='2. dönem e okul yapıştır'!I12 -> 0 | Z14: =($AF14-MOD($AF14,6))/6+IF(MOD($AF14,6)>0,1,0) -> 0 | AA14: =($AF14-MOD($AF14,6))/6+IF(MOD($AF14,6)>1,1,0) -> 0 | AB14: =($AF14-MOD($AF14,6))/6+IF(MOD($AF14,6)>2,1,0) -> 0 | AC14: =($AF14-MOD($AF14,6))/6+IF(MOD($AF14,6)>3,1,0) -> 0 | AD14: =($AF14-MOD($AF14,6))/6+IF(MOD($AF14,6)>4,1,0) -> 0 | AE14: =($AF14-MOD($AF14,6))/6+IF(MOD($AF14,6)>5,1,0) -> 0 | AF14: =AG14 -> 0 | AG14: ='2. dönem e okul yapıştır'!E12 -> 0 | AH14: ='2. dönem e okul yapıştır'!F12 -> 0 | AI14: ='2. dönem e okul yapıştır'!G12 -> 0 | AJ14: ='2. dönem e okul yapıştır'!J12 -> 0 | AK14: =AVERAGE(D14,AJ14) -> 0
A15: ='2. dönem e okul yapıştır'!A13 -> 10 | B15: ='2. dönem e okul yapıştır'!B13 -> 0 | C15: ='2. dönem e okul yapıştır'!C13 -> 0 | D15: ='1. Dönem'!AO15 -> 0 | E15: =($J15-MOD($J15,4))/4+IF(MOD($J15,4)>0,1,0) -> 0 | F15: =($J15-MOD($J15,4))/4+IF(MOD($J15,4)>1,1,0) -> 0 | G15: =($J15-MOD($J15,4))/4+IF(MOD($J15,4)>2,1,0) -> 0 | H15: =($J15-MOD($J15,4))/4+IF(MOD($J15,4)>3,1,0) -> 0 | I15: =J15 -> 0 | J15: ='2. dönem e okul yapıştır'!H13 -> 0 | K15: =($P15-MOD($P15,4))/4+IF(MOD($P15,4)>0,1,0) -> 0 | L15: =($P15-MOD($P15,4))/4+IF(MOD($P15,4)>1,1,0) -> 0 | M15: =($P15-MOD($P15,4))/4+IF(MOD($P15,4)>2,1,0) -> 0 | N15: =($P15-MOD($P15,4))/4+IF(MOD($P15,4)>3,1,0) -> 0 | O15: =P15 -> 0 | P15: ='2. dönem e okul yapıştır'!D13 -> 0 | Q15: =($Y15-MOD($Y15,6))/6+IF(MOD($Y15,6)>0,1,0) -> 0 | R15: =($Y15-MOD($Y15,6))/6+IF(MOD($Y15,6)>1,1,0) -> 0 | S15: =($Y15-MOD($Y15,6))/6+IF(MOD($Y15,6)>2,1,0) -> 0 | T15: =SUM(Q15:S15) -> 0 | U15: =($Y15-MOD($Y15,6))/6+IF(MOD($Y15,6)>3,1,0) -> 0 | V15: =($Y15-MOD($Y15,6))/6+IF(MOD($Y15,6)>4,1,0) -> 0 | W15: =($Y15-MOD($Y15,6))/6+IF(MOD($Y15,6)>5,1,0) -> 0 | X15: =SUM(U15:W15) -> 0 | Y15: ='2. dönem e okul yapıştır'!I13 -> 0 | Z15: =($AF15-MOD($AF15,6))/6+IF(MOD($AF15,6)>0,1,0) -> 0 | AA15: =($AF15-MOD($AF15,6))/6+IF(MOD($AF15,6)>1,1,0) -> 0 | AB15: =($AF15-MOD($AF15,6))/6+IF(MOD($AF15,6)>2,1,0) -> 0 | AC15: =($AF15-MOD($AF15,6))/6+IF(MOD($AF15,6)>3,1,0) -> 0 | AD15: =($AF15-MOD($AF15,6))/6+IF(MOD($AF15,6)>4,1,0) -> 0 | AE15: =($AF15-MOD($AF15,6))/6+IF(MOD($AF15,6)>5,1,0) -> 0 | AF15: =AG15 -> 0 | AG15: ='2. dönem e okul yapıştır'!E13 -> 0 | AH15: ='2. dönem e okul yapıştır'!F13 -> 0 | AI15: ='2. dönem e okul yapıştır'!G13 -> 0 | AJ15: ='2. dönem e okul yapıştır'!J13 -> 0 | AK15: =AVERAGE(D15,AJ15) -> 0
A16: ='2. dönem e okul yapıştır'!A14 -> 11 | B16: ='2. dönem e okul yapıştır'!B14 -> 0 | C16: ='2. dönem e okul yapıştır'!C14 -> 0 | D16: ='1. Dönem'!AO16 -> 0 | E16: =($J16-MOD($J16,4))/4+IF(MOD($J16,4)>0,1,0) -> 0 | F16: =($J16-MOD($J16,4))/4+IF(MOD($J16,4)>1,1,0) -> 0 | G16: =($J16-MOD($J16,4))/4+IF(MOD($J16,4)>2,1,0) -> 0 | H16: =($J16-MOD($J16,4))/4+IF(MOD($J16,4)>3,1,0) -> 0 | I16: =J16 -> 0 | J16: ='2. dönem e okul yapıştır'!H14 -> 0 | K16: =($P16-MOD($P16,4))/4+IF(MOD($P16,4)>0,1,0) -> 0 | L16: =($P16-MOD($P16,4))/4+IF(MOD($P16,4)>1,1,0) -> 0 | M16: =($P16-MOD($P16,4))/4+IF(MOD($P16,4)>2,1,0) -> 0 | N16: =($P16-MOD($P16,4))/4+IF(MOD($P16,4)>3,1,0) -> 0 | O16: =P16 -> 0 | P16: ='2. dönem e okul yapıştır'!D14 -> 0 | Q16: =($Y16-MOD($Y16,6))/6+IF(MOD($Y16,6)>0,1,0) -> 0 | R16: =($Y16-MOD($Y16,6))/6+IF(MOD($Y16,6)>1,1,0) -> 0 | S16: =($Y16-MOD($Y16,6))/6+IF(MOD($Y16,6)>2,1,0) -> 0 | T16: =SUM(Q16:S16) -> 0 | U16: =($Y16-MOD($Y16,6))/6+IF(MOD($Y16,6)>3,1,0) -> 0 | V16: =($Y16-MOD($Y16,6))/6+IF(MOD($Y16,6)>4,1,0) -> 0 | W16: =($Y16-MOD($Y16,6))/6+IF(MOD($Y16,6)>5,1,0) -> 0 | X16: =SUM(U16:W16) -> 0 | Y16: ='2. dönem e okul yapıştır'!I14 -> 0 | Z16: =($AF16-MOD($AF16,6))/6+IF(MOD($AF16,6)>0,1,0) -> 0 | AA16: =($AF16-MOD($AF16,6))/6+IF(MOD($AF16,6)>1,1,0) -> 0 | AB16: =($AF16-MOD($AF16,6))/6+IF(MOD($AF16,6)>2,1,0) -> 0 | AC16: =($AF16-MOD($AF16,6))/6+IF(MOD($AF16,6)>3,1,0) -> 0 | AD16: =($AF16-MOD($AF16,6))/6+IF(MOD($AF16,6)>4,1,0) -> 0 | AE16: =($AF16-MOD($AF16,6))/6+IF(MOD($AF16,6)>5,1,0) -> 0 | AF16: =AG16 -> 0 | AG16: ='2. dönem e okul yapıştır'!E14 -> 0 | AH16: ='2. dönem e okul yapıştır'!F14 -> 0 | AI16: ='2. dönem e okul yapıştır'!G14 -> 0 | AJ16: ='2. dönem e okul yapıştır'!J14 -> 0 | AK16: =AVERAGE(D16,AJ16) -> 0
A17: ='2. dönem e okul yapıştır'!A15 -> 12 | B17: ='2. dönem e okul yapıştır'!B15 -> 0 | C17: ='2. dönem e okul yapıştır'!C15 -> 0 | D17: ='1. Dönem'!AO17 -> 0 | E17: =($J17-MOD($J17,4))/4+IF(MOD($J17,4)>0,1,0) -> 0 | F17: =($J17-MOD($J17,4))/4+IF(MOD($J17,4)>1,1,0) -> 0 | G17: =($J17-MOD($J17,4))/4+IF(MOD($J17,4)>2,1,0) -> 0 | H17: =($J17-MOD($J17,4))/4+IF(MOD($J17,4)>3,1,0) -> 0 | I17: =J17 -> 0 | J17: ='2. dönem e okul yapıştır'!H15 -> 0 | K17: =($P17-MOD($P17,4))/4+IF(MOD($P17,4)>0,1,0) -> 0 | L17: =($P17-MOD($P17,4))/4+IF(MOD($P17,4)>1,1,0) -> 0 | M17: =($P17-MOD($P17,4))/4+IF(MOD($P17,4)>2,1,0) -> 0 | N17: =($P17-MOD($P17,4))/4+IF(MOD($P17,4)>3,1,0) -> 0 | O17: =P17 -> 0 | P17: ='2. dönem e okul yapıştır'!D15 -> 0 | Q17: =($Y17-MOD($Y17,6))/6+IF(MOD($Y17,6)>0,1,0) -> 0 | R17: =($Y17-MOD($Y17,6))/6+IF(MOD($Y17,6)>1,1,0) -> 0 | S17: =($Y17-MOD($Y17,6))/6+IF(MOD($Y17,6)>2,1,0) -> 0 | T17: =SUM(Q17:S17) -> 0 | U17: =($Y17-MOD($Y17,6))/6+IF(MOD($Y17,6)>3,1,0) -> 0 | V17: =($Y17-MOD($Y17,6))/6+IF(MOD($Y17,6)>4,1,0) -> 0 | W17: =($Y17-MOD($Y17,6))/6+IF(MOD($Y17,6)>5,1,0) -> 0 | X17: =SUM(U17:W17) -> 0 | Y17: ='2. dönem e okul yapıştır'!I15 -> 0 | Z17: =($AF17-MOD($AF17,6))/6+IF(MOD($AF17,6)>0,1,0) -> 0 | AA17: =($AF17-MOD($AF17,6))/6+IF(MOD($AF17,6)>1,1,0) -> 0 | AB17: =($AF17-MOD($AF17,6))/6+IF(MOD($AF17,6)>2,1,0) -> 0 | AC17: =($AF17-MOD($AF17,6))/6+IF(MOD($AF17,6)>3,1,0) -> 0 | AD17: =($AF17-MOD($AF17,6))/6+IF(MOD($AF17,6)>4,1,0) -> 0 | AE17: =($AF17-MOD($AF17,6))/6+IF(MOD($AF17,6)>5,1,0) -> 0 | AF17: =AG17 -> 0 | AG17: ='2. dönem e okul yapıştır'!E15 -> 0 | AH17: ='2. dönem e okul yapıştır'!F15 -> 0 | AI17: ='2. dönem e okul yapıştır'!G15 -> 0 | AJ17: ='2. dönem e okul yapıştır'!J15 -> 0 | AK17: =AVERAGE(D17,AJ17) -> 0
... A35: ='2. dönem e okul yapıştır'!A33 -> 30 | B35: ='2. dönem e okul yapıştır'!B33 -> 0 | C35: ='2. dönem e okul yapıştır'!C33 -> 0 | D35: ='1. Dönem'!AO35 -> 0 | E35: =($J35-MOD($J35,4))/4+IF(MOD($J35,4)>0,1,0) -> 0 | F35: =($J35-MOD($J35,4))/4+IF(MOD($J35,4)>1,1,0) -> 0 | G35: =($J35-MOD($J35,4))/4+IF(MOD($J35,4)>2,1,0) -> 0 | H35: =($J35-MOD($J35,4))/4+IF(MOD($J35,4)>3,1,0) -> 0 | I35: =J35 -> 0 | J35: ='2. dönem e okul yapıştır'!H33 -> 0 | K35: =($P35-MOD($P35,4))/4+IF(MOD($P35,4)>0,1,0) -> 0 | L35: =($P35-MOD($P35,4))/4+IF(MOD($P35,4)>1,1,0) -> 0 | M35: =($P35-MOD($P35,4))/4+IF(MOD($P35,4)>2,1,0) -> 0 | N35: =($P35-MOD($P35,4))/4+IF(MOD($P35,4)>3,1,0) -> 0 | O35: =P35 -> 0 | P35: ='2. dönem e okul yapıştır'!D33 -> 0 | Q35: =($Y35-MOD($Y35,6))/6+IF(MOD($Y35,6)>0,1,0) -> 0 | R35: =($Y35-MOD($Y35,6))/6+IF(MOD($Y35,6)>1,1,0) -> 0 | S35: =($Y35-MOD($Y35,6))/6+IF(MOD($Y35,6)>2,1,0) -> 0 | T35: =SUM(Q35:S35) -> 0 | U35: =($Y35-MOD($Y35,6))/6+IF(MOD($Y35,6)>3,1,0) -> 0 | V35: =($Y35-MOD($Y35,6))/6+IF(MOD($Y35,6)>4,1,0) -> 0 | W35: =($Y35-MOD($Y35,6))/6+IF(MOD($Y35,6)>5,1,0) -> 0 | X35: =SUM(U35:W35) -> 0 | Y35: ='2. dönem e okul yapıştır'!I33 -> 0 | Z35: =($AF35-MOD($AF35,6))/6+IF(MOD($AF35,6)>0,1,0) -> 0 | AA35: =($AF35-MOD($AF35,6))/6+IF(MOD($AF35,6)>1,1,0) -> 0 | AB35: =($AF35-MOD($AF35,6))/6+IF(MOD($AF35,6)>2,1,0) -> 0 | AC35: =($AF35-MOD($AF35,6))/6+IF(MOD($AF35,6)>3,1,0) -> 0 | AD35: =($AF35-MOD($AF35,6))/6+IF(MOD($AF35,6)>4,1,0) -> 0 | AE35: =($AF35-MOD($AF35,6))/6+IF(MOD($AF35,6)>5,1,0) -> 0 | AF35: =AG35 -> 0 | AG35: ='2. dönem e okul yapıştır'!E33 -> 0 | AH35: ='2. dönem e okul yapıştır'!F33 -> 0 | AI35: ='2. dönem e okul yapıştır'!G33 -> 0 | AJ35: ='2. dönem e okul yapıştır'!J33 -> 0 | AK35: =AVERAGE(D35,AJ35) -> 0
V37: ='2. dönem e okul yapıştır'!D35 -> Hasan YILDIZ
V38: ='2. dönem e okul yapıştır'!D36 -> Teknoloji ve Tasarım Öğretmeni
