Workbook

Sheet SINIF LİSTESİ
A1: 2026 -2027 Eğitim Öğretim Yılı TEKNOLOJİ VE TASARIM DERSİ
A2: OKUL ADI | C2: ………………………………...…………………………………….…… ORTAOKULU
A3: SINIFI | C3: 7/A
A4: SIRA | B4: Okul No | C4: Adı Soyadı | D4: 1. Sınav DPA | E4: 2. Sınav DPA | F4: 1. Ders Etk. Kat. | G4: 2. Ders Etk. Kat. | H4: 1.Dönem Notu | K4: teknolojitasarimdersi.com
A5: 1 | B5: 9876 | C5: Merve ÖZTUNÇ | D5: 70 | E5: 95 | F5: 90 | G5: 95 | H5: =IF(COUNTA(D5:G5)=0, "", ((F5+G5)/2+D5+E5)/3) -> 85.833333
A6: 2 | B6: 7855 | C6: Fatih GÜVEN | D6: 95 | E6: 75 | F6: 100 | G6: 85 | H6: =IF(COUNTA(D6:G6)=0, "", ((F6+G6)/2+D6+E6)/3) -> 87.5
A7: 3 | H7: =IF(COUNTA(D7:G7)=0, "", ((F7+G7)/2+D7+E7)/3)
A8: 4 | H8: =IF(COUNTA(D8:G8)=0, "", ((F8+G8)/2+D8+E8)/3)
A9: 5 | H9: =IF(COUNTA(D9:G9)=0, "", ((F9+G9)/2+D9+E9)/3)
A10: 6 | H10: =IF(COUNTA(D10:G10)=0, "", ((F10+G10)/2+D10+E10)/3)
A11: 7 | H11: =IF(COUNTA(D11:G11)=0, "", ((F11+G11)/2+D11+E11)/3)
A12: 8 | H12: =IF(COUNTA(D12:G12)=0, "", ((F12+G12)/2+D12+E12)/3)
A13: 9 | H13: =IF(COUNTA(D13:G13)=0, "", ((F13+G13)/2+D13+E13)/3)
A14: 10 | H14: =IF(COUNTA(D14:G14)=0, "", ((F14+G14)/2+D14+E14)/3)
A15: 11 | H15: =IF(COUNTA(D15:G15)=0, "", ((F15+G15)/2+D15+E15)/3)
A16: 12 | H16: =IF(COUNTA(D16:G16)=0, "", ((F16+G16)/2+D16+E16)/3)
A17: 13 | H17: =IF(COUNTA(D17:G17)=0, "", ((F17+G17)/2+D17+E17)/3)
A18: 14 | H18: =IF(COUNTA(D18:G18)=0, "", ((F18+G18)/2+D18+E18)/3)
... A29: 25 | H29: =IF(COUNTA(D29:G29)=0, "", ((F29+G29)/2+D29+E29)/3)
A30: 26 | H30: =IF(COUNTA(D30:G30)=0, "", ((F30+G30)/2+D30+E30)/3) | J30: Okul adı, Sınıf, Öğrenci numarası ve isimleri ile (dönem notu hariç), diğer not girişlerini yapınız. Bilgiler diğer sayfalara otomatik aktarılacak ve not dağılımı da yapılacaktır.
A31: 27 | H31: =IF(COUNTA(D31:G31)=0, "", ((F31+G31)/2+D31+E31)/3)
A32: 28 | H32: =IF(COUNTA(D32:G32)=0, "", ((F32+G32)/2+D32+E32)/3)
A33: 29 | H33: =IF(COUNTA(D33:G33)=0, "", ((F33+G33)/2+D33+E33)/3)
A34: 30 | H34: =IF(COUNTA(D34:G34)=0, "", ((F34+G34)/2+D34+E34)/3)
A35: 31 | H35: =IF(COUNTA(D35:G35)=0, "", ((F35+G35)/2+D35+E35)/3)
A36: 32 | H36: =IF(COUNTA(D36:G36)=0, "", ((F36+G36)/2+D36+E36)/3)
A37: 33 | H37: =IF(COUNTA(D37:G37)=0, "", ((F37+G37)/2+D37+E37)/3)
A38: 34 | H38: =IF(COUNTA(D38:G38)=0, "", ((F38+G38)/2+D38+E38)/3)
A39: 35 | H39: =IF(COUNTA(D39:G39)=0, "", ((F39+G39)/2+D39+E39)/3)
A40: 36 | H40: =IF(COUNTA(D40:G40)=0, "", ((F40+G40)/2+D40+E40)/3)
A41: 37 | H41: =IF(COUNTA(D41:G41)=0, "", ((F41+G41)/2+D41+E41)/3)
A42: 38 | H42: =IF(COUNTA(D42:G42)=0, "", ((F42+G42)/2+D42+E42)/3)
... A54: 50 | H54: =IF(COUNTA(D54:G54)=0, "", ((F54+G54)/2+D54+E54)/3)
E56: Hasan YILDIZ

Sheet DPA+GÖZLEM
D1: ='SINIF LİSTESİ'!C2 -> ………………………………...…………………………………….…… ORTAOKULU
A2: ='SINIF LİSTESİ'!C3 -> 7/A | D2: ÜNİTE ÖĞRENME ÇIKTILARI - PERFORMANS GÖREVLERİ VE TASARIM ÜRÜNLERİ İÇİN DERECELİ PUANLAMA VE GÖZLEM DEĞERLENDİRME NOTLARI | BS2: 1
A3: Üniteler için DPA Kriterleri: 0 Gözlenmedi, 1 Zayıf, 2 geliştirilebilir, 3 Orta, 4 İyi, 5 Pekiyi | D3: 1. Teknoloji ve Tasarım Öğreniyorum | H3: 2. Temel Tasarım | N3: 3. Tasarım Odaklı Süreç | X3: 4. Bilgisayar Destekli Tasarım | AH3: 5. Mimari Tasarım | AR3: 1. DERS İÇİ ETKİNLİKLERE KATILIM ÖĞRENCİ GÖZLEM FORMU | BB3: 2. DERS İÇİ ETKİNLİKLERE KATILIM ÜRÜN DOSYASI DEĞERLENDİRME | BL3: 1,2,3. Ünite Süreç-Görev-Ürün DERECELİ PUANLAMA NOTU (1. Sınav) | BM3: 4,5. Ünite Süreç-Görev-Ürün DERECELİ PUANLAMA NOTU (2. Sınav) | BN3: 1. DERS İÇİ ETKİNLİKLERE KATILIM | BO3: 2. DERS İÇİ ETKİNLİKLERE KATILIM | BP3: 1. DÖNEM NOTU | BR3: Notları yeniden dağıtmak için; 1---10 kadar yaz. Enter'e bas.
D4: Teknoloji ve tasarım kavramlarını doğru tanımlar, günlük örneklerle açıklar. | E4: Ürün üzerinde teknoloji ve tasarım parçaları arasındaki ilişkiyi belirler. | F4: Teknoloji ve tasarım ürünlerinin benzerlik ve farklılıklarını karşılaştırır. | G4: Belirlediği ölçütlere göre ürünü değerlendirir, gerekçeli yargıda bulunur. | H4: Ürün veya eser üzerinde sanat-tasarım eleman ve ilkelerini gözlemler. | I4: Sanat-tasarım eleman ve ilkelerini karşılaştırır, benzerlik ve farkı belirler. | J4: Bir ürünü veya eseri bağlamından koparmadan kendi ifadeleriyle yeniden yorumlar. | K4: Birbirini andıran iki unsuru ilişkilendirerek analoji yapar, taslağa yansıtır. | L4: Eleman ve ilkeleri kullanarak taslak oluşturur, özgün ürüne dönüştürür. | M4: Tasarım kararlarını amaç ve estetik gerekçesiyle açıklar. | N4: Tasarım probleminin değişkenlerini ve ölçütlerini belirler. | O4: Problemi oluşturan unsurları ayrıştırır, problemi açıkça tanımlar. | P4: Ürünü ergonomi, işlevsellik, estetik ve sürdürülebilirlik açısından analiz eder. | Q4: Araştırma sonuçlarını düzenli bir rapor hâlinde sunar. | R4: Beyin fırtınası, balık kılçığı gibi fikir geliştirme yöntemlerini uygular. | S4: Tasarım sürecinin basamaklarını sınıflandırır ve etiketler. | T4: Tasarım döngüsünü bilgilendirme tasarımı veya akış diyagramıyla gösterir. | U4: Probleme uygun, iyileştirilmiş tasarım önerisini eskizle sunar. | V4: Geri dönüşüm ve sürdürülebilirliği tasarım tercihlerine yansıtır. | W4: Çalışmasının güçlü ve geliştirilmesi gereken yönlerini ifade eder. | X4: Günlük hayattaki tasarım problemini tanımlar, çözüm için taslak çizer. | Y4: Çözüm önerisini kâğıt üzerinde iki boyutlu çizimle görselleştirir. | Z4: Çözüm önerisini üç boyutlu eskizle görselleştirir. | AA4: Tasarım programının menü ve araçlarını doğru kullanır. | AB4: Taslağını tasarım programıyla iki veya üç boyutlu ürüne dönüştürür. | AC4: Işık, doku ve malzeme özelliklerini üç boyutlu çizime uygular. | AD4: Sunumda kullanacağı ses, video ve fotoğraf gibi materyalleri planlar. | AE4: Çoklu ortam sunusunu plana uygun, anlaşılır ve düzenli tasarlar. | AF4: Ürününü çoklu ortam sunusuyla sınıfta etkili biçimde sunar. | AG4: Sunumunu planlama, tasarım ve uygulama açısından değerlendirir. | AH4: Birden fazla mekânı gözlemler, niteliklerini belirler. | AI4: Mekânların benzerliklerinden çıkarım yaparak mekânsal analoji kurar. | AJ4: Mimari yapıları işlevsel farklılıklarına göre karşılaştırır. | AK4: İşlevin yapısal farklılıklara yol açtığını örneklerle açıklar. | AL4: İklim ve coğrafyaya uygun, yaşamak istediği konutun taslağını çizer. | AM4: Tasarımında yerel ve doğal malzemeleri sürdürülebilir biçimde kullanır. | AN4: Taslağını çizim veya maket yoluyla ürüne dönüştürür. | AO4: Akran dönütlerine göre tasarımını düzeltir ve geliştirir. | AP4: Tasarımını tanıtmak için uygun materyali planlar ve hazırlar. | AQ4: Tanıtım sunusunu uygular, öz ve akran değerlendirmesiyle değerlendirir. | AR4: Derse araç-gereç ve defteriyle hazırlıklı gelir. | AS4: Etkinlikler boyunca dikkatini toplar ve derse aktif katılır. | AT4: Sorular sorar, merak ettiği konuları sorgular. | AU4: İş sağlığı ve güvenliği kurallarına uyar. | AV4: Araç-gereci doğru ve tasarruflu kullanır; çalışma ortamını temiz bırakır. | AW4: Grup çalışmasında görev alır, iş birliği yapar. | AX4: Dinler, fikirlere saygı duyar, kendi fikrini açıkça ifade eder. | AY4: Güvenilir kaynaklardan araştırma yapar, bilgiyi kaydeder. | AZ4: Geri bildirimleri dikkate alır, çalışmasını geliştirir. | BA4: Görevini zamanında tamamlar; çaba ve azim gösterir. | BB4: Dosyada kapak, içindekiler, tarih ve sayfa sırası düzenlidir. | BC4: Ü1 kavram haritası ve karşılaştırma tablosu doğru ve eksiksizdir. | BD4: Ü1 kompozisyonu ve ölçütlerle yaptığı ürün değerlendirmesi dosyadadır. | BE4: Ü2 taslak, tasarım kararları ve özgün ürün görseli dosyadadır. | BF4: Ü3 ürün analizi raporu ve iyileştirilmiş tasarım eskizi eksiksizdir. | BG4: Ü3 tasarım süreci diyagramı veya bilgilendirme tasarımı dosyadadır. | BH4: Ü4 iki ve üç boyutlu çizimlerinin çıktıları dosyadadır. | BI4: Ü4 çoklu ortam sunusu ve sunum planı dosyadadır. | BJ4: Ü5 konut taslağı, çizim/maket görseli ve tanıtım materyali dosyadadır. | BK4: Öz ve akran değerlendirme formları doldurulmuş, dosyada yer alır.
A5: Sıra No | B5: Okul No | C5: 2026-2027 Eğitim Öğretim Yılı 1. DÖNEM TEKNOLOJİ VE TASARIM DERSİ
C6: ADI SOYADI | Puan >> | D6: 5 | E6: 5 | F6: 5 | G6: 5 | H6: 5 | I6: 5 | J6: 5 | K6: 5 | L6: 5 | M6: 5 | N6: 5 | O6: 5 | P6: 5 | Q6: 5 | R6: 5 | S6: 5 | T6: 5 | U6: 5 | V6: 5 | W6: 5 | X6: 5 | Y6: 5 | Z6: 5 | AA6: 5 | AB6: 5 | AC6: 5 | AD6: 5 | AE6: 5 | AF6: 5 | AG6: 5 | AH6: 5 | AI6: 5 | AJ6: 5 | AK6: 5 | AL6: 5 | AM6: 5 | AN6: 5 | AO6: 5 | AP6: 5 | AQ6: 5 | AR6: 10 | AS6: 10 | AT6: 10 | AU6: 10 | AV6: 10 | AW6: 10 | AX6: 10 | AY6: 10 | AZ6: 10 | BA6: 10 | BB6: 10 | BC6: 10 | BD6: 10 | BE6: 10 | BF6: 10 | BG6: 10 | BH6: 10 | BI6: 10 | BJ6: 10 | BK6: 10 | BL6: 100 | BM6: 100 | BN6: 100 | BO6: 100 | BP6: 100
A7: ='SINIF LİSTESİ'!A5 -> 1 | B7: =IF('SINIF LİSTESİ'!B5="", "", 'SINIF LİSTESİ'!B5) -> 9876 | C7: =IF('SINIF LİSTESİ'!C5="", "", 'SINIF LİSTESİ'!C5) -> Merve ÖZTUNÇ | D7: =IF($BL7="","",MAX(MAX(MAX(IF(MIN(ROUND($BL7,0),SUM($D$6:$W$6))>=50,2,IF(MIN(ROUND($BL7,0),SUM($D$6:$W$6))>=20,1,0)),MIN(MIN($D$6:$W$6)-2,ROUND(MIN(ROUND($BL7,0),SUM($D$6:$W$6))/20,0)-1)),MIN(ROUND($BL7,0),SUM($D$6:$W$6))-19*(MAX(IF(MIN(ROUND($BL7,0),SUM($D$6:$W$6))>=50,2,IF(MIN(ROUND($BL7,0),SUM($D$6:$W$6))>=20,1,0)),MIN(MIN($D$6:$W$6)-2,ROUND(MIN(ROUND($BL7,0),SUM($D$6:$W$6))/20,0)-1))+2)),MIN(MIN(MAX(IF(MIN(ROUND($BL7,0),SUM($D$6:$W$6))>=50,2,IF(MIN(ROUND($BL7,0),SUM($D$6:$W$6))>=20,1,0)),MIN(MIN($D$6:$W$6)-2,ROUND(MIN(ROUND($BL7,0),SUM($D$6:$W$6))/20,0)-1))+2,MIN(ROUND($BL7,0),SUM($D$6:$W$6))-19*MAX(IF(MIN(ROUND($BL7,0),SUM($D$6:$W$6))>=50,2,IF(MIN(ROUND($BL7,0),SUM($D$6:$W$6))>=20,1,0)),MIN(MIN($D$6:$W$6)-2,ROUND(MIN(ROUND($BL7,0),SUM($D$6:$W$6))/20,0)-1))),ROUND(MIN(ROUND($BL7,0),SUM($D$6:$W$6))/20+(MOD(SIN($BS$2*7919+ROW()*12.9898+COLUMN()*78.233)*43758.5453,1)-0.5)*2.4,0)))) -> 4 | E7: =IF($BL7="","",MAX(MAX(MAX(IF(MIN(ROUND($BL7,0),SUM($D$6:$W$6))>=50,2,IF(MIN(ROUND($BL7,0),SUM($D$6:$W$6))>=20,1,0)),MIN(MIN($D$6:$W$6)-2,ROUND(MIN(ROUND($BL7,0),SUM($D$6:$W$6))/20,0)-1)),(MIN(ROUND($BL7,0),SUM($D$6:$W$6))-SUM($D7:D7))-18*(MAX(IF(MIN(ROUND($BL7,0),SUM($D$6:$W$6))>=50,2,IF(MIN(ROUND($BL7,0),SUM($D$6:$W$6))>=20,1,0)),MIN(MIN($D$6:$W$6)-2,ROUND(MIN(ROUND($BL7,0),SUM($D$6:$W$6))/20,0)-1))+2)),MIN(MIN(MAX(IF(MIN(ROUND($BL7,0),SUM($D$6:$W$6))>=50,2,IF(MIN(ROUND($BL7,0),SUM($D$6:$W$6))>=20,1,0)),MIN(MIN($D$6:$W$6)-2,ROUND(MIN(ROUND($BL7,0),SUM($D$6:$W$6))/20,0)-1))+2,(MIN(ROUND($BL7,0),SUM($D$6:$W$6))-SUM($D7:D7))-18*MAX(IF(MIN(ROUND($BL7,0),SUM($D$6:$W$6))>=50,2,IF(MIN(ROUND($BL7,0),SUM($D$6:$W$6))>=20,1,0)),MIN(MIN($D$6:$W$6)-2,ROUND(MIN(ROUND($BL7,0),SUM($D$6:$W$6))/20,0)-1))),ROUND((MIN(ROUND($BL7,0),SUM($D$6:$W$6))-SUM($D7:D7))/19+(MOD(SIN($BS$2*7919+ROW()*12.9898+COLUMN()*78.233)*43758.5453,1)-0.5)*2.4,0)))) -> 3 | F7: =IF($BL7="","",MAX(MAX(MAX(IF(MIN(ROUND($BL7,0),SUM($D$6:$W$6))>=50,2,IF(MIN(ROUND($BL7,0),SUM($D$6:$W$6))>=20,1,0)),MIN(MIN($D$6:$W$6)-2,ROUND(MIN(ROUND($BL7,0),SUM($D$6:$W$6))/20,0)-1)),(MIN(ROUND($BL7,0),SUM($D$6:$W$6))-SUM($D7:E7))-17*(MAX(IF(MIN(ROUND($BL7,0),SUM($D$6:$W$6))>=50,2,IF(MIN(ROUND($BL7,0),SUM($D$6:$W$6))>=20,1,0)),MIN(MIN($D$6:$W$6)-2,ROUND(MIN(ROUND($BL7,0),SUM($D$6:$W$6))/20,0)-1))+2)),MIN(MIN(MAX(IF(MIN(ROUND($BL7,0),SUM($D$6:$W$6))>=50,2,IF(MIN(ROUND($BL7,0),SUM($D$6:$W$6))>=20,1,0)),MIN(MIN($D$6:$W$6)-2,ROUND(MIN(ROUND($BL7,0),SUM($D$6:$W$6))/20,0)-1))+2,(MIN(ROUND($BL7,0),SUM($D$6:$W$6))-SUM($D7:E7))-17*MAX(IF(MIN(ROUND($BL7,0),SUM($D$6:$W$6))>=50,2,IF(MIN(ROUND($BL7,0),SUM($D$6:$W$6))>=20,1,0)),MIN(MIN($D$6:$W$6)-2,ROUND(MIN(ROUND($BL7,0),SUM($D$6:$W$6))/20,0)-1))),ROUND((MIN(ROUND($BL7,0),SUM($D$6:$W$6))-SUM($D7:E7))/18+(MOD(SIN($BS$2*7919+ROW()*12.9898+COLUMN()*78.233)*43758.5453,1)-0.5)*2.4,0)))) -> 4 | G7: =IF($BL7="","",MAX(MAX(MAX(IF(MIN(ROUND($BL7,0),SUM($D$6:$W$6))>=50,2,IF(MIN(ROUND($BL7,0),SUM($D$6:$W$6))>=20,1,0)),MIN(MIN($D$6:$W$6)-2,ROUND(MIN(ROUND($BL7,0),SUM($D$6:$W$6))/20,0)-1)),(MIN(ROUND($BL7,0),SUM($D$6:$W$6))-SUM($D7:F7))-16*(MAX(IF(MIN(ROUND($BL7,0),SUM($D$6:$W$6))>=50,2,IF(MIN(ROUND($BL7,0),SUM($D$6:$W$6))>=20,1,0)),MIN(MIN($D$6:$W$6)-2,ROUND(MIN(ROUND($BL7,0),SUM($D$6:$W$6))/20,0)-1))+2)),MIN(MIN(MAX(IF(MIN(ROUND($BL7,0),SUM($D$6:$W$6))>=50,2,IF(MIN(ROUND($BL7,0),SUM($D$6:$W$6))>=20,1,0)),MIN(MIN($D$6:$W$6)-2,ROUND(MIN(ROUND($BL7,0),SUM($D$6:$W$6))/20,0)-1))+2,(MIN(ROUND($BL7,0),SUM($D$6:$W$6))-SUM($D7:F7))-16*MAX(IF(MIN(ROUND($BL7,0),SUM($D$6:$W$6))>=50,2,IF(MIN(ROUND($BL7,0),SUM($D$6:$W$6))>=20,1,0)),MIN(MIN($D$6:$W$6)-2,ROUND(MIN(ROUND($BL7,0),SUM($D$6:$W$6))/20,0)-1))),ROUND((MIN(ROUND($BL7,0),SUM($D$6:$W$6))-SUM($D7:F7))/17+(MOD(SIN($BS$2*7919+ROW()*12.9898+COLUMN()*78.233)*43758.5453,1)-0.5)*2.4,0)))) -> 3 | H7: =IF($BL7="","",MAX(MAX(MAX(IF(MIN(ROUND($BL7,0),SUM($D$6:$W$6))>=50,2,IF(MIN(ROUND($BL7,0),SUM($D$6:$W$6))>=20,1,0)),MIN(MIN($D$6:$W$6)-2,ROUND(MIN(ROUND($BL7,0),SUM($D$6:$W$6))/20,0)-1)),(MIN(ROUND($BL7,0),SUM($D$6:$W$6))-SUM($D7:G7))-15*(MAX(IF(MIN(ROUND($BL7,0),SUM($D$6:$W$6))>=50,2,IF(MIN(ROUND($BL7,0),SUM($D$6:$W$6))>=20,1,0)),MIN(MIN($D$6:$W$6)-2,ROUND(MIN(ROUND($BL7,0),SUM($D$6:$W$6))/20,0)-1))+2)),MIN(MIN(MAX(IF(MIN(ROUND($BL7,0),SUM($D$6:$W$6))>=50,2,IF(MIN(ROUND($BL7,0),SUM($D$6:$W$6))>=20,1,0)),MIN(MIN($D$6:$W$6)-2,ROUND(MIN(ROUND($BL7,0),SUM($D$6:$W$6))/20,0)-1))+2,(MIN(ROUND($BL7,0),SUM($D$6:$W$6))-SUM($D7:G7))-15*MAX(IF(MIN(ROUND($BL7,0),SUM($D$6:$W$6))>=50,2,IF(MIN(ROUND($BL7,0),SUM($D$6:$W$6))>=20,1,0)),MIN(MIN($D$6:$W$6)-2,ROUND(MIN(ROUND($BL7,0),SUM($D$6:$W$6))/20,0)-1))),ROUND((MIN(ROUND($BL7,0),SUM($D$6:$W$6))-SUM($D7:G7))/16+(MOD(SIN($BS$2*7919+ROW()*12.9898+COLUMN()*78.233)*43758.5453,1)-0.5)*2.4,0)))) -> 3 | I7: =IF($BL7="","",MAX(MAX(MAX(IF(MIN(ROUND($BL7,0),SUM($D$6:$W$6))>=50,2,IF(MIN(ROUND($BL7,0),SUM($D$6:$W$6))>=20,1,0)),MIN(MIN($D$6:$W$6)-2,ROUND(MIN(ROUND($BL7,0),SUM($D$6:$W$6))/20,0)-1)),(MIN(ROUND($BL7,0),SUM($D$6:$W$6))-SUM($D7:H7))-14*(MAX(IF(MIN(ROUND($BL7,0),SUM($D$6:$W$6))>=50,2,IF(MIN(ROUND($BL7,0),SUM($D$6:$W$6))>=20,1,0)),MIN(MIN($D$6:$W$6)-2,ROUND(MIN(ROUND($BL7,0),SUM($D$6:$W$6))/20,0)-1))+2)),MIN(MIN(MAX(IF(MIN(ROUND($BL7,0),SUM($D$6:$W$6))>=50,2,IF(MIN(ROUND($BL7,0),SUM($D$6:$W$6))>=20,1,0)),MIN(MIN($D$6:$W$6)-2,ROUND(MIN(ROUND($BL7,0),SUM($D$6:$W$6))/20,0)-1))+2,(MIN(ROUND($BL7,0),SUM($D$6:$W$6))-SUM($D7:H7))-14*MAX(IF(MIN(ROUND($BL7,0),SUM($D$6:$W$6))>=50,2,IF(MIN(ROUND($BL7,0),SUM($D$6:$W$6))>=20,1,0)),MIN(MIN($D$6:$W$6)-2,ROUND(MIN(ROUND($BL7,0),SUM($D$6:$W$6))/20,0)-1))),ROUND((MIN(ROUND($BL7,0),SUM($D$6:$W$6))-SUM($D7:H7))/15+(MOD(SIN($BS$2*7919+ROW()*12.9898+COLUMN()*78.233)*43758.5453,1)-0.5)*2.4,0)))) -> 3 | J7: =IF($BL7="","",MAX(MAX(MAX(IF(MIN(ROUND($BL7,0),SUM($D$6:$W$6))>=50,2,IF(MIN(ROUND($BL7,0),SUM($D$6:$W$6))>=20,1,0)),MIN(MIN($D$6:$W$6)-2,ROUND(MIN(ROUND($BL7,0),SUM($D$6:$W$6))/20,0)-1)),(MIN(ROUND($BL7,0),SUM($D$6:$W$6))-SUM($D7:I7))-13*(MAX(IF(MIN(ROUND($BL7,0),SUM($D$6:$W$6))>=50,2,IF(MIN(ROUND($BL7,0),SUM($D$6:$W$6))>=20,1,0)),MIN(MIN($D$6:$W$6)-2,ROUND(MIN(ROUND($BL7,0),SUM($D$6:$W$6))/20,0)-1))+2)),MIN(MIN(MAX(IF(MIN(ROUND($BL7,0),SUM($D$6:$W$6))>=50,2,IF(MIN(ROUND($BL7,0),SUM($D$6:$W$6))>=20,1,0)),MIN(MIN($D$6:$W$6)-2,ROUND(MIN(ROUND($BL7,0),SUM($D$6:$W$6))/20,0)-1))+2,(MIN(ROUND($BL7,0),SUM($D$6:$W$6))-SUM($D7:I7))-13*MAX(IF(MIN(ROUND($BL7,0),SUM($D$6:$W$6))>=50,2,IF(MIN(ROUND($BL7,0),SUM($D$6:$W$6))>=20,1,0)),MIN(MIN($D$6:$W$6)-2,ROUND(MIN(ROUND($BL7,0),SUM($D$6:$W$6))/20,0)-1))),ROUND((MIN(ROUND($BL7,0),SUM($D$6:$W$6))-SUM($D7:I7))/14+(MOD(SIN($BS$2*7919+ROW()*12.9898+COLUMN()*78.233)*43758.5453,1)-0.5)*2.4,0)))) -> 4 | K7: =IF($BL7="","",MAX(MAX(MAX(IF(MIN(ROUND($BL7,0),SUM($D$6:$W$6))>=50,2,IF(MIN(ROUND($BL7,0),SUM($D$6:$W$6))>=20,1,0)),MIN(MIN($D$6:$W$6)-2,ROUND(MIN(ROUND($BL7,0),SUM($D$6:$W$6))/20,0)-1)),(MIN(ROUND($BL7,0),SUM($D$6:$W$6))-SUM($D7:J7))-12*(MAX(IF(MIN(ROUND($BL7,0),SUM($D$6:$W$6))>=50,2,IF(MIN(ROUND($BL7,0),SUM($D$6:$W$6))>=20,1,0)),MIN(MIN($D$6:$W$6)-2,ROUND(MIN(ROUND($BL7,0),SUM($D$6:$W$6))/20,0)-1))+2)),MIN(MIN(MAX(IF(MIN(ROUND($BL7,0),SUM($D$6:$W$6))>=50,2,IF(MIN(ROUND($BL7,0),SUM($D$6:$W$6))>=20,1,0)),MIN(MIN($D$6:$W$6)-2,ROUND(MIN(ROUND($BL7,0),SUM($D$6:$W$6))/20,0)-1))+2,(MIN(ROUND($BL7,0),SUM($D$6:$W$6))-SUM($D7:J7))-12*MAX(IF(MIN(ROUND($BL7,0),SUM($D$6:$W$6))>=50,2,IF(MIN(ROUND($BL7,0),SUM($D$6:$W$6))>=20,1,0)),MIN(MIN($D$6:$W$6)-2,ROUND(MIN(ROUND($BL7,0),SUM($D$6:$W$6))/20,0)-1))),ROUND((MIN(ROUND($BL7,0),SUM($D$6:$W$6))-SUM($D7:J7))/13+(MOD(SIN($BS$2*7919+ROW()*12.9898+COLUMN()*78.233)*43758.5453,1)-0.5)*2.4,0)))) -> 3 | L7: =IF($BL7="","",MAX(MAX(MAX(IF(MIN(ROUND($BL7,0),SUM($D$6:$W$6))>=50,2,IF(MIN(ROUND($BL7,0),SUM($D$6:$W$6))>=20,1,0)),MIN(MIN($D$6:$W$6)-2,ROUND(MIN(ROUND($BL7,0),SUM($D$6:$W$6))/20,0)-1)),(MIN(ROUND($BL7,0),SUM($D$6:$W$6))-SUM($D7:K7))-11*(MAX(IF(MIN(ROUND($BL7,0),SUM($D$6:$W$6))>=50,2,IF(MIN(ROUND($BL7,0),SUM($D$6:$W$6))>=20,1,0)),MIN(MIN($D$6:$W$6)-2,ROUND(MIN(ROUND($BL7,0),SUM($D$6:$W$6))/20,0)-1))+2)),MIN(MIN(MAX(IF(MIN(ROUND($BL7,0),SUM($D$6:$W$6))>=50,2,IF(MIN(ROUND($BL7,0),SUM($D$6:$W$6))>=20,1,0)),MIN(MIN($D$6:$W$6)-2,ROUND(MIN(ROUND($BL7,0),SUM($D$6:$W$6))/20,0)-1))+2,(MIN(ROUND($BL7,0),SUM($D$6:$W$6))-SUM($D7:K7))-11*MAX(IF(MIN(ROUND($BL7,0),SUM($D$6:$W$6))>=50,2,IF(MIN(ROUND($BL7,0),SUM($D$6:$W$6))>=20,1,0)),MIN(MIN($D$6:$W$6)-2,ROUND(MIN(ROUND($BL7,0),SUM($D$6:$W$6))/20,0)-1))),ROUND((MIN(ROUND($BL7,0),SUM($D$6:$W$6))-SUM($D7:K7))/12+(MOD(SIN($BS$2*7919+ROW()*12.9898+COLUMN()*78.233)*43758.5453,1)-0.5)*2.4,0)))) -> 4 | M7: =IF($BL7="","",MAX(MAX(MAX(IF(MIN(ROUND($BL7,0),SUM($D$6:$W$6))>=50,2,IF(MIN(ROUND($BL7,0),SUM($D$6:$W$6))>=20,1,0)),MIN(MIN($D$6:$W$6)-2,ROUND(MIN(ROUND($BL7,0),SUM($D$6:$W$6))/20,0)-1)),(MIN(ROUND($BL7,0),SUM($D$6:$W$6))-SUM($D7:L7))-10*(MAX(IF(MIN(ROUND($BL7,0),SUM($D$6:$W$6))>=50,2,IF(MIN(ROUND($BL7,0),SUM($D$6:$W$6))>=20,1,0)),MIN(MIN($D$6:$W$6)-2,ROUND(MIN(ROUND($BL7,0),SUM($D$6:$W$6))/20,0)-1))+2)),MIN(MIN(MAX(IF(MIN(ROUND($BL7,0),SUM($D$6:$W$6))>=50,2,IF(MIN(ROUND($BL7,0),SUM($D$6:$W$6))>=20,1,0)),MIN(MIN($D$6:$W$6)-2,ROUND(MIN(ROUND($BL7,0),SUM($D$6:$W$6))/20,0)-1))+2,(MIN(ROUND($BL7,0),SUM($D$6:$W$6))-SUM($D7:L7))-10*MAX(IF(MIN(ROUND($BL7,0),SUM($D$6:$W$6))>=50,2,IF(MIN(ROUND($BL7,0),SUM($D$6:$W$6))>=20,1,0)),MIN(MIN($D$6:$W$6)-2,ROUND(MIN(ROUND($BL7,0),SUM($D$6:$W$6))/20,0)-1))),ROUND((MIN(ROUND($BL7,0),SUM($D$6:$W$6))-SUM($D7:L7))/11+(MOD(SIN($BS$2*7919+ROW()*12.9898+COLUMN()*78.233)*43758.5453,1)-0.5)*2.4,0)))) -> 4 | N7: =IF($BL7="","",MAX(MAX(MAX(IF(MIN(ROUND($BL7,0),SUM($D$6:$W$6))>=50,2,IF(MIN(ROUND($BL7,0),SUM($D$6:$W$6))>=20,1,0)),MIN(MIN($D$6:$W$6)-2,ROUND(MIN(ROUND($BL7,0),SUM($D$6:$W$6))/20,0)-1)),(MIN(ROUND($BL7,0),SUM($D$6:$W$6))-SUM($D7:M7))-9*(MAX(IF(MIN(ROUND($BL7,0),SUM($D$6:$W$6))>=50,2,IF(MIN(ROUND($BL7,0),SUM($D$6:$W$6))>=20,1,0)),MIN(MIN($D$6:$W$6)-2,ROUND(MIN(ROUND($BL7,0),SUM($D$6:$W$6))/20,0)-1))+2)),MIN(MIN(MAX(IF(MIN(ROUND($BL7,0),SUM($D$6:$W$6))>=50,2,IF(MIN(ROUND($BL7,0),SUM($D$6:$W$6))>=20,1,0)),MIN(MIN($D$6:$W$6)-2,ROUND(MIN(ROUND($BL7,0),SUM($D$6:$W$6))/20,0)-1))+2,(MIN(ROUND($BL7,0),SUM($D$6:$W$6))-SUM($D7:M7))-9*MAX(IF(MIN(ROUND($BL7,0),SUM($D$6:$W$6))>=50,2,IF(MIN(ROUND($BL7,0),SUM($D$6:$W$6))>=20,1,0)),MIN(MIN($D$6:$W$6)-2,ROUND(MIN(ROUND($BL7,0),SUM($D$6:$W$6))/20,0)-1))),ROUND((MIN(ROUND($BL7,0),SUM($D$6:$W$6))-SUM($D7:M7))/10+(MOD(SIN($BS$2*7919+ROW()*12.9898+COLUMN()*78.233)*43758.5453,1)-0.5)*2.4,0)))) -> 4 | O7: =IF($BL7="","",MAX(MAX(MAX(IF(MIN(ROUND($BL7,0),SUM($D$6:$W$6))>=50,2,IF(MIN(ROUND($BL7,0),SUM($D$6:$W$6))>=20,1,0)),MIN(MIN($D$6:$W$6)-2,ROUND(MIN(ROUND($BL7,0),SUM($D$6:$W$6))/20,0)-1)),(MIN(ROUND($BL7,0),SUM($D$6:$W$6))-SUM($D7:N7))-8*(MAX(IF(MIN(ROUND($BL7,0),SUM($D$6:$W$6))>=50,2,IF(MIN(ROUND($BL7,0),SUM($D$6:$W$6))>=20,1,0)),MIN(MIN($D$6:$W$6)-2,ROUND(MIN(ROUND($BL7,0),SUM($D$6:$W$6))/20,0)-1))+2)),MIN(MIN(MAX(IF(MIN(ROUND($BL7,0),SUM($D$6:$W$6))>=50,2,IF(MIN(ROUND($BL7,0),SUM($D$6:$W$6))>=20,1,0)),MIN(MIN($D$6:$W$6)-2,ROUND(MIN(ROUND($BL7,0),SUM($D$6:$W$6))/20,0)-1))+2,(MIN(ROUND($BL7,0),SUM($D$6:$W$6))-SUM($D7:N7))-8*MAX(IF(MIN(ROUND($BL7,0),SUM($D$6:$W$6))>=50,2,IF(MIN(ROUND($BL7,0),SUM($D$6:$W$6))>=20,1,0)),MIN(MIN($D$6:$W$6)-2,ROUND(MIN(ROUND($BL7,0),SUM($D$6:$W$6))/20,0)-1))),ROUND((MIN(ROUND($BL7,0),SUM($D$6:$W$6))-SUM($D7:N7))/9+(MOD(SIN($BS$2*7919+ROW()*12.9898+COLUMN()*78.233)*43758.5453,1)-0.5)*2.4,0)))) -> 3 | P7: =IF($BL7="","",MAX(MAX(MAX(IF(MIN(ROUND($BL7,0),SUM($D$6:$W$6))>=50,2,IF(MIN(ROUND($BL7,0),SUM($D$6:$W$6))>=20,1,0)),MIN(MIN($D$6:$W$6)-2,ROUND(MIN(ROUND($BL7,0),SUM($D$6:$W$6))/20,0)-1)),(MIN(ROUND($BL7,0),SUM($D$6:$W$6))-SUM($D7:O7))-7*(MAX(IF(MIN(ROUND($BL7,0),SUM($D$6:$W$6))>=50,2,IF(MIN(ROUND($BL7,0),SUM($D$6:$W$6))>=20,1,0)),MIN(MIN($D$6:$W$6)-2,ROUND(MIN(ROUND($BL7,0),SUM($D$6:$W$6))/20,0)-1))+2)),MIN(MIN(MAX(IF(MIN(ROUND($BL7,0),SUM($D$6:$W$6))>=50,2,IF(MIN(ROUND($BL7,0),SUM($D$6:$W$6))>=20,1,0)),MIN(MIN($D$6:$W$6)-2,ROUND(MIN(ROUND($BL7,0),SUM($D$6:$W$6))/20,0)-1))+2,(MIN(ROUND($BL7,0),SUM($D$6:$W$6))-SUM($D7:O7))-7*MAX(IF(MIN(ROUND($BL7,0),SUM($D$6:$W$6))>=50,2,IF(MIN(ROUND($BL7,0),SUM($D$6:$W$6))>=20,1,0)),MIN(MIN($D$6:$W$6)-2,ROUND(MIN(ROUND($BL7,0),SUM($D$6:$W$6))/20,0)-1))),ROUND((MIN(ROUND($BL7,0),SUM($D$6:$W$6))-SUM($D7:O7))/8+(MOD(SIN($BS$2*7919+ROW()*12.9898+COLUMN()*78.233)*43758.5453,1)-0.5)*2.4,0)))) -> 3 | Q7: =IF($BL7="","",MAX(MAX(MAX(IF(MIN(ROUND($BL7,0),SUM($D$6:$W$6))>=50,2,IF(MIN(ROUND($BL7,0),SUM($D$6:$W$6))>=20,1,0)),MIN(MIN($D$6:$W$6)-2,ROUND(MIN(ROUND($BL7,0),SUM($D$6:$W$6))/20,0)-1)),(MIN(ROUND($BL7,0),SUM($D$6:$W$6))-SUM($D7:P7))-6*(MAX(IF(MIN(ROUND($BL7,0),SUM($D$6:$W$6))>=50,2,IF(MIN(ROUND($BL7,0),SUM($D$6:$W$6))>=20,1,0)),MIN(MIN($D$6:$W$6)-2,ROUND(MIN(ROUND($BL7,0),SUM($D$6:$W$6))/20,0)-1))+2)),MIN(MIN(MAX(IF(MIN(ROUND($BL7,0),SUM($D$6:$W$6))>=50,2,IF(MIN(ROUND($BL7,0),SUM($D$6:$W$6))>=20,1,0)),MIN(MIN($D$6:$W$6)-2,ROUND(MIN(ROUND($BL7,0),SUM($D$6:$W$6))/20,0)-1))+2,(MIN(ROUND($BL7,0),SUM($D$6:$W$6))-SUM($D7:P7))-6*MAX(IF(MIN(ROUND($BL7,0),SUM($D$6:$W$6))>=50,2,IF(MIN(ROUND($BL7,0),SUM($D$6:$W$6))>=20,1,0)),MIN(MIN($D$6:$W$6)-2,ROUND(MIN(ROUND($BL7,0),SUM($D$6:$W$6))/20,0)-1))),ROUND((MIN(ROUND($BL7,0),SUM($D$6:$W$6))-SUM($D7:P7))/7+(MOD(SIN($BS$2*7919+ROW()*12.9898+COLUMN()*78.233)*43758.5453,1)-0.5)*2.4,0)))) -> 5 | R7: =IF($BL7="","",MAX(MAX(MAX(IF(MIN(ROUND($BL7,0),SUM($D$6:$W$6))>=50,2,IF(MIN(ROUND($BL7,0),SUM($D$6:$W$6))>=20,1,0)),MIN(MIN($D$6:$W$6)-2,ROUND(MIN(ROUND($BL7,0),SUM($D$6:$W$6))/20,0)-1)),(MIN(ROUND($BL7,0),SUM($D$6:$W$6))-SUM($D7:Q7))-5*(MAX(IF(MIN(ROUND($BL7,0),SUM($D$6:$W$6))>=50,2,IF(MIN(ROUND($BL7,0),SUM($D$6:$W$6))>=20,1,0)),MIN(MIN($D$6:$W$6)-2,ROUND(MIN(ROUND($BL7,0),SUM($D$6:$W$6))/20,0)-1))+2)),MIN(MIN(MAX(IF(MIN(ROUND($BL7,0),SUM($D$6:$W$6))>=50,2,IF(MIN(ROUND($BL7,0),SUM($D$6:$W$6))>=20,1,0)),MIN(MIN($D$6:$W$6)-2,ROUND(MIN(ROUND($BL7,0),SUM($D$6:$W$6))/20,0)-1))+2,(MIN(ROUND($BL7,0),SUM($D$6:$W$6))-SUM($D7:Q7))-5*MAX(IF(MIN(ROUND($BL7,0),SUM($D$6:$W$6))>=50,2,IF(MIN(ROUND($BL7,0),SUM($D$6:$W$6))>=20,1,0)),MIN(MIN($D$6:$W$6)-2,ROUND(MIN(ROUND($BL7,0),SUM($D$6:$W$6))/20,0)-1))),ROUND((MIN(ROUND($BL7,0),SUM($D$6:$W$6))-SUM($D7:Q7))/6+(MOD(SIN($BS$2*7919+ROW()*12.9898+COLUMN()*78.233)*43758.5453,1)-0.5)*2.4,0)))) -> 3 | S7: =IF($BL7="","",MAX(MAX(MAX(IF(MIN(ROUND($BL7,0),SUM($D$6:$W$6))>=50,2,IF(MIN(ROUND($BL7,0),SUM($D$6:$W$6))>=20,1,0)),MIN(MIN($D$6:$W$6)-2,ROUND(MIN(ROUND($BL7,0),SUM($D$6:$W$6))/20,0)-1)),(MIN(ROUND($BL7,0),SUM($D$6:$W$6))-SUM($D7:R7))-4*(MAX(IF(MIN(ROUND($BL7,0),SUM($D$6:$W$6))>=50,2,IF(MIN(ROUND($BL7,0),SUM($D$6:$W$6))>=20,1,0)),MIN(MIN($D$6:$W$6)-2,ROUND(MIN(ROUND($BL7,0),SUM($D$6:$W$6))/20,0)-1))+2)),MIN(MIN(MAX(IF(MIN(ROUND($BL7,0),SUM($D$6:$W$6))>=50,2,IF(MIN(ROUND($BL7,0),SUM($D$6:$W$6))>=20,1,0)),MIN(MIN($D$6:$W$6)-2,ROUND(MIN(ROUND($BL7,0),SUM($D$6:$W$6))/20,0)-1))+2,(MIN(ROUND($BL7,0),SUM($D$6:$W$6))-SUM($D7:R7))-4*MAX(IF(MIN(ROUND($BL7,0),SUM($D$6:$W$6))>=50,2,IF(MIN(ROUND($BL7,0),SUM($D$6:$W$6))>=20,1,0)),MIN(MIN($D$6:$W$6)-2,ROUND(MIN(ROUND($BL7,0),SUM($D$6:$W$6))/20,0)-1))),ROUND((MIN(ROUND($BL7,0),SUM($D$6:$W$6))-SUM($D7:R7))/5+(MOD(SIN($BS$2*7919+ROW()*12.9898+COLUMN()*78.233)*43758.5453,1)-0.5)*2.4,0)))) -> 4 | T7: =IF($BL7="","",MAX(MAX(MAX(IF(MIN(ROUND($BL7,0),SUM($D$6:$W$6))>=50,2,IF(MIN(ROUND($BL7,0),SUM($D$6:$W$6))>=20,1,0)),MIN(MIN($D$6:$W$6)-2,ROUND(MIN(ROUND($BL7,0),SUM($D$6:$W$6))/20,0)-1)),(MIN(ROUND($BL7,0),SUM($D$6:$W$6))-SUM($D7:S7))-3*(MAX(IF(MIN(ROUND($BL7,0),SUM($D$6:$W$6))>=50,2,IF(MIN(ROUND($BL7,0),SUM($D$6:$W$6))>=20,1,0)),MIN(MIN($D$6:$W$6)-2,ROUND(MIN(ROUND($BL7,0),SUM($D$6:$W$6))/20,0)-1))+2)),MIN(MIN(MAX(IF(MIN(ROUND($BL7,0),SUM($D$6:$W$6))>=50,2,IF(MIN(ROUND($BL7,0),SUM($D$6:$W$6))>=20,1,0)),MIN(MIN($D$6:$W$6)-2,ROUND(MIN(ROUND($BL7,0),SUM($D$6:$W$6))/20,0)-1))+2,(MIN(ROUND($BL7,0),SUM($D$6:$W$6))-SUM($D7:S7))-3*MAX(IF(MIN(ROUND($BL7,0),SUM($D$6:$W$6))>=50,2,IF(MIN(ROUND($BL7,0),SUM($D$6:$W$6))>=20,1,0)),MIN(MIN($D$6:$W$6)-2,ROUND(MIN(ROUND($BL7,0),SUM($D$6:$W$6))/20,0)-1))),ROUND((MIN(ROUND($BL7,0),SUM($D$6:$W$6))-SUM($D7:S7))/4+(MOD(SIN($BS$2*7919+ROW()*12.9898+COLUMN()*78.233)*43758.5453,1)-0.5)*2.4,0)))) -> 4 | U7: =IF($BL7="","",MAX(MAX(MAX(IF(MIN(ROUND($BL7,0),SUM($D$6:$W$6))>=50,2,IF(MIN(ROUND($BL7,0),SUM($D$6:$W$6))>=20,1,0)),MIN(MIN($D$6:$W$6)-2,ROUND(MIN(ROUND($BL7,0),SUM($D$6:$W$6))/20,0)-1)),(MIN(ROUND($BL7,0),SUM($D$6:$W$6))-SUM($D7:T7))-2*(MAX(IF(MIN(ROUND($BL7,0),SUM($D$6:$W$6))>=50,2,IF(MIN(ROUND($BL7,0),SUM($D$6:$W$6))>=20,1,0)),MIN(MIN($D$6:$W$6)-2,ROUND(MIN(ROUND($BL7,0),SUM($D$6:$W$6))/20,0)-1))+2)),MIN(MIN(MAX(IF(MIN(ROUND($BL7,0),SUM($D$6:$W$6))>=50,2,IF(MIN(ROUND($BL7,0),SUM($D$6:$W$6))>=20,1,0)),MIN(MIN($D$6:$W$6)-2,ROUND(MIN(ROUND($BL7,0),SUM($D$6:$W$6))/20,0)-1))+2,(MIN(ROUND($BL7,0),SUM($D$6:$W$6))-SUM($D7:T7))-2*MAX(IF(MIN(ROUND($BL7,0),SUM($D$6:$W$6))>=50,2,IF(MIN(ROUND($BL7,0),SUM($D$6:$W$6))>=20,1,0)),MIN(MIN($D$6:$W$6)-2,ROUND(MIN(ROUND($BL7,0),SUM($D$6:$W$6))/20,0)-1))),ROUND((MIN(ROUND($BL7,0),SUM($D$6:$W$6))-SUM($D7:T7))/3+(MOD(SIN($BS$2*7919+ROW()*12.9898+COLUMN()*78.233)*43758.5453,1)-0.5)*2.4,0)))) -> 3 | V7: =IF($BL7="","",MAX(MAX(MAX(IF(MIN(ROUND($BL7,0),SUM($D$6:$W$6))>=50,2,IF(MIN(ROUND($BL7,0),SUM($D$6:$W$6))>=20,1,0)),MIN(MIN($D$6:$W$6)-2,ROUND(MIN(ROUND($BL7,0),SUM($D$6:$W$6))/20,0)-1)),(MIN(ROUND($BL7,0),SUM($D$6:$W$6))-SUM($D7:U7))-1*(MAX(IF(MIN(ROUND($BL7,0),SUM($D$6:$W$6))>=50,2,IF(MIN(ROUND($BL7,0),SUM($D$6:$W$6))>=20,1,0)),MIN(MIN($D$6:$W$6)-2,ROUND(MIN(ROUND($BL7,0),SUM($D$6:$W$6))/20,0)-1))+2)),MIN(MIN(MAX(IF(MIN(ROUND($BL7,0),SUM($D$6:$W$6))>=50,2,IF(MIN(ROUND($BL7,0),SUM($D$6:$W$6))>=20,1,0)),MIN(MIN($D$6:$W$6)-2,ROUND(MIN(ROUND($BL7,0),SUM($D$6:$W$6))/20,0)-1))+2,(MIN(ROUND($BL7,0),SUM($D$6:$W$6))-SUM($D7:U7))-1*MAX(IF(MIN(ROUND($BL7,0),SUM($D$6:$W$6))>=50,2,IF(MIN(ROUND($BL7,0),SUM($D$6:$W$6))>=20,1,0)),MIN(MIN($D$6:$W$6)-2,ROUND(MIN(ROUND($BL7,0),SUM($D$6:$W$6))/20,0)-1))),ROUND((MIN(ROUND($BL7,0),SUM($D$6:$W$6))-SUM($D7:U7))/2+(MOD(SIN($BS$2*7919+ROW()*12.9898+COLUMN()*78.233)*43758.5453,1)-0.5)*2.4,0)))) -> 3 | W7: =IF($BL7="","",(MIN(ROUND($BL7,0),SUM($D$6:$W$6))-SUM($D7:V7))) -> 3 | X7: =IF($BM7="","",MAX(MAX(MAX(IF(MIN(ROUND($BM7,0),SUM($X$6:$AQ$6))>=50,2,IF(MIN(ROUND($BM7,0),SUM($X$6:$AQ$6))>=20,1,0)),MIN(MIN($X$6:$AQ$6)-2,ROUND(MIN(ROUND($BM7,0),SUM($X$6:$AQ$6))/20,0)-1)),MIN(ROUND($BM7,0),SUM($X$6:$AQ$6))-19*(MAX(IF(MIN(ROUND($BM7,0),SUM($X$6:$AQ$6))>=50,2,IF(MIN(ROUND($BM7,0),SUM($X$6:$AQ$6))>=20,1,0)),MIN(MIN($X$6:$AQ$6)-2,ROUND(MIN(ROUND($BM7,0),SUM($X$6:$AQ$6))/20,0)-1))+2)),MIN(MIN(MAX(IF(MIN(ROUND($BM7,0),SUM($X$6:$AQ$6))>=50,2,IF(MIN(ROUND($BM7,0),SUM($X$6:$AQ$6))>=20,1,0)),MIN(MIN($X$6:$AQ$6)-2,ROUND(MIN(ROUND($BM7,0),SUM($X$6:$AQ$6))/20,0)-1))+2,MIN(ROUND($BM7,0),SUM($X$6:$AQ$6))-19*MAX(IF(MIN(ROUND($BM7,0),SUM($X$6:$AQ$6))>=50,2,IF(MIN(ROUND($BM7,0),SUM($X$6:$AQ$6))>=20,1,0)),MIN(MIN($X$6:$AQ$6)-2,ROUND(MIN(ROUND($BM7,0),SUM($X$6:$AQ$6))/20,0)-1))),ROUND(MIN(ROUND($BM7,0),SUM($X$6:$AQ$6))/20+(MOD(SIN($BS$2*7919+ROW()*12.9898+COLUMN()*78.233)*43758.5453,1)-0.5)*2.4,0)))) -> 4 | Y7: =IF($BM7="","",MAX(MAX(MAX(IF(MIN(ROUND($BM7,0),SUM($X$6:$AQ$6))>=50,2,IF(MIN(ROUND($BM7,0),SUM($X$6:$AQ$6))>=20,1,0)),MIN(MIN($X$6:$AQ$6)-2,ROUND(MIN(ROUND($BM7,0),SUM($X$6:$AQ$6))/20,0)-1)),(MIN(ROUND($BM7,0),SUM($X$6:$AQ$6))-SUM($X7:X7))-18*(MAX(IF(MIN(ROUND($BM7,0),SUM($X$6:$AQ$6))>=50,2,IF(MIN(ROUND($BM7,0),SUM($X$6:$AQ$6))>=20,1,0)),MIN(MIN($X$6:$AQ$6)-2,ROUND(MIN(ROUND($BM7,0),SUM($X$6:$AQ$6))/20,0)-1))+2)),MIN(MIN(MAX(IF(MIN(ROUND($BM7,0),SUM($X$6:$AQ$6))>=50,2,IF(MIN(ROUND($BM7,0),SUM($X$6:$AQ$6))>=20,1,0)),MIN(MIN($X$6:$AQ$6)-2,ROUND(MIN(ROUND($BM7,0),SUM($X$6:$AQ$6))/20,0)-1))+2,(MIN(ROUND($BM7,0),SUM($X$6:$AQ$6))-SUM($X7:X7))-18*MAX(IF(MIN(ROUND($BM7,0),SUM($X$6:$AQ$6))>=50,2,IF(MIN(ROUND($BM7,0),SUM($X$6:$AQ$6))>=20,1,0)),MIN(MIN($X$6:$AQ$6)-2,ROUND(MIN(ROUND($BM7,0),SUM($X$6:$AQ$6))/20,0)-1))),ROUND((MIN(ROUND($BM7,0),SUM($X$6:$AQ$6))-SUM($X7:X7))/19+(MOD(SIN($BS$2*7919+ROW()*12.9898+COLUMN()*78.233)*43758.5453,1)-0.5)*2.4,0)))) -> 5 | Z7: =IF($BM7="","",MAX(MAX(MAX(IF(MIN(ROUND($BM7,0),SUM($X$6:$AQ$6))>=50,2,IF(MIN(ROUND($BM7,0),SUM($X$6:$AQ$6))>=20,1,0)),MIN(MIN($X$6:$AQ$6)-2,ROUND(MIN(ROUND($BM7,0),SUM($X$6:$AQ$6))/20,0)-1)),(MIN(ROUND($BM7,0),SUM($X$6:$AQ$6))-SUM($X7:Y7))-17*(MAX(IF(MIN(ROUND($BM7,0),SUM($X$6:$AQ$6))>=50,2,IF(MIN(ROUND($BM7,0),SUM($X$6:$AQ$6))>=20,1,0)),MIN(MIN($X$6:$AQ$6)-2,ROUND(MIN(ROUND($BM7,0),SUM($X$6:$AQ$6))/20,0)-1))+2)),MIN(MIN(MAX(IF(MIN(ROUND($BM7,0),SUM($X$6:$AQ$6))>=50,2,IF(MIN(ROUND($BM7,0),SUM($X$6:$AQ$6))>=20,1,0)),MIN(MIN($X$6:$AQ$6)-2,ROUND(MIN(ROUND($BM7,0),SUM($X$6:$AQ$6))/20,0)-1))+2,(MIN(ROUND($BM7,0),SUM($X$6:$AQ$6))-SUM($X7:Y7))-17*MAX(IF(MIN(ROUND($BM7,0),SUM($X$6:$AQ$6))>=50,2,IF(MIN(ROUND($BM7,0),SUM($X$6:$AQ$6))>=20,1,0)),MIN(MIN($X$6:$AQ$6)-2,ROUND(MIN(ROUND($BM7,0),SUM($X$6:$AQ$6))/20,0)-1))),ROUND((MIN(ROUND($BM7,0),SUM($X$6:$AQ$6))-SUM($X7:Y7))/18+(MOD(SIN($BS$2*7919+ROW()*12.9898+COLUMN()*78.233)*43758.5453,1)-0.5)*2.4,0)))) -> 5 | AA7: =IF($BM7="","",MAX(MAX(MAX(IF(MIN(ROUND($BM7,0),SUM($X$6:$AQ$6))>=50,2,IF(MIN(ROUND($BM7,0),SUM($X$6:$AQ$6))>=20,1,0)),MIN(MIN($X$6:$AQ$6)-2,ROUND(MIN(ROUND($BM7,0),SUM($X$6:$AQ$6))/20,0)-1)),(MIN(ROUND($BM7,0),SUM($X$6:$AQ$6))-SUM($X7:Z7))-16*(MAX(IF(MIN(ROUND($BM7,0),SUM($X$6:$AQ$6))>=50,2,IF(MIN(ROUND($BM7,0),SUM($X$6:$AQ$6))>=20,1,0)),MIN(MIN($X$6:$AQ$6)-2,ROUND(MIN(ROUND($BM7,0),SUM($X$6:$AQ$6))/20,0)-1))+2)),MIN(MIN(MAX(IF(MIN(ROUND($BM7,0),SUM($X$6:$AQ$6))>=50,2,IF(MIN(ROUND($BM7,0),SUM($X$6:$AQ$6))>=20,1,0)),MIN(MIN($X$6:$AQ$6)-2,ROUND(MIN(ROUND($BM7,0),SUM($X$6:$AQ$6))/20,0)-1))+2,(MIN(ROUND($BM7,0),SUM($X$6:$AQ$6))-SUM($X7:Z7))-16*MAX(IF(MIN(ROUND($BM7,0),SUM($X$6:$AQ$6))>=50,2,IF(MIN(ROUND($BM7,0),SUM($X$6:$AQ$6))>=20,1,0)),MIN(MIN($X$6:$AQ$6)-2,ROUND(MIN(ROUND($BM7,0),SUM($X$6:$AQ$6))/20,0)-1))),ROUND((MIN(ROUND($BM7,0),SUM($X$6:$AQ$6))-SUM($X7:Z7))/17+(MOD(SIN($BS$2*7919+ROW()*12.9898+COLUMN()*78.233)*43758.5453,1)-0.5)*2.4,0)))) -> 4 | AB7: =IF($BM7="","",MAX(MAX(MAX(IF(MIN(ROUND($BM7,0),SUM($X$6:$AQ$6))>=50,2,IF(MIN(ROUND($BM7,0),SUM($X$6:$AQ$6))>=20,1,0)),MIN(MIN($X$6:$AQ$6)-2,ROUND(MIN(ROUND($BM7,0),SUM($X$6:$AQ$6))/20,0)-1)),(MIN(ROUND($BM7,0),SUM($X$6:$AQ$6))-SUM($X7:AA7))-15*(MAX(IF(MIN(ROUND($BM7,0),SUM($X$6:$AQ$6))>=50,2,IF(MIN(ROUND($BM7,0),SUM($X$6:$AQ$6))>=20,1,0)),MIN(MIN($X$6:$AQ$6)-2,ROUND(MIN(ROUND($BM7,0),SUM($X$6:$AQ$6))/20,0)-1))+2)),MIN(MIN(MAX(IF(MIN(ROUND($BM7,0),SUM($X$6:$AQ$6))>=50,2,IF(MIN(ROUND($BM7,0),SUM($X$6:$AQ$6))>=20,1,0)),MIN(MIN($X$6:$AQ$6)-2,ROUND(MIN(ROUND($BM7,0),SUM($X$6:$AQ$6))/20,0)-1))+2,(MIN(ROUND($BM7,0),SUM($X$6:$AQ$6))-SUM($X7:AA7))-15*MAX(IF(MIN(ROUND($BM7,0),SUM($X$6:$AQ$6))>=50,2,IF(MIN(ROUND($BM7,0),SUM($X$6:$AQ$6))>=20,1,0)),MIN(MIN($X$6:$AQ$6)-2,ROUND(MIN(ROUND($BM7,0),SUM($X$6:$AQ$6))/20,0)-1))),ROUND((MIN(ROUND($BM7,0),SUM($X$6:$AQ$6))-SUM($X7:AA7))/16+(MOD(SIN($BS$2*7919+ROW()*12.9898+COLUMN()*78.233)*43758.5453,1)-0.5)*2.4,0)))) -> 4 | AC7: =IF($BM7="","",MAX(MAX(MAX(IF(MIN(ROUND($BM7,0),SUM($X$6:$AQ$6))>=50,2,IF(MIN(ROUND($BM7,0),SUM($X$6:$AQ$6))>=20,1,0)),MIN(MIN($X$6:$AQ$6)-2,ROUND(MIN(ROUND($BM7,0),SUM($X$6:$AQ$6))/20,0)-1)),(MIN(ROUND($BM7,0),SUM($X$6:$AQ$6))-SUM($X7:AB7))-14*(MAX(IF(MIN(ROUND($BM7,0),SUM($X$6:$AQ$6))>=50,2,IF(MIN(ROUND($BM7,0),SUM($X$6:$AQ$6))>=20,1,0)),MIN(MIN($X$6:$AQ$6)-2,ROUND(MIN(ROUND($BM7,0),SUM($X$6:$AQ$6))/20,0)-1))+2)),MIN(MIN(MAX(IF(MIN(ROUND($BM7,0),SUM($X$6:$AQ$6))>=50,2,IF(MIN(ROUND($BM7,0),SUM($X$6:$AQ$6))>=20,1,0)),MIN(MIN($X$6:$AQ$6)-2,ROUND(MIN(ROUND($BM7,0),SUM($X$6:$AQ$6))/20,0)-1))+2,(MIN(ROUND($BM7,0),SUM($X$6:$AQ$6))-SUM($X7:AB7))-14*MAX(IF(MIN(ROUND($BM7,0),SUM($X$6:$AQ$6))>=50,2,IF(MIN(ROUND($BM7,0),SUM($X$6:$AQ$6))>=20,1,0)),MIN(MIN($X$6:$AQ$6)-2,ROUND(MIN(ROUND($BM7,0),SUM($X$6:$AQ$6))/20,0)-1))),ROUND((MIN(ROUND($BM7,0),SUM($X$6:$AQ$6))-SUM($X7:AB7))/15+(MOD(SIN($BS$2*7919+ROW()*12.9898+COLUMN()*78.233)*43758.5453,1)-0.5)*2.4,0)))) -> 5 | AD7: =IF($BM7="","",MAX(MAX(MAX(IF(MIN(ROUND($BM7,0),SUM($X$6:$AQ$6))>=50,2,IF(MIN(ROUND($BM7,0),SUM($X$6:$AQ$6))>=20,1,0)),MIN(MIN($X$6:$AQ$6)-2,ROUND(MIN(ROUND($BM7,0),SUM($X$6:$AQ$6))/20,0)-1)),(MIN(ROUND($BM7,0),SUM($X$6:$AQ$6))-SUM($X7:AC7))-13*(MAX(IF(MIN(ROUND($BM7,0),SUM($X$6:$AQ$6))>=50,2,IF(MIN(ROUND($BM7,0),SUM($X$6:$AQ$6))>=20,1,0)),MIN(MIN($X$6:$AQ$6)-2,ROUND(MIN(ROUND($BM7,0),SUM($X$6:$AQ$6))/20,0)-1))+2)),MIN(MIN(MAX(IF(MIN(ROUND($BM7,0),SUM($X$6:$AQ$6))>=50,2,IF(MIN(ROUND($BM7,0),SUM($X$6:$AQ$6))>=20,1,0)),MIN(MIN($X$6:$AQ$6)-2,ROUND(MIN(ROUND($BM7,0),SUM($X$6:$AQ$6))/20,0)-1))+2,(MIN(ROUND($BM7,0),SUM($X$6:$AQ$6))-SUM($X7:AC7))-13*MAX(IF(MIN(ROUND($BM7,0),SUM($X$6:$AQ$6))>=50,2,IF(MIN(ROUND($BM7,0),SUM($X$6:$AQ$6))>=20,1,0)),MIN(MIN($X$6:$AQ$6)-2,ROUND(MIN(ROUND($BM7,0),SUM($X$6:$AQ$6))/20,0)-1))),ROUND((MIN(ROUND($BM7,0),SUM($X$6:$AQ$6))-SUM($X7:AC7))/14+(MOD(SIN($BS$2*7919+ROW()*12.9898+COLUMN()*78.233)*43758.5453,1)-0.5)*2.4,0)))) -> 4 | AE7: =IF($BM7="","",MAX(MAX(MAX(IF(MIN(ROUND($BM7,0),SUM($X$6:$AQ$6))>=50,2,IF(MIN(ROUND($BM7,0),SUM($X$6:$AQ$6))>=20,1,0)),MIN(MIN($X$6:$AQ$6)-2,ROUND(MIN(ROUND($BM7,0),SUM($X$6:$AQ$6))/20,0)-1)),(MIN(ROUND($BM7,0),SUM($X$6:$AQ$6))-SUM($X7:AD7))-12*(MAX(IF(MIN(ROUND($BM7,0),SUM($X$6:$AQ$6))>=50,2,IF(MIN(ROUND($BM7,0),SUM($X$6:$AQ$6))>=20,1,0)),MIN(MIN($X$6:$AQ$6)-2,ROUND(MIN(ROUND($BM7,0),SUM($X$6:$AQ$6))/20,0)-1))+2)),MIN(MIN(MAX(IF(MIN(ROUND($BM7,0),SUM($X$6:$AQ$6))>=50,2,IF(MIN(ROUND($BM7,0),SUM($X$6:$AQ$6))>=20,1,0)),MIN(MIN($X$6:$AQ$6)-2,ROUND(MIN(ROUND($BM7,0),SUM($X$6:$AQ$6))/20,0)-1))+2,(MIN(ROUND($BM7,0),SUM($X$6:$AQ$6))-SUM($X7:AD7))-12*MAX(IF(MIN(ROUND($BM7,0),SUM($X$6:$AQ$6))>=50,2,IF(MIN(ROUND($BM7,0),SUM($X$6:$AQ$6))>=20,1,0)),MIN(MIN($X$6:$AQ$6)-2,ROUND(MIN(ROUND($BM7,0),SUM($X$6:$AQ$6))/20,0)-1))),ROUND((MIN(ROUND($BM7,0),SUM($X$6:$AQ$6))-SUM($X7:AD7))/13+(MOD(SIN($BS$2*7919+ROW()*12.9898+COLUMN()*78.233)*43758.5453,1)-0.5)*2.4,0)))) -> 5 | AF7: =IF($BM7="","",MAX(MAX(MAX(IF(MIN(ROUND($BM7,0),SUM($X$6:$AQ$6))>=50,2,IF(MIN(ROUND($BM7,0),SUM($X$6:$AQ$6))>=20,1,0)),MIN(MIN($X$6:$AQ$6)-2,ROUND(MIN(ROUND($BM7,0),SUM($X$6:$AQ$6))/20,0)-1)),(MIN(ROUND($BM7,0),SUM($X$6:$AQ$6))-SUM($X7:AE7))-11*(MAX(IF(MIN(ROUND($BM7,0),SUM($X$6:$AQ$6))>=50,2,IF(MIN(ROUND($BM7,0),SUM($X$6:$AQ$6))>=20,1,0)),MIN(MIN($X$6:$AQ$6)-2,ROUND(MIN(ROUND($BM7,0),SUM($X$6:$AQ$6))/20,0)-1))+2)),MIN(MIN(MAX(IF(MIN(ROUND($BM7,0),SUM($X$6:$AQ$6))>=50,2,IF(MIN(ROUND($BM7,0),SUM($X$6:$AQ$6))>=20,1,0)),MIN(MIN($X$6:$AQ$6)-2,ROUND(MIN(ROUND($BM7,0),SUM($X$6:$AQ$6))/20,0)-1))+2,(MIN(ROUND($BM7,0),SUM($X$6:$AQ$6))-SUM($X7:AE7))-11*MAX(IF(MIN(ROUND($BM7,0),SUM($X$6:$AQ$6))>=50,2,IF(MIN(ROUND($BM7,0),SUM($X$6:$AQ$6))>=20,1,0)),MIN(MIN($X$6:$AQ$6)-2,ROUND(MIN(ROUND($BM7,0),SUM($X$6:$AQ$6))/20,0)-1))),ROUND((MIN(ROUND($BM7,0),SUM($X$6:$AQ$6))-SUM($X7:AE7))/12+(MOD(SIN($BS$2*7919+ROW()*12.9898+COLUMN()*78.233)*43758.5453,1)-0.5)*2.4,0)))) -> 5 | AG7: =IF($BM7="","",MAX(MAX(MAX(IF(MIN(ROUND($BM7,0),SUM($X$6:$AQ$6))>=50,2,IF(MIN(ROUND($BM7,0),SUM($X$6:$AQ$6))>=20,1,0)),MIN(MIN($X$6:$AQ$6)-2,ROUND(MIN(ROUND($BM7,0),SUM($X$6:$AQ$6))/20,0)-1)),(MIN(ROUND($BM7,0),SUM($X$6:$AQ$6))-SUM($X7:AF7))-10*(MAX(IF(MIN(ROUND($BM7,0),SUM($X$6:$AQ$6))>=50,2,IF(MIN(ROUND($BM7,0),SUM($X$6:$AQ$6))>=20,1,0)),MIN(MIN($X$6:$AQ$6)-2,ROUND(MIN(ROUND($BM7,0),SUM($X$6:$AQ$6))/20,0)-1))+2)),MIN(MIN(MAX(IF(MIN(ROUND($BM7,0),SUM($X$6:$AQ$6))>=50,2,IF(MIN(ROUND($BM7,0),SUM($X$6:$AQ$6))>=20,1,0)),MIN(MIN($X$6:$AQ$6)-2,ROUND(MIN(ROUND($BM7,0),SUM($X$6:$AQ$6))/20,0)-1))+2,(MIN(ROUND($BM7,0),SUM($X$6:$AQ$6))-SUM($X7:AF7))-10*MAX(IF(MIN(ROUND($BM7,0),SUM($X$6:$AQ$6))>=50,2,IF(MIN(ROUND($BM7,0),SUM($X$6:$AQ$6))>=20,1,0)),MIN(MIN($X$6:$AQ$6)-2,ROUND(MIN(ROUND($BM7,0),SUM($X$6:$AQ$6))/20,0)-1))),ROUND((MIN(ROUND($BM7,0),SUM($X$6:$AQ$6))-SUM($X7:AF7))/11+(MOD(SIN($BS$2*7919+ROW()*12.9898+COLUMN()*78.233)*43758.5453,1)-0.5)*2.4,0)))) -> 4 | AH7: =IF($BM7="","",MAX(MAX(MAX(IF(MIN(ROUND($BM7,0),SUM($X$6:$AQ$6))>=50,2,IF(MIN(ROUND($BM7,0),SUM($X$6:$AQ$6))>=20,1,0)),MIN(MIN($X$6:$AQ$6)-2,ROUND(MIN(ROUND($BM7,0),SUM($X$6:$AQ$6))/20,0)-1)),(MIN(ROUND($BM7,0),SUM($X$6:$AQ$6))-SUM($X7:AG7))-9*(MAX(IF(MIN(ROUND($BM7,0),SUM($X$6:$AQ$6))>=50,2,IF(MIN(ROUND($BM7,0),SUM($X$6:$AQ$6))>=20,1,0)),MIN(MIN($X$6:$AQ$6)-2,ROUND(MIN(ROUND($BM7,0),SUM($X$6:$AQ$6))/20,0)-1))+2)),MIN(MIN(MAX(IF(MIN(ROUND($BM7,0),SUM($X$6:$AQ$6))>=50,2,IF(MIN(ROUND($BM7,0),SUM($X$6:$AQ$6))>=20,1,0)),MIN(MIN($X$6:$AQ$6)-2,ROUND(MIN(ROUND($BM7,0),SUM($X$6:$AQ$6))/20,0)-1))+2,(MIN(ROUND($BM7,0),SUM($X$6:$AQ$6))-SUM($X7:AG7))-9*MAX(IF(MIN(ROUND($BM7,0),SUM($X$6:$AQ$6))>=50,2,IF(MIN(ROUND($BM7,0),SUM($X$6:$AQ$6))>=20,1,0)),MIN(MIN($X$6:$AQ$6)-2,ROUND(MIN(ROUND($BM7,0),SUM($X$6:$AQ$6))/20,0)-1))),ROUND((MIN(ROUND($BM7,0),SUM($X$6:$AQ$6))-SUM($X7:AG7))/10+(MOD(SIN($BS$2*7919+ROW()*12.9898+COLUMN()*78.233)*43758.5453,1)-0.5)*2.4,0)))) -> 5 | AI7: =IF($BM7="","",MAX(MAX(MAX(IF(MIN(ROUND($BM7,0),SUM($X$6:$AQ$6))>=50,2,IF(MIN(ROUND($BM7,0),SUM($X$6:$AQ$6))>=20,1,0)),MIN(MIN($X$6:$AQ$6)-2,ROUND(MIN(ROUND($BM7,0),SUM($X$6:$AQ$6))/20,0)-1)),(MIN(ROUND($BM7,0),SUM($X$6:$AQ$6))-SUM($X7:AH7))-8*(MAX(IF(MIN(ROUND($BM7,0),SUM($X$6:$AQ$6))>=50,2,IF(MIN(ROUND($BM7,0),SUM($X$6:$AQ$6))>=20,1,0)),MIN(MIN($X$6:$AQ$6)-2,ROUND(MIN(ROUND($BM7,0),SUM($X$6:$AQ$6))/20,0)-1))+2)),MIN(MIN(MAX(IF(MIN(ROUND($BM7,0),SUM($X$6:$AQ$6))>=50,2,IF(MIN(ROUND($BM7,0),SUM($X$6:$AQ$6))>=20,1,0)),MIN(MIN($X$6:$AQ$6)-2,ROUND(MIN(ROUND($BM7,0),SUM($X$6:$AQ$6))/20,0)-1))+2,(MIN(ROUND($BM7,0),SUM($X$6:$AQ$6))-SUM($X7:AH7))-8*MAX(IF(MIN(ROUND($BM7,0),SUM($X$6:$AQ$6))>=50,2,IF(MIN(ROUND($BM7,0),SUM($X$6:$AQ$6))>=20,1,0)),MIN(MIN($X$6:$AQ$6)-2,ROUND(MIN(ROUND($BM7,0),SUM($X$6:$AQ$6))/20,0)-1))),ROUND((MIN(ROUND($BM7,0),SUM($X$6:$AQ$6))-SUM($X7:AH7))/9+(MOD(SIN($BS$2*7919+ROW()*12.9898+COLUMN()*78.233)*43758.5453,1)-0.5)*2.4,0)))) -> 5 | AJ7: =IF($BM7="","",MAX(MAX(MAX(IF(MIN(ROUND($BM7,0),SUM($X$6:$AQ$6))>=50,2,IF(MIN(ROUND($BM7,0),SUM($X$6:$AQ$6))>=20,1,0)),MIN(MIN($X$6:$AQ$6)-2,ROUND(MIN(ROUND($BM7,0),SUM($X$6:$AQ$6))/20,0)-1)),(MIN(ROUND($BM7,0),SUM($X$6:$AQ$6))-SUM($X7:AI7))-7*(MAX(IF(MIN(ROUND($BM7,0),SUM($X$6:$AQ$6))>=50,2,IF(MIN(ROUND($BM7,0),SUM($X$6:$AQ$6))>=20,1,0)),MIN(MIN($X$6:$AQ$6)-2,ROUND(MIN(ROUND($BM7,0),SUM($X$6:$AQ$6))/20,0)-1))+2)),MIN(MIN(MAX(IF(MIN(ROUND($BM7,0),SUM($X$6:$AQ$6))>=50,2,IF(MIN(ROUND($BM7,0),SUM($X$6:$AQ$6))>=20,1,0)),MIN(MIN($X$6:$AQ$6)-2,ROUND(MIN(ROUND($BM7,0),SUM($X$6:$AQ$6))/20,0)-1))+2,(MIN(ROUND($BM7,0),SUM($X$6:$AQ$6))-SUM($X7:AI7))-7*MAX(IF(MIN(ROUND($BM7,0),SUM($X$6:$AQ$6))>=50,2,IF(MIN(ROUND($BM7,0),SUM($X$6:$AQ$6))>=20,1,0)),MIN(MIN($X$6:$AQ$6)-2,ROUND(MIN(ROUND($BM7,0),SUM($X$6:$AQ$6))/20,0)-1))),ROUND((MIN(ROUND($BM7,0),SUM($X$6:$AQ$6))-SUM($X7:AI7))/8+(MOD(SIN($BS$2*7919+ROW()*12.9898+COLUMN()*78.233)*43758.5453,1)-0.5)*2.4,0)))) -> 5 | AK7: =IF($BM7="","",MAX(MAX(MAX(IF(MIN(ROUND($BM7,0),SUM($X$6:$AQ$6))>=50,2,IF(MIN(ROUND($BM7,0),SUM($X$6:$AQ$6))>=20,1,0)),MIN(MIN($X$6:$AQ$6)-2,ROUND(MIN(ROUND($BM7,0),SUM($X$6:$AQ$6))/20,0)-1)),(MIN(ROUND($BM7,0),SUM($X$6:$AQ$6))-SUM($X7:AJ7))-6*(MAX(IF(MIN(ROUND($BM7,0),SUM($X$6:$AQ$6))>=50,2,IF(MIN(ROUND($BM7,0),SUM($X$6:$AQ$6))>=20,1,0)),MIN(MIN($X$6:$AQ$6)-2,ROUND(MIN(ROUND($BM7,0),SUM($X$6:$AQ$6))/20,0)-1))+2)),MIN(MIN(MAX(IF(MIN(ROUND($BM7,0),SUM($X$6:$AQ$6))>=50,2,IF(MIN(ROUND($BM7,0),SUM($X$6:$AQ$6))>=20,1,0)),MIN(MIN($X$6:$AQ$6)-2,ROUND(MIN(ROUND($BM7,0),SUM($X$6:$AQ$6))/20,0)-1))+2,(MIN(ROUND($BM7,0),SUM($X$6:$AQ$6))-SUM($X7:AJ7))-6*MAX(IF(MIN(ROUND($BM7,0),SUM($X$6:$AQ$6))>=50,2,IF(MIN(ROUND($BM7,0),SUM($X$6:$AQ$6))>=20,1,0)),MIN(MIN($X$6:$AQ$6)-2,ROUND(MIN(ROUND($BM7,0),SUM($X$6:$AQ$6))/20,0)-1))),ROUND((MIN(ROUND($BM7,0),SUM($X$6:$AQ$6))-SUM($X7:AJ7))/7+(MOD(SIN($BS$2*7919+ROW()*12.9898+COLUMN()*78.233)*43758.5453,1)-0.5)*2.4,0)))) -> 5 | AL7: =IF($BM7="","",MAX(MAX(MAX(IF(MIN(ROUND($BM7,0),SUM($X$6:$AQ$6))>=50,2,IF(MIN(ROUND($BM7,0),SUM($X$6:$AQ$6))>=20,1,0)),MIN(MIN($X$6:$AQ$6)-2,ROUND(MIN(ROUND($BM7,0),SUM($X$6:$AQ$6))/20,0)-1)),(MIN(ROUND($BM7,0),SUM($X$6:$AQ$6))-SUM($X7:AK7))-5*(MAX(IF(MIN(ROUND($BM7,0),SUM($X$6:$AQ$6))>=50,2,IF(MIN(ROUND($BM7,0),SUM($X$6:$AQ$6))>=20,1,0)),MIN(MIN($X$6:$AQ$6)-2,ROUND(MIN(ROUND($BM7,0),SUM($X$6:$AQ$6))/20,0)-1))+2)),MIN(MIN(MAX(IF(MIN(ROUND($BM7,0),SUM($X$6:$AQ$6))>=50,2,IF(MIN(ROUND($BM7,0),SUM($X$6:$AQ$6))>=20,1,0)),MIN(MIN($X$6:$AQ$6)-2,ROUND(MIN(ROUND($BM7,0),SUM($X$6:$AQ$6))/20,0)-1))+2,(MIN(ROUND($BM7,0),SUM($X$6:$AQ$6))-SUM($X7:AK7))-5*MAX(IF(MIN(ROUND($BM7,0),SUM($X$6:$AQ$6))>=50,2,IF(MIN(ROUND($BM7,0),SUM($X$6:$AQ$6))>=20,1,0)),MIN(MIN($X$6:$AQ$6)-2,ROUND(MIN(ROUND($BM7,0),SUM($X$6:$AQ$6))/20,0)-1))),ROUND((MIN(ROUND($BM7,0),SUM($X$6:$AQ$6))-SUM($X7:AK7))/6+(MOD(SIN($BS$2*7919+ROW()*12.9898+COLUMN()*78.233)*43758.5453,1)-0.5)*2.4,0)))) -> 5 | AM7: =IF($BM7="","",MAX(MAX(MAX(IF(MIN(ROUND($BM7,0),SUM($X$6:$AQ$6))>=50,2,IF(MIN(ROUND($BM7,0),SUM($X$6:$AQ$6))>=20,1,0)),MIN(MIN($X$6:$AQ$6)-2,ROUND(MIN(ROUND($BM7,0),SUM($X$6:$AQ$6))/20,0)-1)),(MIN(ROUND($BM7,0),SUM($X$6:$AQ$6))-SUM($X7:AL7))-4*(MAX(IF(MIN(ROUND($BM7,0),SUM($X$6:$AQ$6))>=50,2,IF(MIN(ROUND($BM7,0),SUM($X$6:$AQ$6))>=20,1,0)),MIN(MIN($X$6:$AQ$6)-2,ROUND(MIN(ROUND($BM7,0),SUM($X$6:$AQ$6))/20,0)-1))+2)),MIN(MIN(MAX(IF(MIN(ROUND($BM7,0),SUM($X$6:$AQ$6))>=50,2,IF(MIN(ROUND($BM7,0),SUM($X$6:$AQ$6))>=20,1,0)),MIN(MIN($X$6:$AQ$6)-2,ROUND(MIN(ROUND($BM7,0),SUM($X$6:$AQ$6))/20,0)-1))+2,(MIN(ROUND($BM7,0),SUM($X$6:$AQ$6))-SUM($X7:AL7))-4*MAX(IF(MIN(ROUND($BM7,0),SUM($X$6:$AQ$6))>=50,2,IF(MIN(ROUND($BM7,0),SUM($X$6:$AQ$6))>=20,1,0)),MIN(MIN($X$6:$AQ$6)-2,ROUND(MIN(ROUND($BM7,0),SUM($X$6:$AQ$6))/20,0)-1))),ROUND((MIN(ROUND($BM7,0),SUM($X$6:$AQ$6))-SUM($X7:AL7))/5+(MOD(SIN($BS$2*7919+ROW()*12.9898+COLUMN()*78.233)*43758.5453,1)-0.5)*2.4,0)))) -> 5 | AN7: =IF($BM7="","",MAX(MAX(MAX(IF(MIN(ROUND($BM7,0),SUM($X$6:$AQ$6))>=50,2,IF(MIN(ROUND($BM7,0),SUM($X$6:$AQ$6))>=20,1,0)),MIN(MIN($X$6:$AQ$6)-2,ROUND(MIN(ROUND($BM7,0),SUM($X$6:$AQ$6))/20,0)-1)),(MIN(ROUND($BM7,0),SUM($X$6:$AQ$6))-SUM($X7:AM7))-3*(MAX(IF(MIN(ROUND($BM7,0),SUM($X$6:$AQ$6))>=50,2,IF(MIN(ROUND($BM7,0),SUM($X$6:$AQ$6))>=20,1,0)),MIN(MIN($X$6:$AQ$6)-2,ROUND(MIN(ROUND($BM7,0),SUM($X$6:$AQ$6))/20,0)-1))+2)),MIN(MIN(MAX(IF(MIN(ROUND($BM7,0),SUM($X$6:$AQ$6))>=50,2,IF(MIN(ROUND($BM7,0),SUM($X$6:$AQ$6))>=20,1,0)),MIN(MIN($X$6:$AQ$6)-2,ROUND(MIN(ROUND($BM7,0),SUM($X$6:$AQ$6))/20,0)-1))+2,(MIN(ROUND($BM7,0),SUM($X$6:$AQ$6))-SUM($X7:AM7))-3*MAX(IF(MIN(ROUND($BM7,0),SUM($X$6:$AQ$6))>=50,2,IF(MIN(ROUND($BM7,0),SUM($X$6:$AQ$6))>=20,1,0)),MIN(MIN($X$6:$AQ$6)-2,ROUND(MIN(ROUND($BM7,0),SUM($X$6:$AQ$6))/20,0)-1))),ROUND((MIN(ROUND($BM7,0),SUM($X$6:$AQ$6))-SUM($X7:AM7))/4+(MOD(SIN($BS$2*7919+ROW()*12.9898+COLUMN()*78.233)*43758.5453,1)-0.5)*2.4,0)))) -> 5 | AO7: =IF($BM7="","",MAX(MAX(MAX(IF(MIN(ROUND($BM7,0),SUM($X$6:$AQ$6))>=50,2,IF(MIN(ROUND($BM7,0),SUM($X$6:$AQ$6))>=20,1,0)),MIN(MIN($X$6:$AQ$6)-2,ROUND(MIN(ROUND($BM7,0),SUM($X$6:$AQ$6))/20,0)-1)),(MIN(ROUND($BM7,0),SUM($X$6:$AQ$6))-SUM($X7:AN7))-2*(MAX(IF(MIN(ROUND($BM7,0),SUM($X$6:$AQ$6))>=50,2,IF(MIN(ROUND($BM7,0),SUM($X$6:$AQ$6))>=20,1,0)),MIN(MIN($X$6:$AQ$6)-2,ROUND(MIN(ROUND($BM7,0),SUM($X$6:$AQ$6))/20,0)-1))+2)),MIN(MIN(MAX(IF(MIN(ROUND($BM7,0),SUM($X$6:$AQ$6))>=50,2,IF(MIN(ROUND($BM7,0),SUM($X$6:$AQ$6))>=20,1,0)),MIN(MIN($X$6:$AQ$6)-2,ROUND(MIN(ROUND($BM7,0),SUM($X$6:$AQ$6))/20,0)-1))+2,(MIN(ROUND($BM7,0),SUM($X$6:$AQ$6))-SUM($X7:AN7))-2*MAX(IF(MIN(ROUND($BM7,0),SUM($X$6:$AQ$6))>=50,2,IF(MIN(ROUND($BM7,0),SUM($X$6:$AQ$6))>=20,1,0)),MIN(MIN($X$6:$AQ$6)-2,ROUND(MIN(ROUND($BM7,0),SUM($X$6:$AQ$6))/20,0)-1))),ROUND((MIN(ROUND($BM7,0),SUM($X$6:$AQ$6))-SUM($X7:AN7))/3+(MOD(SIN($BS$2*7919+ROW()*12.9898+COLUMN()*78.233)*43758.5453,1)-0.5)*2.4,0)))) -> 5 | AP7: =IF($BM7="","",MAX(MAX(MAX(IF(MIN(ROUND($BM7,0),SUM($X$6:$AQ$6))>=50,2,IF(MIN(ROUND($BM7,0),SUM($X$6:$AQ$6))>=20,1,0)),MIN(MIN($X$6:$AQ$6)-2,ROUND(MIN(ROUND($BM7,0),SUM($X$6:$AQ$6))/20,0)-1)),(MIN(ROUND($BM7,0),SUM($X$6:$AQ$6))-SUM($X7:AO7))-1*(MAX(IF(MIN(ROUND($BM7,0),SUM($X$6:$AQ$6))>=50,2,IF(MIN(ROUND($BM7,0),SUM($X$6:$AQ$6))>=20,1,0)),MIN(MIN($X$6:$AQ$6)-2,ROUND(MIN(ROUND($BM7,0),SUM($X$6:$AQ$6))/20,0)-1))+2)),MIN(MIN(MAX(IF(MIN(ROUND($BM7,0),SUM($X$6:$AQ$6))>=50,2,IF(MIN(ROUND($BM7,0),SUM($X$6:$AQ$6))>=20,1,0)),MIN(MIN($X$6:$AQ$6)-2,ROUND(MIN(ROUND($BM7,0),SUM($X$6:$AQ$6))/20,0)-1))+2,(MIN(ROUND($BM7,0),SUM($X$6:$AQ$6))-SUM($X7:AO7))-1*MAX(IF(MIN(ROUND($BM7,0),SUM($X$6:$AQ$6))>=50,2,IF(MIN(ROUND($BM7,0),SUM($X$6:$AQ$6))>=20,1,0)),MIN(MIN($X$6:$AQ$6)-2,ROUND(MIN(ROUND($BM7,0),SUM($X$6:$AQ$6))/20,0)-1))),ROUND((MIN(ROUND($BM7,0),SUM($X$6:$AQ$6))-SUM($X7:AO7))/2+(MOD(SIN($BS$2*7919+ROW()*12.9898+COLUMN()*78.233)*43758.5453,1)-0.5)*2.4,0)))) -> 5 | AQ7: =IF($BM7="","",(MIN(ROUND($BM7,0),SUM($X$6:$AQ$6))-SUM($X7:AP7))) -> 5 | AR7: =IF($BN7="","",MAX(MAX(MAX(IF(MIN(ROUND($BN7,0),SUM($AR$6:$BA$6))>=50,3,IF(MIN(ROUND($BN7,0),SUM($AR$6:$BA$6))>=10,1,0)),MIN(MIN($AR$6:$BA$6)-2,ROUND(MIN(ROUND($BN7,0),SUM($AR$6:$BA$6))/10,0)-1)),MIN(ROUND($BN7,0),SUM($AR$6:$BA$6))-9*(MAX(IF(MIN(ROUND($BN7,0),SUM($AR$6:$BA$6))>=50,3,IF(MIN(ROUND($BN7,0),SUM($AR$6:$BA$6))>=10,1,0)),MIN(MIN($AR$6:$BA$6)-2,ROUND(MIN(ROUND($BN7,0),SUM($AR$6:$BA$6))/10,0)-1))+2)),MIN(MIN(MAX(IF(MIN(ROUND($BN7,0),SUM($AR$6:$BA$6))>=50,3,IF(MIN(ROUND($BN7,0),SUM($AR$6:$BA$6))>=10,1,0)),MIN(MIN($AR$6:$BA$6)-2,ROUND(MIN(ROUND($BN7,0),SUM($AR$6:$BA$6))/10,0)-1))+2,MIN(ROUND($BN7,0),SUM($AR$6:$BA$6))-9*MAX(IF(MIN(ROUND($BN7,0),SUM($AR$6:$BA$6))>=50,3,IF(MIN(ROUND($BN7,0),SUM($AR$6:$BA$6))>=10,1,0)),MIN(MIN($AR$6:$BA$6)-2,ROUND(MIN(ROUND($BN7,0),SUM($AR$6:$BA$6))/10,0)-1))),ROUND(MIN(ROUND($BN7,0),SUM($AR$6:$BA$6))/10+(MOD(SIN($BS$2*7919+ROW()*12.9898+COLUMN()*78.233)*43758.5453,1)-0.5)*2.4,0)))) -> 9 | AS7: =IF($BN7="","",MAX(MAX(MAX(IF(MIN(ROUND($BN7,0),SUM($AR$6:$BA$6))>=50,3,IF(MIN(ROUND($BN7,0),SUM($AR$6:$BA$6))>=10,1,0)),MIN(MIN($AR$6:$BA$6)-2,ROUND(MIN(ROUND($BN7,0),SUM($AR$6:$BA$6))/10,0)-1)),(MIN(ROUND($BN7,0),SUM($AR$6:$BA$6))-SUM($AR7:AR7))-8*(MAX(IF(MIN(ROUND($BN7,0),SUM($AR$6:$BA$6))>=50,3,IF(MIN(ROUND($BN7,0),SUM($AR$6:$BA$6))>=10,1,0)),MIN(MIN($AR$6:$BA$6)-2,ROUND(MIN(ROUND($BN7,0),SUM($AR$6:$BA$6))/10,0)-1))+2)),MIN(MIN(MAX(IF(MIN(ROUND($BN7,0),SUM($AR$6:$BA$6))>=50,3,IF(MIN(ROUND($BN7,0),SUM($AR$6:$BA$6))>=10,1,0)),MIN(MIN($AR$6:$BA$6)-2,ROUND(MIN(ROUND($BN7,0),SUM($AR$6:$BA$6))/10,0)-1))+2,(MIN(ROUND($BN7,0),SUM($AR$6:$BA$6))-SUM($AR7:AR7))-8*MAX(IF(MIN(ROUND($BN7,0),SUM($AR$6:$BA$6))>=50,3,IF(MIN(ROUND($BN7,0),SUM($AR$6:$BA$6))>=10,1,0)),MIN(MIN($AR$6:$BA$6)-2,ROUND(MIN(ROUND($BN7,0),SUM($AR$6:$BA$6))/10,0)-1))),ROUND((MIN(ROUND($BN7,0),SUM($AR$6:$BA$6))-SUM($AR7:AR7))/9+(MOD(SIN($BS$2*7919+ROW()*12.9898+COLUMN()*78.233)*43758.5453,1)-0.5)*2.4,0)))) -> 9 | AT7: =IF($BN7="","",MAX(MAX(MAX(IF(MIN(ROUND($BN7,0),SUM($AR$6:$BA$6))>=50,3,IF(MIN(ROUND($BN7,0),SUM($AR$6:$BA$6))>=10,1,0)),MIN(MIN($AR$6:$BA$6)-2,ROUND(MIN(ROUND($BN7,0),SUM($AR$6:$BA$6))/10,0)-1)),(MIN(ROUND($BN7,0),SUM($AR$6:$BA$6))-SUM($AR7:AS7))-7*(MAX(IF(MIN(ROUND($BN7,0),SUM($AR$6:$BA$6))>=50,3,IF(MIN(ROUND($BN7,0),SUM($AR$6:$BA$6))>=10,1,0)),MIN(MIN($AR$6:$BA$6)-2,ROUND(MIN(ROUND($BN7,0),SUM($AR$6:$BA$6))/10,0)-1))+2)),MIN(MIN(MAX(IF(MIN(ROUND($BN7,0),SUM($AR$6:$BA$6))>=50,3,IF(MIN(ROUND($BN7,0),SUM($AR$6:$BA$6))>=10,1,0)),MIN(MIN($AR$6:$BA$6)-2,ROUND(MIN(ROUND($BN7,0),SUM($AR$6:$BA$6))/10,0)-1))+2,(MIN(ROUND($BN7,0),SUM($AR$6:$BA$6))-SUM($AR7:AS7))-7*MAX(IF(MIN(ROUND($BN7,0),SUM($AR$6:$BA$6))>=50,3,IF(MIN(ROUND($BN7,0),SUM($AR$6:$BA$6))>=10,1,0)),MIN(MIN($AR$6:$BA$6)-2,ROUND(MIN(ROUND($BN7,0),SUM($AR$6:$BA$6))/10,0)-1))),ROUND((MIN(ROUND($BN7,0),SUM($AR$6:$BA$6))-SUM($AR7:AS7))/8+(MOD(SIN($BS$2*7919+ROW()*12.9898+COLUMN()*78.233)*43758.5453,1)-0.5)*2.4,0)))) -> 8 | AU7: =IF($BN7="","",MAX(MAX(MAX(IF(MIN(ROUND($BN7,0),SUM($AR$6:$BA$6))>=50,3,IF(MIN(ROUND($BN7,0),SUM($AR$6:$BA$6))>=10,1,0)),MIN(MIN($AR$6:$BA$6)-2,ROUND(MIN(ROUND($BN7,0),SUM($AR$6:$BA$6))/10,0)-1)),(MIN(ROUND($BN7,0),SUM($AR$6:$BA$6))-SUM($AR7:AT7))-6*(MAX(IF(MIN(ROUND($BN7,0),SUM($AR$6:$BA$6))>=50,3,IF(MIN(ROUND($BN7,0),SUM($AR$6:$BA$6))>=10,1,0)),MIN(MIN($AR$6:$BA$6)-2,ROUND(MIN(ROUND($BN7,0),SUM($AR$6:$BA$6))/10,0)-1))+2)),MIN(MIN(MAX(IF(MIN(ROUND($BN7,0),SUM($AR$6:$BA$6))>=50,3,IF(MIN(ROUND($BN7,0),SUM($AR$6:$BA$6))>=10,1,0)),MIN(MIN($AR$6:$BA$6)-2,ROUND(MIN(ROUND($BN7,0),SUM($AR$6:$BA$6))/10,0)-1))+2,(MIN(ROUND($BN7,0),SUM($AR$6:$BA$6))-SUM($AR7:AT7))-6*MAX(IF(MIN(ROUND($BN7,0),SUM($AR$6:$BA$6))>=50,3,IF(MIN(ROUND($BN7,0),SUM($AR$6:$BA$6))>=10,1,0)),MIN(MIN($AR$6:$BA$6)-2,ROUND(MIN(ROUND($BN7,0),SUM($AR$6:$BA$6))/10,0)-1))),ROUND((MIN(ROUND($BN7,0),SUM($AR$6:$BA$6))-SUM($AR7:AT7))/7+(MOD(SIN($BS$2*7919+ROW()*12.9898+COLUMN()*78.233)*43758.5453,1)-0.5)*2.4,0)))) -> 9 | AV7: =IF($BN7="","",MAX(MAX(MAX(IF(MIN(ROUND($BN7,0),SUM($AR$6:$BA$6))>=50,3,IF(MIN(ROUND($BN7,0),SUM($AR$6:$BA$6))>=10,1,0)),MIN(MIN($AR$6:$BA$6)-2,ROUND(MIN(ROUND($BN7,0),SUM($AR$6:$BA$6))/10,0)-1)),(MIN(ROUND($BN7,0),SUM($AR$6:$BA$6))-SUM($AR7:AU7))-5*(MAX(IF(MIN(ROUND($BN7,0),SUM($AR$6:$BA$6))>=50,3,IF(MIN(ROUND($BN7,0),SUM($AR$6:$BA$6))>=10,1,0)),MIN(MIN($AR$6:$BA$6)-2,ROUND(MIN(ROUND($BN7,0),SUM($AR$6:$BA$6))/10,0)-1))+2)),MIN(MIN(MAX(IF(MIN(ROUND($BN7,0),SUM($AR$6:$BA$6))>=50,3,IF(MIN(ROUND($BN7,0),SUM($AR$6:$BA$6))>=10,1,0)),MIN(MIN($AR$6:$BA$6)-2,ROUND(MIN(ROUND($BN7,0),SUM($AR$6:$BA$6))/10,0)-1))+2,(MIN(ROUND($BN7,0),SUM($AR$6:$BA$6))-SUM($AR7:AU7))-5*MAX(IF(MIN(ROUND($BN7,0),SUM($AR$6:$BA$6))>=50,3,IF(MIN(ROUND($BN7,0),SUM($AR$6:$BA$6))>=10,1,0)),MIN(MIN($AR$6:$BA$6)-2,ROUND(MIN(ROUND($BN7,0),SUM($AR$6:$BA$6))/10,0)-1))),ROUND((MIN(ROUND($BN7,0),SUM($AR$6:$BA$6))-SUM($AR7:AU7))/6+(MOD(SIN($BS$2*7919+ROW()*12.9898+COLUMN()*78.233)*43758.5453,1)-0.5)*2.4,0)))) -> 10 | AW7: =IF($BN7="","",MAX(MAX(MAX(IF(MIN(ROUND($BN7,0),SUM($AR$6:$BA$6))>=50,3,IF(MIN(ROUND($BN7,0),SUM($AR$6:$BA$6))>=10,1,0)),MIN(MIN($AR$6:$BA$6)-2,ROUND(MIN(ROUND($BN7,0),SUM($AR$6:$BA$6))/10,0)-1)),(MIN(ROUND($BN7,0),SUM($AR$6:$BA$6))-SUM($AR7:AV7))-4*(MAX(IF(MIN(ROUND($BN7,0),SUM($AR$6:$BA$6))>=50,3,IF(MIN(ROUND($BN7,0),SUM($AR$6:$BA$6))>=10,1,0)),MIN(MIN($AR$6:$BA$6)-2,ROUND(MIN(ROUND($BN7,0),SUM($AR$6:$BA$6))/10,0)-1))+2)),MIN(MIN(MAX(IF(MIN(ROUND($BN7,0),SUM($AR$6:$BA$6))>=50,3,IF(MIN(ROUND($BN7,0),SUM($AR$6:$BA$6))>=10,1,0)),MIN(MIN($AR$6:$BA$6)-2,ROUND(MIN(ROUND($BN7,0),SUM($AR$6:$BA$6))/10,0)-1))+2,(MIN(ROUND($BN7,0),SUM($AR$6:$BA$6))-SUM($AR7:AV7))-4*MAX(IF(MIN(ROUND($BN7,0),SUM($AR$6:$BA$6))>=50,3,IF(MIN(ROUND($BN7,0),SUM($AR$6:$BA$6))>=10,1,0)),MIN(MIN($AR$6:$BA$6)-2,ROUND(MIN(ROUND($BN7,0),SUM($AR$6:$BA$6))/10,0)-1))),ROUND((MIN(ROUND($BN7,0),SUM($AR$6:$BA$6))-SUM($AR7:AV7))/5+(MOD(SIN($BS$2*7919+ROW()*12.9898+COLUMN()*78.233)*43758.5453,1)-0.5)*2.4,0)))) -> 9 | AX7: =IF($BN7="","",MAX(MAX(MAX(IF(MIN(ROUND($BN7,0),SUM($AR$6:$BA$6))>=50,3,IF(MIN(ROUND($BN7,0),SUM($AR$6:$BA$6))>=10,1,0)),MIN(MIN($AR$6:$BA$6)-2,ROUND(MIN(ROUND($BN7,0),SUM($AR$6:$BA$6))/10,0)-1)),(MIN(ROUND($BN7,0),SUM($AR$6:$BA$6))-SUM($AR7:AW7))-3*(MAX(IF(MIN(ROUND($BN7,0),SUM($AR$6:$BA$6))>=50,3,IF(MIN(ROUND($BN7,0),SUM($AR$6:$BA$6))>=10,1,0)),MIN(MIN($AR$6:$BA$6)-2,ROUND(MIN(ROUND($BN7,0),SUM($AR$6:$BA$6))/10,0)-1))+2)),MIN(MIN(MAX(IF(MIN(ROUND($BN7,0),SUM($AR$6:$BA$6))>=50,3,IF(MIN(ROUND($BN7,0),SUM($AR$6:$BA$6))>=10,1,0)),MIN(MIN($AR$6:$BA$6)-2,ROUND(MIN(ROUND($BN7,0),SUM($AR$6:$BA$6))/10,0)-1))+2,(MIN(ROUND($BN7,0),SUM($AR$6:$BA$6))-SUM($AR7:AW7))-3*MAX(IF(MIN(ROUND($BN7,0),SUM($AR$6:$BA$6))>=50,3,IF(MIN(ROUND($BN7,0),SUM($AR$6:$BA$6))>=10,1,0)),MIN(MIN($AR$6:$BA$6)-2,ROUND(MIN(ROUND($BN7,0),SUM($AR$6:$BA$6))/10,0)-1))),ROUND((MIN(ROUND($BN7,0),SUM($AR$6:$BA$6))-SUM($AR7:AW7))/4+(MOD(SIN($BS$2*7919+ROW()*12.9898+COLUMN()*78.233)*43758.5453,1)-0.5)*2.4,0)))) -> 10 | AY7: =IF($BN7="","",MAX(MAX(MAX(IF(MIN(ROUND($BN7,0),SUM($AR$6:$BA$6))>=50,3,IF(MIN(ROUND($BN7,0),SUM($AR$6:$BA$6))>=10,1,0)),MIN(MIN($AR$6:$BA$6)-2,ROUND(MIN(ROUND($BN7,0),SUM($AR$6:$BA$6))/10,0)-1)),(MIN(ROUND($BN7,0),SUM($AR$6:$BA$6))-SUM($AR7:AX7))-2*(MAX(IF(MIN(ROUND($BN7,0),SUM($AR$6:$BA$6))>=50,3,IF(MIN(ROUND($BN7,0),SUM($AR$6:$BA$6))>=10,1,0)),MIN(MIN($AR$6:$BA$6)-2,ROUND(MIN(ROUND($BN7,0),SUM($AR$6:$BA$6))/10,0)-1))+2)),MIN(MIN(MAX(IF(MIN(ROUND($BN7,0),SUM($AR$6:$BA$6))>=50,3,IF(MIN(ROUND($BN7,0),SUM($AR$6:$BA$6))>=10,1,0)),MIN(MIN($AR$6:$BA$6)-2,ROUND(MIN(ROUND($BN7,0),SUM($AR$6:$BA$6))/10,0)-1))+2,(MIN(ROUND($BN7,0),SUM($AR$6:$BA$6))-SUM($AR7:AX7))-2*MAX(IF(MIN(ROUND($BN7,0),SUM($AR$6:$BA$6))>=50,3,IF(MIN(ROUND($BN7,0),SUM($AR$6:$BA$6))>=10,1,0)),MIN(MIN($AR$6:$BA$6)-2,ROUND(MIN(ROUND($BN7,0),SUM($AR$6:$BA$6))/10,0)-1))),ROUND((MIN(ROUND($BN7,0),SUM($AR$6:$BA$6))-SUM($AR7:AX7))/3+(MOD(SIN($BS$2*7919+ROW()*12.9898+COLUMN()*78.233)*43758.5453,1)-0.5)*2.4,0)))) -> 10 | AZ7: =IF($BN7="","",MAX(MAX(MAX(IF(MIN(ROUND($BN7,0),SUM($AR$6:$BA$6))>=50,3,IF(MIN(ROUND($BN7,0),SUM($AR$6:$BA$6))>=10,1,0)),MIN(MIN($AR$6:$BA$6)-2,ROUND(MIN(ROUND($BN7,0),SUM($AR$6:$BA$6))/10,0)-1)),(MIN(ROUND($BN7,0),SUM($AR$6:$BA$6))-SUM($AR7:AY7))-1*(MAX(IF(MIN(ROUND($BN7,0),SUM($AR$6:$BA$6))>=50,3,IF(MIN(ROUND($BN7,0),SUM($AR$6:$BA$6))>=10,1,0)),MIN(MIN($AR$6:$BA$6)-2,ROUND(MIN(ROUND($BN7,0),SUM($AR$6:$BA$6))/10,0)-1))+2)),MIN(MIN(MAX(IF(MIN(ROUND($BN7,0),SUM($AR$6:$BA$6))>=50,3,IF(MIN(ROUND($BN7,0),SUM($AR$6:$BA$6))>=10,1,0)),MIN(MIN($AR$6:$BA$6)-2,ROUND(MIN(ROUND($BN7,0),SUM($AR$6:$BA$6))/10,0)-1))+2,(MIN(ROUND($BN7,0),SUM($AR$6:$BA$6))-SUM($AR7:AY7))-1*MAX(IF(MIN(ROUND($BN7,0),SUM($AR$6:$BA$6))>=50,3,IF(MIN(ROUND($BN7,0),SUM($AR$6:$BA$6))>=10,1,0)),MIN(MIN($AR$6:$BA$6)-2,ROUND(MIN(ROUND($BN7,0),SUM($AR$6:$BA$6))/10,0)-1))),ROUND((MIN(ROUND($BN7,0),SUM($AR$6:$BA$6))-SUM($AR7:AY7))/2+(MOD(SIN($BS$2*7919+ROW()*12.9898+COLUMN()*78.233)*43758.5453,1)-0.5)*2.4,0)))) -> 8 | BA7: =IF($BN7="","",(MIN(ROUND($BN7,0),SUM($AR$6:$BA$6))-SUM($AR7:AZ7))) -> 8 | BB7: =IF($BO7="","",MAX(MAX(MAX(IF(MIN(ROUND($BO7,0),SUM($BB$6:$BK$6))>=50,3,IF(MIN(ROUND($BO7,0),SUM($BB$6:$BK$6))>=10,1,0)),MIN(MIN($BB$6:$BK$6)-2,ROUND(MIN(ROUND($BO7,0),SUM($BB$6:$BK$6))/10,0)-1)),MIN(ROUND($BO7,0),SUM($BB$6:$BK$6))-9*(MAX(IF(MIN(ROUND($BO7,0),SUM($BB$6:$BK$6))>=50,3,IF(MIN(ROUND($BO7,0),SUM($BB$6:$BK$6))>=10,1,0)),MIN(MIN($BB$6:$BK$6)-2,ROUND(MIN(ROUND($BO7,0),SUM($BB$6:$BK$6))/10,0)-1))+2)),MIN(MIN(MAX(IF(MIN(ROUND($BO7,0),SUM($BB$6:$BK$6))>=50,3,IF(MIN(ROUND($BO7,0),SUM($BB$6:$BK$6))>=10,1,0)),MIN(MIN($BB$6:$BK$6)-2,ROUND(MIN(ROUND($BO7,0),SUM($BB$6:$BK$6))/10,0)-1))+2,MIN(ROUND($BO7,0),SUM($BB$6:$BK$6))-9*MAX(IF(MIN(ROUND($BO7,0),SUM($BB$6:$BK$6))>=50,3,IF(MIN(ROUND($BO7,0),SUM($BB$6:$BK$6))>=10,1,0)),MIN(MIN($BB$6:$BK$6)-2,ROUND(MIN(ROUND($BO7,0),SUM($BB$6:$BK$6))/10,0)-1))),ROUND(MIN(ROUND($BO7,0),SUM($BB$6:$BK$6))/10+(MOD(SIN($BS$2*7919+ROW()*12.9898+COLUMN()*78.233)*43758.5453,1)-0.5)*2.4,0)))) -> 10 | BC7: =IF($BO7="","",MAX(MAX(MAX(IF(MIN(ROUND($BO7,0),SUM($BB$6:$BK$6))>=50,3,IF(MIN(ROUND($BO7,0),SUM($BB$6:$BK$6))>=10,1,0)),MIN(MIN($BB$6:$BK$6)-2,ROUND(MIN(ROUND($BO7,0),SUM($BB$6:$BK$6))/10,0)-1)),(MIN(ROUND($BO7,0),SUM($BB$6:$BK$6))-SUM($BB7:BB7))-8*(MAX(IF(MIN(ROUND($BO7,0),SUM($BB$6:$BK$6))>=50,3,IF(MIN(ROUND($BO7,0),SUM($BB$6:$BK$6))>=10,1,0)),MIN(MIN($BB$6:$BK$6)-2,ROUND(MIN(ROUND($BO7,0),SUM($BB$6:$BK$6))/10,0)-1))+2)),MIN(MIN(MAX(IF(MIN(ROUND($BO7,0),SUM($BB$6:$BK$6))>=50,3,IF(MIN(ROUND($BO7,0),SUM($BB$6:$BK$6))>=10,1,0)),MIN(MIN($BB$6:$BK$6)-2,ROUND(MIN(ROUND($BO7,0),SUM($BB$6:$BK$6))/10,0)-1))+2,(MIN(ROUND($BO7,0),SUM($BB$6:$BK$6))-SUM($BB7:BB7))-8*MAX(IF(MIN(ROUND($BO7,0),SUM($BB$6:$BK$6))>=50,3,IF(MIN(ROUND($BO7,0),SUM($BB$6:$BK$6))>=10,1,0)),MIN(MIN($BB$6:$BK$6)-2,ROUND(MIN(ROUND($BO7,0),SUM($BB$6:$BK$6))/10,0)-1))),ROUND((MIN(ROUND($BO7,0),SUM($BB$6:$BK$6))-SUM($BB7:BB7))/9+(MOD(SIN($BS$2*7919+ROW()*12.9898+COLUMN()*78.233)*43758.5453,1)-0.5)*2.4,0)))) -> 9 | BD7: =IF($BO7="","",MAX(MAX(MAX(IF(MIN(ROUND($BO7,0),SUM($BB$6:$BK$6))>=50,3,IF(MIN(ROUND($BO7,0),SUM($BB$6:$BK$6))>=10,1,0)),MIN(MIN($BB$6:$BK$6)-2,ROUND(MIN(ROUND($BO7,0),SUM($BB$6:$BK$6))/10,0)-1)),(MIN(ROUND($BO7,0),SUM($BB$6:$BK$6))-SUM($BB7:BC7))-7*(MAX(IF(MIN(ROUND($BO7,0),SUM($BB$6:$BK$6))>=50,3,IF(MIN(ROUND($BO7,0),SUM($BB$6:$BK$6))>=10,1,0)),MIN(MIN($BB$6:$BK$6)-2,ROUND(MIN(ROUND($BO7,0),SUM($BB$6:$BK$6))/10,0)-1))+2)),MIN(MIN(MAX(IF(MIN(ROUND($BO7,0),SUM($BB$6:$BK$6))>=50,3,IF(MIN(ROUND($BO7,0),SUM($BB$6:$BK$6))>=10,1,0)),MIN(MIN($BB$6:$BK$6)-2,ROUND(MIN(ROUND($BO7,0),SUM($BB$6:$BK$6))/10,0)-1))+2,(MIN(ROUND($BO7,0),SUM($BB$6:$BK$6))-SUM($BB7:BC7))-7*MAX(IF(MIN(ROUND($BO7,0),SUM($BB$6:$BK$6))>=50,3,IF(MIN(ROUND($BO7,0),SUM($BB$6:$BK$6))>=10,1,0)),MIN(MIN($BB$6:$BK$6)-2,ROUND(MIN(ROUND($BO7,0),SUM($BB$6:$BK$6))/10,0)-1))),ROUND((MIN(ROUND($BO7,0),SUM($BB$6:$BK$6))-SUM($BB7:BC7))/8+(MOD(SIN($BS$2*7919+ROW()*12.9898+COLUMN()*78.233)*43758.5453,1)-0.5)*2.4,0)))) -> 9 | BE7: =IF($BO7="","",MAX(MAX(MAX(IF(MIN(ROUND($BO7,0),SUM($BB$6:$BK$6))>=50,3,IF(MIN(ROUND($BO7,0),SUM($BB$6:$BK$6))>=10,1,0)),MIN(MIN($BB$6:$BK$6)-2,ROUND(MIN(ROUND($BO7,0),SUM($BB$6:$BK$6))/10,0)-1)),(MIN(ROUND($BO7,0),SUM($BB$6:$BK$6))-SUM($BB7:BD7))-6*(MAX(IF(MIN(ROUND($BO7,0),SUM($BB$6:$BK$6))>=50,3,IF(MIN(ROUND($BO7,0),SUM($BB$6:$BK$6))>=10,1,0)),MIN(MIN($BB$6:$BK$6)-2,ROUND(MIN(ROUND($BO7,0),SUM($BB$6:$BK$6))/10,0)-1))+2)),MIN(MIN(MAX(IF(MIN(ROUND($BO7,0),SUM($BB$6:$BK$6))>=50,3,IF(MIN(ROUND($BO7,0),SUM($BB$6:$BK$6))>=10,1,0)),MIN(MIN($BB$6:$BK$6)-2,ROUND(MIN(ROUND($BO7,0),SUM($BB$6:$BK$6))/10,0)-1))+2,(MIN(ROUND($BO7,0),SUM($BB$6:$BK$6))-SUM($BB7:BD7))-6*MAX(IF(MIN(ROUND($BO7,0),SUM($BB$6:$BK$6))>=50,3,IF(MIN(ROUND($BO7,0),SUM($BB$6:$BK$6))>=10,1,0)),MIN(MIN($BB$6:$BK$6)-2,ROUND(MIN(ROUND($BO7,0),SUM($BB$6:$BK$6))/10,0)-1))),ROUND((MIN(ROUND($BO7,0),SUM($BB$6:$BK$6))-SUM($BB7:BD7))/7+(MOD(SIN($BS$2*7919+ROW()*12.9898+COLUMN()*78.233)*43758.5453,1)-0.5)*2.4,0)))) -> 8 | BF7: =IF($BO7="","",MAX(MAX(MAX(IF(MIN(ROUND($BO7,0),SUM($BB$6:$BK$6))>=50,3,IF(MIN(ROUND($BO7,0),SUM($BB$6:$BK$6))>=10,1,0)),MIN(MIN($BB$6:$BK$6)-2,ROUND(MIN(ROUND($BO7,0),SUM($BB$6:$BK$6))/10,0)-1)),(MIN(ROUND($BO7,0),SUM($BB$6:$BK$6))-SUM($BB7:BE7))-5*(MAX(IF(MIN(ROUND($BO7,0),SUM($BB$6:$BK$6))>=50,3,IF(MIN(ROUND($BO7,0),SUM($BB$6:$BK$6))>=10,1,0)),MIN(MIN($BB$6:$BK$6)-2,ROUND(MIN(ROUND($BO7,0),SUM($BB$6:$BK$6))/10,0)-1))+2)),MIN(MIN(MAX(IF(MIN(ROUND($BO7,0),SUM($BB$6:$BK$6))>=50,3,IF(MIN(ROUND($BO7,0),SUM($BB$6:$BK$6))>=10,1,0)),MIN(MIN($BB$6:$BK$6)-2,ROUND(MIN(ROUND($BO7,0),SUM($BB$6:$BK$6))/10,0)-1))+2,(MIN(ROUND($BO7,0),SUM($BB$6:$BK$6))-SUM($BB7:BE7))-5*MAX(IF(MIN(ROUND($BO7,0),SUM($BB$6:$BK$6))>=50,3,IF(MIN(ROUND($BO7,0),SUM($BB$6:$BK$6))>=10,1,0)),MIN(MIN($BB$6:$BK$6)-2,ROUND(MIN(ROUND($BO7,0),SUM($BB$6:$BK$6))/10,0)-1))),ROUND((MIN(ROUND($BO7,0),SUM($BB$6:$BK$6))-SUM($BB7:BE7))/6+(MOD(SIN($BS$2*7919+ROW()*12.9898+COLUMN()*78.233)*43758.5453,1)-0.5)*2.4,0)))) -> 9 | BG7: =IF($BO7="","",MAX(MAX(MAX(IF(MIN(ROUND($BO7,0),SUM($BB$6:$BK$6))>=50,3,IF(MIN(ROUND($BO7,0),SUM($BB$6:$BK$6))>=10,1,0)),MIN(MIN($BB$6:$BK$6)-2,ROUND(MIN(ROUND($BO7,0),SUM($BB$6:$BK$6))/10,0)-1)),(MIN(ROUND($BO7,0),SUM($BB$6:$BK$6))-SUM($BB7:BF7))-4*(MAX(IF(MIN(ROUND($BO7,0),SUM($BB$6:$BK$6))>=50,3,IF(MIN(ROUND($BO7,0),SUM($BB$6:$BK$6))>=10,1,0)),MIN(MIN($BB$6:$BK$6)-2,ROUND(MIN(ROUND($BO7,0),SUM($BB$6:$BK$6))/10,0)-1))+2)),MIN(MIN(MAX(IF(MIN(ROUND($BO7,0),SUM($BB$6:$BK$6))>=50,3,IF(MIN(ROUND($BO7,0),SUM($BB$6:$BK$6))>=10,1,0)),MIN(MIN($BB$6:$BK$6)-2,ROUND(MIN(ROUND($BO7,0),SUM($BB$6:$BK$6))/10,0)-1))+2,(MIN(ROUND($BO7,0),SUM($BB$6:$BK$6))-SUM($BB7:BF7))-4*MAX(IF(MIN(ROUND($BO7,0),SUM($BB$6:$BK$6))>=50,3,IF(MIN(ROUND($BO7,0),SUM($BB$6:$BK$6))>=10,1,0)),MIN(MIN($BB$6:$BK$6)-2,ROUND(MIN(ROUND($BO7,0),SUM($BB$6:$BK$6))/10,0)-1))),ROUND((MIN(ROUND($BO7,0),SUM($BB$6:$BK$6))-SUM($BB7:BF7))/5+(MOD(SIN($BS$2*7919+ROW()*12.9898+COLUMN()*78.233)*43758.5453,1)-0.5)*2.4,0)))) -> 10 | BH7: =IF($BO7="","",MAX(MAX(MAX(IF(MIN(ROUND($BO7,0),SUM($BB$6:$BK$6))>=50,3,IF(MIN(ROUND($BO7,0),SUM($BB$6:$BK$6))>=10,1,0)),MIN(MIN($BB$6:$BK$6)-2,ROUND(MIN(ROUND($BO7,0),SUM($BB$6:$BK$6))/10,0)-1)),(MIN(ROUND($BO7,0),SUM($BB$6:$BK$6))-SUM($BB7:BG7))-3*(MAX(IF(MIN(ROUND($BO7,0),SUM($BB$6:$BK$6))>=50,3,IF(MIN(ROUND($BO7,0),SUM($BB$6:$BK$6))>=10,1,0)),MIN(MIN($BB$6:$BK$6)-2,ROUND(MIN(ROUND($BO7,0),SUM($BB$6:$BK$6))/10,0)-1))+2)),MIN(MIN(MAX(IF(MIN(ROUND($BO7,0),SUM($BB$6:$BK$6))>=50,3,IF(MIN(ROUND($BO7,0),SUM($BB$6:$BK$6))>=10,1,0)),MIN(MIN($BB$6:$BK$6)-2,ROUND(MIN(ROUND($BO7,0),SUM($BB$6:$BK$6))/10,0)-1))+2,(MIN(ROUND($BO7,0),SUM($BB$6:$BK$6))-SUM($BB7:BG7))-3*MAX(IF(MIN(ROUND($BO7,0),SUM($BB$6:$BK$6))>=50,3,IF(MIN(ROUND($BO7,0),SUM($BB$6:$BK$6))>=10,1,0)),MIN(MIN($BB$6:$BK$6)-2,ROUND(MIN(ROUND($BO7,0),SUM($BB$6:$BK$6))/10,0)-1))),ROUND((MIN(ROUND($BO7,0),SUM($BB$6:$BK$6))-SUM($BB7:BG7))/4+(MOD(SIN($BS$2*7919+ROW()*12.9898+COLUMN()*78.233)*43758.5453,1)-0.5)*2.4,0)))) -> 10 | BI7: =IF($BO7="","",MAX(MAX(MAX(IF(MIN(ROUND($BO7,0),SUM($BB$6:$BK$6))>=50,3,IF(MIN(ROUND($BO7,0),SUM($BB$6:$BK$6))>=10,1,0)),MIN(MIN($BB$6:$BK$6)-2,ROUND(MIN(ROUND($BO7,0),SUM($BB$6:$BK$6))/10,0)-1)),(MIN(ROUND($BO7,0),SUM($BB$6:$BK$6))-SUM($BB7:BH7))-2*(MAX(IF(MIN(ROUND($BO7,0),SUM($BB$6:$BK$6))>=50,3,IF(MIN(ROUND($BO7,0),SUM($BB$6:$BK$6))>=10,1,0)),MIN(MIN($BB$6:$BK$6)-2,ROUND(MIN(ROUND($BO7,0),SUM($BB$6:$BK$6))/10,0)-1))+2)),MIN(MIN(MAX(IF(MIN(ROUND($BO7,0),SUM($BB$6:$BK$6))>=50,3,IF(MIN(ROUND($BO7,0),SUM($BB$6:$BK$6))>=10,1,0)),MIN(MIN($BB$6:$BK$6)-2,ROUND(MIN(ROUND($BO7,0),SUM($BB$6:$BK$6))/10,0)-1))+2,(MIN(ROUND($BO7,0),SUM($BB$6:$BK$6))-SUM($BB7:BH7))-2*MAX(IF(MIN(ROUND($BO7,0),SUM($BB$6:$BK$6))>=50,3,IF(MIN(ROUND($BO7,0),SUM($BB$6:$BK$6))>=10,1,0)),MIN(MIN($BB$6:$BK$6)-2,ROUND(MIN(ROUND($BO7,0),SUM($BB$6:$BK$6))/10,0)-1))),ROUND((MIN(ROUND($BO7,0),SUM($BB$6:$BK$6))-SUM($BB7:BH7))/3+(MOD(SIN($BS$2*7919+ROW()*12.9898+COLUMN()*78.233)*43758.5453,1)-0.5)*2.4,0)))) -> 10 | BJ7: =IF($BO7="","",MAX(MAX(MAX(IF(MIN(ROUND($BO7,0),SUM($BB$6:$BK$6))>=50,3,IF(MIN(ROUND($BO7,0),SUM($BB$6:$BK$6))>=10,1,0)),MIN(MIN($BB$6:$BK$6)-2,ROUND(MIN(ROUND($BO7,0),SUM($BB$6:$BK$6))/10,0)-1)),(MIN(ROUND($BO7,0),SUM($BB$6:$BK$6))-SUM($BB7:BI7))-1*(MAX(IF(MIN(ROUND($BO7,0),SUM($BB$6:$BK$6))>=50,3,IF(MIN(ROUND($BO7,0),SUM($BB$6:$BK$6))>=10,1,0)),MIN(MIN($BB$6:$BK$6)-2,ROUND(MIN(ROUND($BO7,0),SUM($BB$6:$BK$6))/10,0)-1))+2)),MIN(MIN(MAX(IF(MIN(ROUND($BO7,0),SUM($BB$6:$BK$6))>=50,3,IF(MIN(ROUND($BO7,0),SUM($BB$6:$BK$6))>=10,1,0)),MIN(MIN($BB$6:$BK$6)-2,ROUND(MIN(ROUND($BO7,0),SUM($BB$6:$BK$6))/10,0)-1))+2,(MIN(ROUND($BO7,0),SUM($BB$6:$BK$6))-SUM($BB7:BI7))-1*MAX(IF(MIN(ROUND($BO7,0),SUM($BB$6:$BK$6))>=50,3,IF(MIN(ROUND($BO7,0),SUM($BB$6:$BK$6))>=10,1,0)),MIN(MIN($BB$6:$BK$6)-2,ROUND(MIN(ROUND($BO7,0),SUM($BB$6:$BK$6))/10,0)-1))),ROUND((MIN(ROUND($BO7,0),SUM($BB$6:$BK$6))-SUM($BB7:BI7))/2+(MOD(SIN($BS$2*7919+ROW()*12.9898+COLUMN()*78.233)*43758.5453,1)-0.5)*2.4,0)))) -> 10 | BK7: =IF($BO7="","",(MIN(ROUND($BO7,0),SUM($BB$6:$BK$6))-SUM($BB7:BJ7))) -> 10 | BL7: =IF('SINIF LİSTESİ'!D5="", "", 'SINIF LİSTESİ'!D5) -> 70 | BM7: =IF('SINIF LİSTESİ'!E5="", "", 'SINIF LİSTESİ'!E5) -> 95 | BN7: =IF('SINIF LİSTESİ'!F5="", "", 'SINIF LİSTESİ'!F5) -> 90 | BO7: =IF('SINIF LİSTESİ'!G5="", "", 'SINIF LİSTESİ'!G5) -> 95 | BP7: =IF('SINIF LİSTESİ'!H5="", "", 'SINIF LİSTESİ'!H5) -> 85.833333
A8: ='SINIF LİSTESİ'!A6 -> 2 | B8: =IF('SINIF LİSTESİ'!B6="", "", 'SINIF LİSTESİ'!B6) -> 7855 | C8: =IF('SINIF LİSTESİ'!C6="", "", 'SINIF LİSTESİ'!C6) -> Fatih GÜVEN | D8: =IF($BL8="","",MAX(MAX(MAX(IF(MIN(ROUND($BL8,0),SUM($D$6:$W$6))>=50,2,IF(MIN(ROUND($BL8,0),SUM($D$6:$W$6))>=20,1,0)),MIN(MIN($D$6:$W$6)-2,ROUND(MIN(ROUND($BL8,0),SUM($D$6:$W$6))/20,0)-1)),MIN(ROUND($BL8,0),SUM($D$6:$W$6))-19*(MAX(IF(MIN(ROUND($BL8,0),SUM($D$6:$W$6))>=50,2,IF(MIN(ROUND($BL8,0),SUM($D$6:$W$6))>=20,1,0)),MIN(MIN($D$6:$W$6)-2,ROUND(MIN(ROUND($BL8,0),SUM($D$6:$W$6))/20,0)-1))+2)),MIN(MIN(MAX(IF(MIN(ROUND($BL8,0),SUM($D$6:$W$6))>=50,2,IF(MIN(ROUND($BL8,0),SUM($D$6:$W$6))>=20,1,0)),MIN(MIN($D$6:$W$6)-2,ROUND(MIN(ROUND($BL8,0),SUM($D$6:$W$6))/20,0)-1))+2,MIN(ROUND($BL8,0),SUM($D$6:$W$6))-19*MAX(IF(MIN(ROUND($BL8,0),SUM($D$6:$W$6))>=50,2,IF(MIN(ROUND($BL8,0),SUM($D$6:$W$6))>=20,1,0)),MIN(MIN($D$6:$W$6)-2,ROUND(MIN(ROUND($BL8,0),SUM($D$6:$W$6))/20,0)-1))),ROUND(MIN(ROUND($BL8,0),SUM($D$6:$W$6))/20+(MOD(SIN($BS$2*7919+ROW()*12.9898+COLUMN()*78.233)*43758.5453,1)-0.5)*2.4,0)))) -> 4 | E8: =IF($BL8="","",MAX(MAX(MAX(IF(MIN(ROUND($BL8,0),SUM($D$6:$W$6))>=50,2,IF(MIN(ROUND($BL8,0),SUM($D$6:$W$6))>=20,1,0)),MIN(MIN($D$6:$W$6)-2,ROUND(MIN(ROUND($BL8,0),SUM($D$6:$W$6))/20,0)-1)),(MIN(ROUND($BL8,0),SUM($D$6:$W$6))-SUM($D8:D8))-18*(MAX(IF(MIN(ROUND($BL8,0),SUM($D$6:$W$6))>=50,2,IF(MIN(ROUND($BL8,0),SUM($D$6:$W$6))>=20,1,0)),MIN(MIN($D$6:$W$6)-2,ROUND(MIN(ROUND($BL8,0),SUM($D$6:$W$6))/20,0)-1))+2)),MIN(MIN(MAX(IF(MIN(ROUND($BL8,0),SUM($D$6:$W$6))>=50,2,IF(MIN(ROUND($BL8,0),SUM($D$6:$W$6))>=20,1,0)),MIN(MIN($D$6:$W$6)-2,ROUND(MIN(ROUND($BL8,0),SUM($D$6:$W$6))/20,0)-1))+2,(MIN(ROUND($BL8,0),SUM($D$6:$W$6))-SUM($D8:D8))-18*MAX(IF(MIN(ROUND($BL8,0),SUM($D$6:$W$6))>=50,2,IF(MIN(ROUND($BL8,0),SUM($D$6:$W$6))>=20,1,0)),MIN(MIN($D$6:$W$6)-2,ROUND(MIN(ROUND($BL8,0),SUM($D$6:$W$6))/20,0)-1))),ROUND((MIN(ROUND($BL8,0),SUM($D$6:$W$6))-SUM($D8:D8))/19+(MOD(SIN($BS$2*7919+ROW()*12.9898+COLUMN()*78.233)*43758.5453,1)-0.5)*2.4,0)))) -> 4 | F8: =IF($BL8="","",MAX(MAX(MAX(IF(MIN(ROUND($BL8,0),SUM($D$6:$W$6))>=50,2,IF(MIN(ROUND($BL8,0),SUM($D$6:$W$6))>=20,1,0)),MIN(MIN($D$6:$W$6)-2,ROUND(MIN(ROUND($BL8,0),SUM($D$6:$W$6))/20,0)-1)),(MIN(ROUND($BL8,0),SUM($D$6:$W$6))-SUM($D8:E8))-17*(MAX(IF(MIN(ROUND($BL8,0),SUM($D$6:$W$6))>=50,2,IF(MIN(ROUND($BL8,0),SUM($D$6:$W$6))>=20,1,0)),MIN(MIN($D$6:$W$6)-2,ROUND(MIN(ROUND($BL8,0),SUM($D$6:$W$6))/20,0)-1))+2)),MIN(MIN(MAX(IF(MIN(ROUND($BL8,0),SUM($D$6:$W$6))>=50,2,IF(MIN(ROUND($BL8,0),SUM($D$6:$W$6))>=20,1,0)),MIN(MIN($D$6:$W$6)-2,ROUND(MIN(ROUND($BL8,0),SUM($D$6:$W$6))/20,0)-1))+2,(MIN(ROUND($BL8,0),SUM($D$6:$W$6))-SUM($D8:E8))-17*MAX(IF(MIN(ROUND($BL8,0),SUM($D$6:$W$6))>=50,2,IF(MIN(ROUND($BL8,0),SUM($D$6:$W$6))>=20,1,0)),MIN(MIN($D$6:$W$6)-2,ROUND(MIN(ROUND($BL8,0),SUM($D$6:$W$6))/20,0)-1))),ROUND((MIN(ROUND($BL8,0),SUM($D$6:$W$6))-SUM($D8:E8))/18+(MOD(SIN($BS$2*7919+ROW()*12.9898+COLUMN()*78.233)*43758.5453,1)-0.5)*2.4,0)))) -> 5 | G8: =IF($BL8="","",MAX(MAX(MAX(IF(MIN(ROUND($BL8,0),SUM($D$6:$W$6))>=50,2,IF(MIN(ROUND($BL8,0),SUM($D$6:$W$6))>=20,1,0)),MIN(MIN($D$6:$W$6)-2,ROUND(MIN(ROUND($BL8,0),SUM($D$6:$W$6))/20,0)-1)),(MIN(ROUND($BL8,0),SUM($D$6:$W$6))-SUM($D8:F8))-16*(MAX(IF(MIN(ROUND($BL8,0),SUM($D$6:$W$6))>=50,2,IF(MIN(ROUND($BL8,0),SUM($D$6:$W$6))>=20,1,0)),MIN(MIN($D$6:$W$6)-2,ROUND(MIN(ROUND($BL8,0),SUM($D$6:$W$6))/20,0)-1))+2)),MIN(MIN(MAX(IF(MIN(ROUND($BL8,0),SUM($D$6:$W$6))>=50,2,IF(MIN(ROUND($BL8,0),SUM($D$6:$W$6))>=20,1,0)),MIN(MIN($D$6:$W$6)-2,ROUND(MIN(ROUND($BL8,0),SUM($D$6:$W$6))/20,0)-1))+2,(MIN(ROUND($BL8,0),SUM($D$6:$W$6))-SUM($D8:F8))-16*MAX(IF(MIN(ROUND($BL8,0),SUM($D$6:$W$6))>=50,2,IF(MIN(ROUND($BL8,0),SUM($D$6:$W$6))>=20,1,0)),MIN(MIN($D$6:$W$6)-2,ROUND(MIN(ROUND($BL8,0),SUM($D$6:$W$6))/20,0)-1))),ROUND((MIN(ROUND($BL8,0),SUM($D$6:$W$6))-SUM($D8:F8))/17+(MOD(SIN($BS$2*7919+ROW()*12.9898+COLUMN()*78.233)*43758.5453,1)-0.5)*2.4,0)))) -> 5 | H8: =IF($BL8="","",MAX(MAX(MAX(IF(MIN(ROUND($BL8,0),SUM($D$6:$W$6))>=50,2,IF(MIN(ROUND($BL8,0),SUM($D$6:$W$6))>=20,1,0)),MIN(MIN($D$6:$W$6)-2,ROUND(MIN(ROUND($BL8,0),SUM($D$6:$W$6))/20,0)-1)),(MIN(ROUND($BL8,0),SUM($D$6:$W$6))-SUM($D8:G8))-15*(MAX(IF(MIN(ROUND($BL8,0),SUM($D$6:$W$6))>=50,2,IF(MIN(ROUND($BL8,0),SUM($D$6:$W$6))>=20,1,0)),MIN(MIN($D$6:$W$6)-2,ROUND(MIN(ROUND($BL8,0),SUM($D$6:$W$6))/20,0)-1))+2)),MIN(MIN(MAX(IF(MIN(ROUND($BL8,0),SUM($D$6:$W$6))>=50,2,IF(MIN(ROUND($BL8,0),SUM($D$6:$W$6))>=20,1,0)),MIN(MIN($D$6:$W$6)-2,ROUND(MIN(ROUND($BL8,0),SUM($D$6:$W$6))/20,0)-1))+2,(MIN(ROUND($BL8,0),SUM($D$6:$W$6))-SUM($D8:G8))-15*MAX(IF(MIN(ROUND($BL8,0),SUM($D$6:$W$6))>=50,2,IF(MIN(ROUND($BL8,0),SUM($D$6:$W$6))>=20,1,0)),MIN(MIN($D$6:$W$6)-2,ROUND(MIN(ROUND($BL8,0),SUM($D$6:$W$6))/20,0)-1))),ROUND((MIN(ROUND($BL8,0),SUM($D$6:$W$6))-SUM($D8:G8))/16+(MOD(SIN($BS$2*7919+ROW()*12.9898+COLUMN()*78.233)*43758.5453,1)-0.5)*2.4,0)))) -> 4 | I8: =IF($BL8="","",MAX(MAX(MAX(IF(MIN(ROUND($BL8,0),SUM($D$6:$W$6))>=50,2,IF(MIN(ROUND($BL8,0),SUM($D$6:$W$6))>=20,1,0)),MIN(MIN($D$6:$W$6)-2,ROUND(MIN(ROUND($BL8,0),SUM($D$6:$W$6))/20,0)-1)),(MIN(ROUND($BL8,0),SUM($D$6:$W$6))-SUM($D8:H8))-14*(MAX(IF(MIN(ROUND($BL8,0),SUM($D$6:$W$6))>=50,2,IF(MIN(ROUND($BL8,0),SUM($D$6:$W$6))>=20,1,0)),MIN(MIN($D$6:$W$6)-2,ROUND(MIN(ROUND($BL8,0),SUM($D$6:$W$6))/20,0)-1))+2)),MIN(MIN(MAX(IF(MIN(ROUND($BL8,0),SUM($D$6:$W$6))>=50,2,IF(MIN(ROUND($BL8,0),SUM($D$6:$W$6))>=20,1,0)),MIN(MIN($D$6:$W$6)-2,ROUND(MIN(ROUND($BL8,0),SUM($D$6:$W$6))/20,0)-1))+2,(MIN(ROUND($BL8,0),SUM($D$6:$W$6))-SUM($D8:H8))-14*MAX(IF(MIN(ROUND($BL8,0),SUM($D$6:$W$6))>=50,2,IF(MIN(ROUND($BL8,0),SUM($D$6:$W$6))>=20,1,0)),MIN(MIN($D$6:$W$6)-2,ROUND(MIN(ROUND($BL8,0),SUM($D$6:$W$6))/20,0)-1))),ROUND((MIN(ROUND($BL8,0),SUM($D$6:$W$6))-SUM($D8:H8))/15+(MOD(SIN($BS$2*7919+ROW()*12.9898+COLUMN()*78.233)*43758.5453,1)-0.5)*2.4,0)))) -> 4 | J8: =IF($BL8="","",MAX(MAX(MAX(IF(MIN(ROUND($BL8,0),SUM($D$6:$W$6))>=50,2,IF(MIN(ROUND($BL8,0),SUM($D$6:$W$6))>=20,1,0)),MIN(MIN($D$6:$W$6)-2,ROUND(MIN(ROUND($BL8,0),SUM($D$6:$W$6))/20,0)-1)),(MIN(ROUND($BL8,0),SUM($D$6:$W$6))-SUM($D8:I8))-13*(MAX(IF(MIN(ROUND($BL8,0),SUM($D$6:$W$6))>=50,2,IF(MIN(ROUND($BL8,0),SUM($D$6:$W$6))>=20,1,0)),MIN(MIN($D$6:$W$6)-2,ROUND(MIN(ROUND($BL8,0),SUM($D$6:$W$6))/20,0)-1))+2)),MIN(MIN(MAX(IF(MIN(ROUND($BL8,0),SUM($D$6:$W$6))>=50,2,IF(MIN(ROUND($BL8,0),SUM($D$6:$W$6))>=20,1,0)),MIN(MIN($D$6:$W$6)-2,ROUND(MIN(ROUND($BL8,0),SUM($D$6:$W$6))/20,0)-1))+2,(MIN(ROUND($BL8,0),SUM($D$6:$W$6))-SUM($D8:I8))-13*MAX(IF(MIN(ROUND($BL8,0),SUM($D$6:$W$6))>=50,2,IF(MIN(ROUND($BL8,0),SUM($D$6:$W$6))>=20,1,0)),MIN(MIN($D$6:$W$6)-2,ROUND(MIN(ROUND($BL8,0),SUM($D$6:$W$6))/20,0)-1))),ROUND((MIN(ROUND($BL8,0),SUM($D$6:$W$6))-SUM($D8:I8))/14+(MOD(SIN($BS$2*7919+ROW()*12.9898+COLUMN()*78.233)*43758.5453,1)-0.5)*2.4,0)))) -> 4 | K8: =IF($BL8="","",MAX(MAX(MAX(IF(MIN(ROUND($BL8,0),SUM($D$6:$W$6))>=50,2,IF(MIN(ROUND($BL8,0),SUM($D$6:$W$6))>=20,1,0)),MIN(MIN($D$6:$W$6)-2,ROUND(MIN(ROUND($BL8,0),SUM($D$6:$W$6))/20,0)-1)),(MIN(ROUND($BL8,0),SUM($D$6:$W$6))-SUM($D8:J8))-12*(MAX(IF(MIN(ROUND($BL8,0),SUM($D$6:$W$6))>=50,2,IF(MIN(ROUND($BL8,0),SUM($D$6:$W$6))>=20,1,0)),MIN(MIN($D$6:$W$6)-2,ROUND(MIN(ROUND($BL8,0),SUM($D$6:$W$6))/20,0)-1))+2)),MIN(MIN(MAX(IF(MIN(ROUND($BL8,0),SUM($D$6:$W$6))>=50,2,IF(MIN(ROUND($BL8,0),SUM($D$6:$W$6))>=20,1,0)),MIN(MIN($D$6:$W$6)-2,ROUND(MIN(ROUND($BL8,0),SUM($D$6:$W$6))/20,0)-1))+2,(MIN(ROUND($BL8,0),SUM($D$6:$W$6))-SUM($D8:J8))-12*MAX(IF(MIN(ROUND($BL8,0),SUM($D$6:$W$6))>=50,2,IF(MIN(ROUND($BL8,0),SUM($D$6:$W$6))>=20,1,0)),MIN(MIN($D$6:$W$6)-2,ROUND(MIN(ROUND($BL8,0),SUM($D$6:$W$6))/20,0)-1))),ROUND((MIN(ROUND($BL8,0),SUM($D$6:$W$6))-SUM($D8:J8))/13+(MOD(SIN($BS$2*7919+ROW()*12.9898+COLUMN()*78.233)*43758.5453,1)-0.5)*2.4,0)))) -> 5 | L8: =IF($BL8="","",MAX(MAX(MAX(IF(MIN(ROUND($BL8,0),SUM($D$6:$W$6))>=50,2,IF(MIN(ROUND($BL8,0),SUM($D$6:$W$6))>=20,1,0)),MIN(MIN($D$6:$W$6)-2,ROUND(MIN(ROUND($BL8,0),SUM($D$6:$W$6))/20,0)-1)),(MIN(ROUND($BL8,0),SUM($D$6:$W$6))-SUM($D8:K8))-11*(MAX(IF(MIN(ROUND($BL8,0),SUM($D$6:$W$6))>=50,2,IF(MIN(ROUND($BL8,0),SUM($D$6:$W$6))>=20,1,0)),MIN(MIN($D$6:$W$6)-2,ROUND(MIN(ROUND($BL8,0),SUM($D$6:$W$6))/20,0)-1))+2)),MIN(MIN(MAX(IF(MIN(ROUND($BL8,0),SUM($D$6:$W$6))>=50,2,IF(MIN(ROUND($BL8,0),SUM($D$6:$W$6))>=20,1,0)),MIN(MIN($D$6:$W$6)-2,ROUND(MIN(ROUND($BL8,0),SUM($D$6:$W$6))/20,0)-1))+2,(MIN(ROUND($BL8,0),SUM($D$6:$W$6))-SUM($D8:K8))-11*MAX(IF(MIN(ROUND($BL8,0),SUM($D$6:$W$6))>=50,2,IF(MIN(ROUND($BL8,0),SUM($D$6:$W$6))>=20,1,0)),MIN(MIN($D$6:$W$6)-2,ROUND(MIN(ROUND($BL8,0),SUM($D$6:$W$6))/20,0)-1))),ROUND((MIN(ROUND($BL8,0),SUM($D$6:$W$6))-SUM($D8:K8))/12+(MOD(SIN($BS$2*7919+ROW()*12.9898+COLUMN()*78.233)*43758.5453,1)-0.5)*2.4,0)))) -> 5 | M8: =IF($BL8="","",MAX(MAX(MAX(IF(MIN(ROUND($BL8,0),SUM($D$6:$W$6))>=50,2,IF(MIN(ROUND($BL8,0),SUM($D$6:$W$6))>=20,1,0)),MIN(MIN($D$6:$W$6)-2,ROUND(MIN(ROUND($BL8,0),SUM($D$6:$W$6))/20,0)-1)),(MIN(ROUND($BL8,0),SUM($D$6:$W$6))-SUM($D8:L8))-10*(MAX(IF(MIN(ROUND($BL8,0),SUM($D$6:$W$6))>=50,2,IF(MIN(ROUND($BL8,0),SUM($D$6:$W$6))>=20,1,0)),MIN(MIN($D$6:$W$6)-2,ROUND(MIN(ROUND($BL8,0),SUM($D$6:$W$6))/20,0)-1))+2)),MIN(MIN(MAX(IF(MIN(ROUND($BL8,0),SUM($D$6:$W$6))>=50,2,IF(MIN(ROUND($BL8,0),SUM($D$6:$W$6))>=20,1,0)),MIN(MIN($D$6:$W$6)-2,ROUND(MIN(ROUND($BL8,0),SUM($D$6:$W$6))/20,0)-1))+2,(MIN(ROUND($BL8,0),SUM($D$6:$W$6))-SUM($D8:L8))-10*MAX(IF(MIN(ROUND($BL8,0),SUM($D$6:$W$6))>=50,2,IF(MIN(ROUND($BL8,0),SUM($D$6:$W$6))>=20,1,0)),MIN(MIN($D$6:$W$6)-2,ROUND(MIN(ROUND($BL8,0),SUM($D$6:$W$6))/20,0)-1))),ROUND((MIN(ROUND($BL8,0),SUM($D$6:$W$6))-SUM($D8:L8))/11+(MOD(SIN($BS$2*7919+ROW()*12.9898+COLUMN()*78.233)*43758.5453,1)-0.5)*2.4,0)))) -> 5 | N8: =IF($BL8="","",MAX(MAX(MAX(IF(MIN(ROUND($BL8,0),SUM($D$6:$W$6))>=50,2,IF(MIN(ROUND($BL8,0),SUM($D$6:$W$6))>=20,1,0)),MIN(MIN($D$6:$W$6)-2,ROUND(MIN(ROUND($BL8,0),SUM($D$6:$W$6))/20,0)-1)),(MIN(ROUND($BL8,0),SUM($D$6:$W$6))-SUM($D8:M8))-9*(MAX(IF(MIN(ROUND($BL8,0),SUM($D$6:$W$6))>=50,2,IF(MIN(ROUND($BL8,0),SUM($D$6:$W$6))>=20,1,0)),MIN(MIN($D$6:$W$6)-2,ROUND(MIN(ROUND($BL8,0),SUM($D$6:$W$6))/20,0)-1))+2)),MIN(MIN(MAX(IF(MIN(ROUND($BL8,0),SUM($D$6:$W$6))>=50,2,IF(MIN(ROUND($BL8,0),SUM($D$6:$W$6))>=20,1,0)),MIN(MIN($D$6:$W$6)-2,ROUND(MIN(ROUND($BL8,0),SUM($D$6:$W$6))/20,0)-1))+2,(MIN(ROUND($BL8,0),SUM($D$6:$W$6))-SUM($D8:M8))-9*MAX(IF(MIN(ROUND($BL8,0),SUM($D$6:$W$6))>=50,2,IF(MIN(ROUND($BL8,0),SUM($D$6:$W$6))>=20,1,0)),MIN(MIN($D$6:$W$6)-2,ROUND(MIN(ROUND($BL8,0),SUM($D$6:$W$6))/20,0)-1))),ROUND((MIN(ROUND($BL8,0),SUM($D$6:$W$6))-SUM($D8:M8))/10+(MOD(SIN($BS$2*7919+ROW()*12.9898+COLUMN()*78.233)*43758.5453,1)-0.5)*2.4,0)))) -> 5 | O8: =IF($BL8="","",MAX(MAX(MAX(IF(MIN(ROUND($BL8,0),SUM($D$6:$W$6))>=50,2,IF(MIN(ROUND($BL8,0),SUM($D$6:$W$6))>=20,1,0)),MIN(MIN($D$6:$W$6)-2,ROUND(MIN(ROUND($BL8,0),SUM($D$6:$W$6))/20,0)-1)),(MIN(ROUND($BL8,0),SUM($D$6:$W$6))-SUM($D8:N8))-8*(MAX(IF(MIN(ROUND($BL8,0),SUM($D$6:$W$6))>=50,2,IF(MIN(ROUND($BL8,0),SUM($D$6:$W$6))>=20,1,0)),MIN(MIN($D$6:$W$6)-2,ROUND(MIN(ROUND($BL8,0),SUM($D$6:$W$6))/20,0)-1))+2)),MIN(MIN(MAX(IF(MIN(ROUND($BL8,0),SUM($D$6:$W$6))>=50,2,IF(MIN(ROUND($BL8,0),SUM($D$6:$W$6))>=20,1,0)),MIN(MIN($D$6:$W$6)-2,ROUND(MIN(ROUND($BL8,0),SUM($D$6:$W$6))/20,0)-1))+2,(MIN(ROUND($BL8,0),SUM($D$6:$W$6))-SUM($D8:N8))-8*MAX(IF(MIN(ROUND($BL8,0),SUM($D$6:$W$6))>=50,2,IF(MIN(ROUND($BL8,0),SUM($D$6:$W$6))>=20,1,0)),MIN(MIN($D$6:$W$6)-2,ROUND(MIN(ROUND($BL8,0),SUM($D$6:$W$6))/20,0)-1))),ROUND((MIN(ROUND($BL8,0),SUM($D$6:$W$6))-SUM($D8:N8))/9+(MOD(SIN($BS$2*7919+ROW()*12.9898+COLUMN()*78.233)*43758.5453,1)-0.5)*2.4,0)))) -> 5 | P8: =IF($BL8="","",MAX(MAX(MAX(IF(MIN(ROUND($BL8,0),SUM($D$6:$W$6))>=50,2,IF(MIN(ROUND($BL8,0),SUM($D$6:$W$6))>=20,1,0)),MIN(MIN($D$6:$W$6)-2,ROUND(MIN(ROUND($BL8,0),SUM($D$6:$W$6))/20,0)-1)),(MIN(ROUND($BL8,0),SUM($D$6:$W$6))-SUM($D8:O8))-7*(MAX(IF(MIN(ROUND($BL8,0),SUM($D$6:$W$6))>=50,2,IF(MIN(ROUND($BL8,0),SUM($D$6:$W$6))>=20,1,0)),MIN(MIN($D$6:$W$6)-2,ROUND(MIN(ROUND($BL8,0),SUM($D$6:$W$6))/20,0)-1))+2)),MIN(MIN(MAX(IF(MIN(ROUND($BL8,0),SUM($D$6:$W$6))>=50,2,IF(MIN(ROUND($BL8,0),SUM($D$6:$W$6))>=20,1,0)),MIN(MIN($D$6:$W$6)-2,ROUND(MIN(ROUND($BL8,0),SUM($D$6:$W$6))/20,0)-1))+2,(MIN(ROUND($BL8,0),SUM($D$6:$W$6))-SUM($D8:O8))-7*MAX(IF(MIN(ROUND($BL8,0),SUM($D$6:$W$6))>=50,2,IF(MIN(ROUND($BL8,0),SUM($D$6:$W$6))>=20,1,0)),MIN(MIN($D$6:$W$6)-2,ROUND(MIN(ROUND($BL8,0),SUM($D$6:$W$6))/20,0)-1))),ROUND((MIN(ROUND($BL8,0),SUM($D$6:$W$6))-SUM($D8:O8))/8+(MOD(SIN($BS$2*7919+ROW()*12.9898+COLUMN()*78.233)*43758.5453,1)-0.5)*2.4,0)))) -> 5 | Q8: =IF($BL8="","",MAX(MAX(MAX(IF(MIN(ROUND($BL8,0),SUM($D$6:$W$6))>=50,2,IF(MIN(ROUND($BL8,0),SUM($D$6:$W$6))>=20,1,0)),MIN(MIN($D$6:$W$6)-2,ROUND(MIN(ROUND($BL8,0),SUM($D$6:$W$6))/20,0)-1)),(MIN(ROUND($BL8,0),SUM($D$6:$W$6))-SUM($D8:P8))-6*(MAX(IF(MIN(ROUND($BL8,0),SUM($D$6:$W$6))>=50,2,IF(MIN(ROUND($BL8,0),SUM($D$6:$W$6))>=20,1,0)),MIN(MIN($D$6:$W$6)-2,ROUND(MIN(ROUND($BL8,0),SUM($D$6:$W$6))/20,0)-1))+2)),MIN(MIN(MAX(IF(MIN(ROUND($BL8,0),SUM($D$6:$W$6))>=50,2,IF(MIN(ROUND($BL8,0),SUM($D$6:$W$6))>=20,1,0)),MIN(MIN($D$6:$W$6)-2,ROUND(MIN(ROUND($BL8,0),SUM($D$6:$W$6))/20,0)-1))+2,(MIN(ROUND($BL8,0),SUM($D$6:$W$6))-SUM($D8:P8))-6*MAX(IF(MIN(ROUND($BL8,0),SUM($D$6:$W$6))>=50,2,IF(MIN(ROUND($BL8,0),SUM($D$6:$W$6))>=20,1,0)),MIN(MIN($D$6:$W$6)-2,ROUND(MIN(ROUND($BL8,0),SUM($D$6:$W$6))/20,0)-1))),ROUND((MIN(ROUND($BL8,0),SUM($D$6:$W$6))-SUM($D8:P8))/7+(MOD(SIN($BS$2*7919+ROW()*12.9898+COLUMN()*78.233)*43758.5453,1)-0.5)*2.4,0)))) -> 5 | R8: =IF($BL8="","",MAX(MAX(MAX(IF(MIN(ROUND($BL8,0),SUM($D$6:$W$6))>=50,2,IF(MIN(ROUND($BL8,0),SUM($D$6:$W$6))>=20,1,0)),MIN(MIN($D$6:$W$6)-2,ROUND(MIN(ROUND($BL8,0),SUM($D$6:$W$6))/20,0)-1)),(MIN(ROUND($BL8,0),SUM($D$6:$W$6))-SUM($D8:Q8))-5*(MAX(IF(MIN(ROUND($BL8,0),SUM($D$6:$W$6))>=50,2,IF(MIN(ROUND($BL8,0),SUM($D$6:$W$6))>=20,1,0)),MIN(MIN($D$6:$W$6)-2,ROUND(MIN(ROUND($BL8,0),SUM($D$6:$W$6))/20,0)-1))+2)),MIN(MIN(MAX(IF(MIN(ROUND($BL8,0),SUM($D$6:$W$6))>=50,2,IF(MIN(ROUND($BL8,0),SUM($D$6:$W$6))>=20,1,0)),MIN(MIN($D$6:$W$6)-2,ROUND(MIN(ROUND($BL8,0),SUM($D$6:$W$6))/20,0)-1))+2,(MIN(ROUND($BL8,0),SUM($D$6:$W$6))-SUM($D8:Q8))-5*MAX(IF(MIN(ROUND($BL8,0),SUM($D$6:$W$6))>=50,2,IF(MIN(ROUND($BL8,0),SUM($D$6:$W$6))>=20,1,0)),MIN(MIN($D$6:$W$6)-2,ROUND(MIN(ROUND($BL8,0),SUM($D$6:$W$6))/20,0)-1))),ROUND((MIN(ROUND($BL8,0),SUM($D$6:$W$6))-SUM($D8:Q8))/6+(MOD(SIN($BS$2*7919+ROW()*12.9898+COLUMN()*78.233)*43758.5453,1)-0.5)*2.4,0)))) -> 5 | S8: =IF($BL8="","",MAX(MAX(MAX(IF(MIN(ROUND($BL8,0),SUM($D$6:$W$6))>=50,2,IF(MIN(ROUND($BL8,0),SUM($D$6:$W$6))>=20,1,0)),MIN(MIN($D$6:$W$6)-2,ROUND(MIN(ROUND($BL8,0),SUM($D$6:$W$6))/20,0)-1)),(MIN(ROUND($BL8,0),SUM($D$6:$W$6))-SUM($D8:R8))-4*(MAX(IF(MIN(ROUND($BL8,0),SUM($D$6:$W$6))>=50,2,IF(MIN(ROUND($BL8,0),SUM($D$6:$W$6))>=20,1,0)),MIN(MIN($D$6:$W$6)-2,ROUND(MIN(ROUND($BL8,0),SUM($D$6:$W$6))/20,0)-1))+2)),MIN(MIN(MAX(IF(MIN(ROUND($BL8,0),SUM($D$6:$W$6))>=50,2,IF(MIN(ROUND($BL8,0),SUM($D$6:$W$6))>=20,1,0)),MIN(MIN($D$6:$W$6)-2,ROUND(MIN(ROUND($BL8,0),SUM($D$6:$W$6))/20,0)-1))+2,(MIN(ROUND($BL8,0),SUM($D$6:$W$6))-SUM($D8:R8))-4*MAX(IF(MIN(ROUND($BL8,0),SUM($D$6:$W$6))>=50,2,IF(MIN(ROUND($BL8,0),SUM($D$6:$W$6))>=20,1,0)),MIN(MIN($D$6:$W$6)-2,ROUND(MIN(ROUND($BL8,0),SUM($D$6:$W$6))/20,0)-1))),ROUND((MIN(ROUND($BL8,0),SUM($D$6:$W$6))-SUM($D8:R8))/5+(MOD(SIN($BS$2*7919+ROW()*12.9898+COLUMN()*78.233)*43758.5453,1)-0.5)*2.4,0)))) -> 5 | T8: =IF($BL8="","",MAX(MAX(MAX(IF(MIN(ROUND($BL8,0),SUM($D$6:$W$6))>=50,2,IF(MIN(ROUND($BL8,0),SUM($D$6:$W$6))>=20,1,0)),MIN(MIN($D$6:$W$6)-2,ROUND(MIN(ROUND($BL8,0),SUM($D$6:$W$6))/20,0)-1)),(MIN(ROUND($BL8,0),SUM($D$6:$W$6))-SUM($D8:S8))-3*(MAX(IF(MIN(ROUND($BL8,0),SUM($D$6:$W$6))>=50,2,IF(MIN(ROUND($BL8,0),SUM($D$6:$W$6))>=20,1,0)),MIN(MIN($D$6:$W$6)-2,ROUND(MIN(ROUND($BL8,0),SUM($D$6:$W$6))/20,0)-1))+2)),MIN(MIN(MAX(IF(MIN(ROUND($BL8,0),SUM($D$6:$W$6))>=50,2,IF(MIN(ROUND($BL8,0),SUM($D$6:$W$6))>=20,1,0)),MIN(MIN($D$6:$W$6)-2,ROUND(MIN(ROUND($BL8,0),SUM($D$6:$W$6))/20,0)-1))+2,(MIN(ROUND($BL8,0),SUM($D$6:$W$6))-SUM($D8:S8))-3*MAX(IF(MIN(ROUND($BL8,0),SUM($D$6:$W$6))>=50,2,IF(MIN(ROUND($BL8,0),SUM($D$6:$W$6))>=20,1,0)),MIN(MIN($D$6:$W$6)-2,ROUND(MIN(ROUND($BL8,0),SUM($D$6:$W$6))/20,0)-1))),ROUND((MIN(ROUND($BL8,0),SUM($D$6:$W$6))-SUM($D8:S8))/4+(MOD(SIN($BS$2*7919+ROW()*12.9898+COLUMN()*78.233)*43758.5453,1)-0.5)*2.4,0)))) -> 5 | U8: =IF($BL8="","",MAX(MAX(MAX(IF(MIN(ROUND($BL8,0),SUM($D$6:$W$6))>=50,2,IF(MIN(ROUND($BL8,0),SUM($D$6:$W$6))>=20,1,0)),MIN(MIN($D$6:$W$6)-2,ROUND(MIN(ROUND($BL8,0),SUM($D$6:$W$6))/20,0)-1)),(MIN(ROUND($BL8,0),SUM($D$6:$W$6))-SUM($D8:T8))-2*(MAX(IF(MIN(ROUND($BL8,0),SUM($D$6:$W$6))>=50,2,IF(MIN(ROUND($BL8,0),SUM($D$6:$W$6))>=20,1,0)),MIN(MIN($D$6:$W$6)-2,ROUND(MIN(ROUND($BL8,0),SUM($D$6:$W$6))/20,0)-1))+2)),MIN(MIN(MAX(IF(MIN(ROUND($BL8,0),SUM($D$6:$W$6))>=50,2,IF(MIN(ROUND($BL8,0),SUM($D$6:$W$6))>=20,1,0)),MIN(MIN($D$6:$W$6)-2,ROUND(MIN(ROUND($BL8,0),SUM($D$6:$W$6))/20,0)-1))+2,(MIN(ROUND($BL8,0),SUM($D$6:$W$6))-SUM($D8:T8))-2*MAX(IF(MIN(ROUND($BL8,0),SUM($D$6:$W$6))>=50,2,IF(MIN(ROUND($BL8,0),SUM($D$6:$W$6))>=20,1,0)),MIN(MIN($D$6:$W$6)-2,ROUND(MIN(ROUND($BL8,0),SUM($D$6:$W$6))/20,0)-1))),ROUND((MIN(ROUND($BL8,0),SUM($D$6:$W$6))-SUM($D8:T8))/3+(MOD(SIN($BS$2*7919+ROW()*12.9898+COLUMN()*78.233)*43758.5453,1)-0.5)*2.4,0)))) -> 5 | V8: =IF($BL8="","",MAX(MAX(MAX(IF(MIN(ROUND($BL8,0),SUM($D$6:$W$6))>=50,2,IF(MIN(ROUND($BL8,0),SUM($D$6:$W$6))>=20,1,0)),MIN(MIN($D$6:$W$6)-2,ROUND(MIN(ROUND($BL8,0),SUM($D$6:$W$6))/20,0)-1)),(MIN(ROUND($BL8,0),SUM($D$6:$W$6))-SUM($D8:U8))-1*(MAX(IF(MIN(ROUND($BL8,0),SUM($D$6:$W$6))>=50,2,IF(MIN(ROUND($BL8,0),SUM($D$6:$W$6))>=20,1,0)),MIN(MIN($D$6:$W$6)-2,ROUND(MIN(ROUND($BL8,0),SUM($D$6:$W$6))/20,0)-1))+2)),MIN(MIN(MAX(IF(MIN(ROUND($BL8,0),SUM($D$6:$W$6))>=50,2,IF(MIN(ROUND($BL8,0),SUM($D$6:$W$6))>=20,1,0)),MIN(MIN($D$6:$W$6)-2,ROUND(MIN(ROUND($BL8,0),SUM($D$6:$W$6))/20,0)-1))+2,(MIN(ROUND($BL8,0),SUM($D$6:$W$6))-SUM($D8:U8))-1*MAX(IF(MIN(ROUND($BL8,0),SUM($D$6:$W$6))>=50,2,IF(MIN(ROUND($BL8,0),SUM($D$6:$W$6))>=20,1,0)),MIN(MIN($D$6:$W$6)-2,ROUND(MIN(ROUND($BL8,0),SUM($D$6:$W$6))/20,0)-1))),ROUND((MIN(ROUND($BL8,0),SUM($D$6:$W$6))-SUM($D8:U8))/2+(MOD(SIN($BS$2*7919+ROW()*12.9898+COLUMN()*78.233)*43758.5453,1)-0.5)*2.4,0)))) -> 5 | W8: =IF($BL8="","",(MIN(ROUND($BL8,0),SUM($D$6:$W$6))-SUM($D8:V8))) -> 5 | X8: =IF($BM8="","",MAX(MAX(MAX(IF(MIN(ROUND($BM8,0),SUM($X$6:$AQ$6))>=50,2,IF(MIN(ROUND($BM8,0),SUM($X$6:$AQ$6))>=20,1,0)),MIN(MIN($X$6:$AQ$6)-2,ROUND(MIN(ROUND($BM8,0),SUM($X$6:$AQ$6))/20,0)-1)),MIN(ROUND($BM8,0),SUM($X$6:$AQ$6))-19*(MAX(IF(MIN(ROUND($BM8,0),SUM($X$6:$AQ$6))>=50,2,IF(MIN(ROUND($BM8,0),SUM($X$6:$AQ$6))>=20,1,0)),MIN(MIN($X$6:$AQ$6)-2,ROUND(MIN(ROUND($BM8,0),SUM($X$6:$AQ$6))/20,0)-1))+2)),MIN(MIN(MAX(IF(MIN(ROUND($BM8,0),SUM($X$6:$AQ$6))>=50,2,IF(MIN(ROUND($BM8,0),SUM($X$6:$AQ$6))>=20,1,0)),MIN(MIN($X$6:$AQ$6)-2,ROUND(MIN(ROUND($BM8,0),SUM($X$6:$AQ$6))/20,0)-1))+2,MIN(ROUND($BM8,0),SUM($X$6:$AQ$6))-19*MAX(IF(MIN(ROUND($BM8,0),SUM($X$6:$AQ$6))>=50,2,IF(MIN(ROUND($BM8,0),SUM($X$6:$AQ$6))>=20,1,0)),MIN(MIN($X$6:$AQ$6)-2,ROUND(MIN(ROUND($BM8,0),SUM($X$6:$AQ$6))/20,0)-1))),ROUND(MIN(ROUND($BM8,0),SUM($X$6:$AQ$6))/20+(MOD(SIN($BS$2*7919+ROW()*12.9898+COLUMN()*78.233)*43758.5453,1)-0.5)*2.4,0)))) -> 3 | Y8: =IF($BM8="","",MAX(MAX(MAX(IF(MIN(ROUND($BM8,0),SUM($X$6:$AQ$6))>=50,2,IF(MIN(ROUND($BM8,0),SUM($X$6:$AQ$6))>=20,1,0)),MIN(MIN($X$6:$AQ$6)-2,ROUND(MIN(ROUND($BM8,0),SUM($X$6:$AQ$6))/20,0)-1)),(MIN(ROUND($BM8,0),SUM($X$6:$AQ$6))-SUM($X8:X8))-18*(MAX(IF(MIN(ROUND($BM8,0),SUM($X$6:$AQ$6))>=50,2,IF(MIN(ROUND($BM8,0),SUM($X$6:$AQ$6))>=20,1,0)),MIN(MIN($X$6:$AQ$6)-2,ROUND(MIN(ROUND($BM8,0),SUM($X$6:$AQ$6))/20,0)-1))+2)),MIN(MIN(MAX(IF(MIN(ROUND($BM8,0),SUM($X$6:$AQ$6))>=50,2,IF(MIN(ROUND($BM8,0),SUM($X$6:$AQ$6))>=20,1,0)),MIN(MIN($X$6:$AQ$6)-2,ROUND(MIN(ROUND($BM8,0),SUM($X$6:$AQ$6))/20,0)-1))+2,(MIN(ROUND($BM8,0),SUM($X$6:$AQ$6))-SUM($X8:X8))-18*MAX(IF(MIN(ROUND($BM8,0),SUM($X$6:$AQ$6))>=50,2,IF(MIN(ROUND($BM8,0),SUM($X$6:$AQ$6))>=20,1,0)),MIN(MIN($X$6:$AQ$6)-2,ROUND(MIN(ROUND($BM8,0),SUM($X$6:$AQ$6))/20,0)-1))),ROUND((MIN(ROUND($BM8,0),SUM($X$6:$AQ$6))-SUM($X8:X8))/19+(MOD(SIN($BS$2*7919+ROW()*12.9898+COLUMN()*78.233)*43758.5453,1)-0.5)*2.4,0)))) -> 4 | Z8: =IF($BM8="","",MAX(MAX(MAX(IF(MIN(ROUND($BM8,0),SUM($X$6:$AQ$6))>=50,2,IF(MIN(ROUND($BM8,0),SUM($X$6:$AQ$6))>=20,1,0)),MIN(MIN($X$6:$AQ$6)-2,ROUND(MIN(ROUND($BM8,0),SUM($X$6:$AQ$6))/20,0)-1)),(MIN(ROUND($BM8,0),SUM($X$6:$AQ$6))-SUM($X8:Y8))-17*(MAX(IF(MIN(ROUND($BM8,0),SUM($X$6:$AQ$6))>=50,2,IF(MIN(ROUND($BM8,0),SUM($X$6:$AQ$6))>=20,1,0)),MIN(MIN($X$6:$AQ$6)-2,ROUND(MIN(ROUND($BM8,0),SUM($X$6:$AQ$6))/20,0)-1))+2)),MIN(MIN(MAX(IF(MIN(ROUND($BM8,0),SUM($X$6:$AQ$6))>=50,2,IF(MIN(ROUND($BM8,0),SUM($X$6:$AQ$6))>=20,1,0)),MIN(MIN($X$6:$AQ$6)-2,ROUND(MIN(ROUND($BM8,0),SUM($X$6:$AQ$6))/20,0)-1))+2,(MIN(ROUND($BM8,0),SUM($X$6:$AQ$6))-SUM($X8:Y8))-17*MAX(IF(MIN(ROUND($BM8,0),SUM($X$6:$AQ$6))>=50,2,IF(MIN(ROUND($BM8,0),SUM($X$6:$AQ$6))>=20,1,0)),MIN(MIN($X$6:$AQ$6)-2,ROUND(MIN(ROUND($BM8,0),SUM($X$6:$AQ$6))/20,0)-1))),ROUND((MIN(ROUND($BM8,0),SUM($X$6:$AQ$6))-SUM($X8:Y8))/18+(MOD(SIN($BS$2*7919+ROW()*12.9898+COLUMN()*78.233)*43758.5453,1)-0.5)*2.4,0)))) -> 4 | AA8: =IF($BM8="","",MAX(MAX(MAX(IF(MIN(ROUND($BM8,0),SUM($X$6:$AQ$6))>=50,2,IF(MIN(ROUND($BM8,0),SUM($X$6:$AQ$6))>=20,1,0)),MIN(MIN($X$6:$AQ$6)-2,ROUND(MIN(ROUND($BM8,0),SUM($X$6:$AQ$6))/20,0)-1)),(MIN(ROUND($BM8,0),SUM($X$6:$AQ$6))-SUM($X8:Z8))-16*(MAX(IF(MIN(ROUND($BM8,0),SUM($X$6:$AQ$6))>=50,2,IF(MIN(ROUND($BM8,0),SUM($X$6:$AQ$6))>=20,1,0)),MIN(MIN($X$6:$AQ$6)-2,ROUND(MIN(ROUND($BM8,0),SUM($X$6:$AQ$6))/20,0)-1))+2)),MIN(MIN(MAX(IF(MIN(ROUND($BM8,0),SUM($X$6:$AQ$6))>=50,2,IF(MIN(ROUND($BM8,0),SUM($X$6:$AQ$6))>=20,1,0)),MIN(MIN($X$6:$AQ$6)-2,ROUND(MIN(ROUND($BM8,0),SUM($X$6:$AQ$6))/20,0)-1))+2,(MIN(ROUND($BM8,0),SUM($X$6:$AQ$6))-SUM($X8:Z8))-16*MAX(IF(MIN(ROUND($BM8,0),SUM($X$6:$AQ$6))>=50,2,IF(MIN(ROUND($BM8,0),SUM($X$6:$AQ$6))>=20,1,0)),MIN(MIN($X$6:$AQ$6)-2,ROUND(MIN(ROUND($BM8,0),SUM($X$6:$AQ$6))/20,0)-1))),ROUND((MIN(ROUND($BM8,0),SUM($X$6:$AQ$6))-SUM($X8:Z8))/17+(MOD(SIN($BS$2*7919+ROW()*12.9898+COLUMN()*78.233)*43758.5453,1)-0.5)*2.4,0)))) -> 3 | AB8: =IF($BM8="","",MAX(MAX(MAX(IF(MIN(ROUND($BM8,0),SUM($X$6:$AQ$6))>=50,2,IF(MIN(ROUND($BM8,0),SUM($X$6:$AQ$6))>=20,1,0)),MIN(MIN($X$6:$AQ$6)-2,ROUND(MIN(ROUND($BM8,0),SUM($X$6:$AQ$6))/20,0)-1)),(MIN(ROUND($BM8,0),SUM($X$6:$AQ$6))-SUM($X8:AA8))-15*(MAX(IF(MIN(ROUND($BM8,0),SUM($X$6:$AQ$6))>=50,2,IF(MIN(ROUND($BM8,0),SUM($X$6:$AQ$6))>=20,1,0)),MIN(MIN($X$6:$AQ$6)-2,ROUND(MIN(ROUND($BM8,0),SUM($X$6:$AQ$6))/20,0)-1))+2)),MIN(MIN(MAX(IF(MIN(ROUND($BM8,0),SUM($X$6:$AQ$6))>=50,2,IF(MIN(ROUND($BM8,0),SUM($X$6:$AQ$6))>=20,1,0)),MIN(MIN($X$6:$AQ$6)-2,ROUND(MIN(ROUND($BM8,0),SUM($X$6:$AQ$6))/20,0)-1))+2,(MIN(ROUND($BM8,0),SUM($X$6:$AQ$6))-SUM($X8:AA8))-15*MAX(IF(MIN(ROUND($BM8,0),SUM($X$6:$AQ$6))>=50,2,IF(MIN(ROUND($BM8,0),SUM($X$6:$AQ$6))>=20,1,0)),MIN(MIN($X$6:$AQ$6)-2,ROUND(MIN(ROUND($BM8,0),SUM($X$6:$AQ$6))/20,0)-1))),ROUND((MIN(ROUND($BM8,0),SUM($X$6:$AQ$6))-SUM($X8:AA8))/16+(MOD(SIN($BS$2*7919+ROW()*12.9898+COLUMN()*78.233)*43758.5453,1)-0.5)*2.4,0)))) -> 3 | AC8: =IF($BM8="","",MAX(MAX(MAX(IF(MIN(ROUND($BM8,0),SUM($X$6:$AQ$6))>=50,2,IF(MIN(ROUND($BM8,0),SUM($X$6:$AQ$6))>=20,1,0)),MIN(MIN($X$6:$AQ$6)-2,ROUND(MIN(ROUND($BM8,0),SUM($X$6:$AQ$6))/20,0)-1)),(MIN(ROUND($BM8,0),SUM($X$6:$AQ$6))-SUM($X8:AB8))-14*(MAX(IF(MIN(ROUND($BM8,0),SUM($X$6:$AQ$6))>=50,2,IF(MIN(ROUND($BM8,0),SUM($X$6:$AQ$6))>=20,1,0)),MIN(MIN($X$6:$AQ$6)-2,ROUND(MIN(ROUND($BM8,0),SUM($X$6:$AQ$6))/20,0)-1))+2)),MIN(MIN(MAX(IF(MIN(ROUND($BM8,0),SUM($X$6:$AQ$6))>=50,2,IF(MIN(ROUND($BM8,0),SUM($X$6:$AQ$6))>=20,1,0)),MIN(MIN($X$6:$AQ$6)-2,ROUND(MIN(ROUND($BM8,0),SUM($X$6:$AQ$6))/20,0)-1))+2,(MIN(ROUND($BM8,0),SUM($X$6:$AQ$6))-SUM($X8:AB8))-14*MAX(IF(MIN(ROUND($BM8,0),SUM($X$6:$AQ$6))>=50,2,IF(MIN(ROUND($BM8,0),SUM($X$6:$AQ$6))>=20,1,0)),MIN(MIN($X$6:$AQ$6)-2,ROUND(MIN(ROUND($BM8,0),SUM($X$6:$AQ$6))/20,0)-1))),ROUND((MIN(ROUND($BM8,0),SUM($X$6:$AQ$6))-SUM($X8:AB8))/15+(MOD(SIN($BS$2*7919+ROW()*12.9898+COLUMN()*78.233)*43758.5453,1)-0.5)*2.4,0)))) -> 3 | AD8: =IF($BM8="","",MAX(MAX(MAX(IF(MIN(ROUND($BM8,0),SUM($X$6:$AQ$6))>=50,2,IF(MIN(ROUND($BM8,0),SUM($X$6:$AQ$6))>=20,1,0)),MIN(MIN($X$6:$AQ$6)-2,ROUND(MIN(ROUND($BM8,0),SUM($X$6:$AQ$6))/20,0)-1)),(MIN(ROUND($BM8,0),SUM($X$6:$AQ$6))-SUM($X8:AC8))-13*(MAX(IF(MIN(ROUND($BM8,0),SUM($X$6:$AQ$6))>=50,2,IF(MIN(ROUND($BM8,0),SUM($X$6:$AQ$6))>=20,1,0)),MIN(MIN($X$6:$AQ$6)-2,ROUND(MIN(ROUND($BM8,0),SUM($X$6:$AQ$6))/20,0)-1))+2)),MIN(MIN(MAX(IF(MIN(ROUND($BM8,0),SUM($X$6:$AQ$6))>=50,2,IF(MIN(ROUND($BM8,0),SUM($X$6:$AQ$6))>=20,1,0)),MIN(MIN($X$6:$AQ$6)-2,ROUND(MIN(ROUND($BM8,0),SUM($X$6:$AQ$6))/20,0)-1))+2,(MIN(ROUND($BM8,0),SUM($X$6:$AQ$6))-SUM($X8:AC8))-13*MAX(IF(MIN(ROUND($BM8,0),SUM($X$6:$AQ$6))>=50,2,IF(MIN(ROUND($BM8,0),SUM($X$6:$AQ$6))>=20,1,0)),MIN(MIN($X$6:$AQ$6)-2,ROUND(MIN(ROUND($BM8,0),SUM($X$6:$AQ$6))/20,0)-1))),ROUND((MIN(ROUND($BM8,0),SUM($X$6:$AQ$6))-SUM($X8:AC8))/14+(MOD(SIN($BS$2*7919+ROW()*12.9898+COLUMN()*78.233)*43758.5453,1)-0.5)*2.4,0)))) -> 4 | AE8: =IF($BM8="","",MAX(MAX(MAX(IF(MIN(ROUND($BM8,0),SUM($X$6:$AQ$6))>=50,2,IF(MIN(ROUND($BM8,0),SUM($X$6:$AQ$6))>=20,1,0)),MIN(MIN($X$6:$AQ$6)-2,ROUND(MIN(ROUND($BM8,0),SUM($X$6:$AQ$6))/20,0)-1)),(MIN(ROUND($BM8,0),SUM($X$6:$AQ$6))-SUM($X8:AD8))-12*(MAX(IF(MIN(ROUND($BM8,0),SUM($X$6:$AQ$6))>=50,2,IF(MIN(ROUND($BM8,0),SUM($X$6:$AQ$6))>=20,1,0)),MIN(MIN($X$6:$AQ$6)-2,ROUND(MIN(ROUND($BM8,0),SUM($X$6:$AQ$6))/20,0)-1))+2)),MIN(MIN(MAX(IF(MIN(ROUND($BM8,0),SUM($X$6:$AQ$6))>=50,2,IF(MIN(ROUND($BM8,0),SUM($X$6:$AQ$6))>=20,1,0)),MIN(MIN($X$6:$AQ$6)-2,ROUND(MIN(ROUND($BM8,0),SUM($X$6:$AQ$6))/20,0)-1))+2,(MIN(ROUND($BM8,0),SUM($X$6:$AQ$6))-SUM($X8:AD8))-12*MAX(IF(MIN(ROUND($BM8,0),SUM($X$6:$AQ$6))>=50,2,IF(MIN(ROUND($BM8,0),SUM($X$6:$AQ$6))>=20,1,0)),MIN(MIN($X$6:$AQ$6)-2,ROUND(MIN(ROUND($BM8,0),SUM($X$6:$AQ$6))/20,0)-1))),ROUND((MIN(ROUND($BM8,0),SUM($X$6:$AQ$6))-SUM($X8:AD8))/13+(MOD(SIN($BS$2*7919+ROW()*12.9898+COLUMN()*78.233)*43758.5453,1)-0.5)*2.4,0)))) -> 5 | AF8: =IF($BM8="","",MAX(MAX(MAX(IF(MIN(ROUND($BM8,0),SUM($X$6:$AQ$6))>=50,2,IF(MIN(ROUND($BM8,0),SUM($X$6:$AQ$6))>=20,1,0)),MIN(MIN($X$6:$AQ$6)-2,ROUND(MIN(ROUND($BM8,0),SUM($X$6:$AQ$6))/20,0)-1)),(MIN(ROUND($BM8,0),SUM($X$6:$AQ$6))-SUM($X8:AE8))-11*(MAX(IF(MIN(ROUND($BM8,0),SUM($X$6:$AQ$6))>=50,2,IF(MIN(ROUND($BM8,0),SUM($X$6:$AQ$6))>=20,1,0)),MIN(MIN($X$6:$AQ$6)-2,ROUND(MIN(ROUND($BM8,0),SUM($X$6:$AQ$6))/20,0)-1))+2)),MIN(MIN(MAX(IF(MIN(ROUND($BM8,0),SUM($X$6:$AQ$6))>=50,2,IF(MIN(ROUND($BM8,0),SUM($X$6:$AQ$6))>=20,1,0)),MIN(MIN($X$6:$AQ$6)-2,ROUND(MIN(ROUND($BM8,0),SUM($X$6:$AQ$6))/20,0)-1))+2,(MIN(ROUND($BM8,0),SUM($X$6:$AQ$6))-SUM($X8:AE8))-11*MAX(IF(MIN(ROUND($BM8,0),SUM($X$6:$AQ$6))>=50,2,IF(MIN(ROUND($BM8,0),SUM($X$6:$AQ$6))>=20,1,0)),MIN(MIN($X$6:$AQ$6)-2,ROUND(MIN(ROUND($BM8,0),SUM($X$6:$AQ$6))/20,0)-1))),ROUND((MIN(ROUND($BM8,0),SUM($X$6:$AQ$6))-SUM($X8:AE8))/12+(MOD(SIN($BS$2*7919+ROW()*12.9898+COLUMN()*78.233)*43758.5453,1)-0.5)*2.4,0)))) -> 3 | AG8: =IF($BM8="","",MAX(MAX(MAX(IF(MIN(ROUND($BM8,0),SUM($X$6:$AQ$6))>=50,2,IF(MIN(ROUND($BM8,0),SUM($X$6:$AQ$6))>=20,1,0)),MIN(MIN($X$6:$AQ$6)-2,ROUND(MIN(ROUND($BM8,0),SUM($X$6:$AQ$6))/20,0)-1)),(MIN(ROUND($BM8,0),SUM($X$6:$AQ$6))-SUM($X8:AF8))-10*(MAX(IF(MIN(ROUND($BM8,0),SUM($X$6:$AQ$6))>=50,2,IF(MIN(ROUND($BM8,0),SUM($X$6:$AQ$6))>=20,1,0)),MIN(MIN($X$6:$AQ$6)-2,ROUND(MIN(ROUND($BM8,0),SUM($X$6:$AQ$6))/20,0)-1))+2)),MIN(MIN(MAX(IF(MIN(ROUND($BM8,0),SUM($X$6:$AQ$6))>=50,2,IF(MIN(ROUND($BM8,0),SUM($X$6:$AQ$6))>=20,1,0)),MIN(MIN($X$6:$AQ$6)-2,ROUND(MIN(ROUND($BM8,0),SUM($X$6:$AQ$6))/20,0)-1))+2,(MIN(ROUND($BM8,0),SUM($X$6:$AQ$6))-SUM($X8:AF8))-10*MAX(IF(MIN(ROUND($BM8,0),SUM($X$6:$AQ$6))>=50,2,IF(MIN(ROUND($BM8,0),SUM($X$6:$AQ$6))>=20,1,0)),MIN(MIN($X$6:$AQ$6)-2,ROUND(MIN(ROUND($BM8,0),SUM($X$6:$AQ$6))/20,0)-1))),ROUND((MIN(ROUND($BM8,0),SUM($X$6:$AQ$6))-SUM($X8:AF8))/11+(MOD(SIN($BS$2*7919+ROW()*12.9898+COLUMN()*78.233)*43758.5453,1)-0.5)*2.4,0)))) -> 3 | AH8: =IF($BM8="","",MAX(MAX(MAX(IF(MIN(ROUND($BM8,0),SUM($X$6:$AQ$6))>=50,2,IF(MIN(ROUND($BM8,0),SUM($X$6:$AQ$6))>=20,1,0)),MIN(MIN($X$6:$AQ$6)-2,ROUND(MIN(ROUND($BM8,0),SUM($X$6:$AQ$6))/20,0)-1)),(MIN(ROUND($BM8,0),SUM($X$6:$AQ$6))-SUM($X8:AG8))-9*(MAX(IF(MIN(ROUND($BM8,0),SUM($X$6:$AQ$6))>=50,2,IF(MIN(ROUND($BM8,0),SUM($X$6:$AQ$6))>=20,1,0)),MIN(MIN($X$6:$AQ$6)-2,ROUND(MIN(ROUND($BM8,0),SUM($X$6:$AQ$6))/20,0)-1))+2)),MIN(MIN(MAX(IF(MIN(ROUND($BM8,0),SUM($X$6:$AQ$6))>=50,2,IF(MIN(ROUND($BM8,0),SUM($X$6:$AQ$6))>=20,1,0)),MIN(MIN($X$6:$AQ$6)-2,ROUND(MIN(ROUND($BM8,0),SUM($X$6:$AQ$6))/20,0)-1))+2,(MIN(ROUND($BM8,0),SUM($X$6:$AQ$6))-SUM($X8:AG8))-9*MAX(IF(MIN(ROUND($BM8,0),SUM($X$6:$AQ$6))>=50,2,IF(MIN(ROUND($BM8,0),SUM($X$6:$AQ$6))>=20,1,0)),MIN(MIN($X$6:$AQ$6)-2,ROUND(MIN(ROUND($BM8,0),SUM($X$6:$AQ$6))/20,0)-1))),ROUND((MIN(ROUND($BM8,0),SUM($X$6:$AQ$6))-SUM($X8:AG8))/10+(MOD(SIN($BS$2*7919+ROW()*12.9898+COLUMN()*78.233)*43758.5453,1)-0.5)*2.4,0)))) -> 4 | AI8: =IF($BM8="","",MAX(MAX(MAX(IF(MIN(ROUND($BM8,0),SUM($X$6:$AQ$6))>=50,2,IF(MIN(ROUND($BM8,0),SUM($X$6:$AQ$6))>=20,1,0)),MIN(MIN($X$6:$AQ$6)-2,ROUND(MIN(ROUND($BM8,0),SUM($X$6:$AQ$6))/20,0)-1)),(MIN(ROUND($BM8,0),SUM($X$6:$AQ$6))-SUM($X8:AH8))-8*(MAX(IF(MIN(ROUND($BM8,0),SUM($X$6:$AQ$6))>=50,2,IF(MIN(ROUND($BM8,0),SUM($X$6:$AQ$6))>=20,1,0)),MIN(MIN($X$6:$AQ$6)-2,ROUND(MIN(ROUND($BM8,0),SUM($X$6:$AQ$6))/20,0)-1))+2)),MIN(MIN(MAX(IF(MIN(ROUND($BM8,0),SUM($X$6:$AQ$6))>=50,2,IF(MIN(ROUND($BM8,0),SUM($X$6:$AQ$6))>=20,1,0)),MIN(MIN($X$6:$AQ$6)-2,ROUND(MIN(ROUND($BM8,0),SUM($X$6:$AQ$6))/20,0)-1))+2,(MIN(ROUND($BM8,0),SUM($X$6:$AQ$6))-SUM($X8:AH8))-8*MAX(IF(MIN(ROUND($BM8,0),SUM($X$6:$AQ$6))>=50,2,IF(MIN(ROUND($BM8,0),SUM($X$6:$AQ$6))>=20,1,0)),MIN(MIN($X$6:$AQ$6)-2,ROUND(MIN(ROUND($BM8,0),SUM($X$6:$AQ$6))/20,0)-1))),ROUND((MIN(ROUND($BM8,0),SUM($X$6:$AQ$6))-SUM($X8:AH8))/9+(MOD(SIN($BS$2*7919+ROW()*12.9898+COLUMN()*78.233)*43758.5453,1)-0.5)*2.4,0)))) -> 4 | AJ8: =IF($BM8="","",MAX(MAX(MAX(IF(MIN(ROUND($BM8,0),SUM($X$6:$AQ$6))>=50,2,IF(MIN(ROUND($BM8,0),SUM($X$6:$AQ$6))>=20,1,0)),MIN(MIN($X$6:$AQ$6)-2,ROUND(MIN(ROUND($BM8,0),SUM($X$6:$AQ$6))/20,0)-1)),(MIN(ROUND($BM8,0),SUM($X$6:$AQ$6))-SUM($X8:AI8))-7*(MAX(IF(MIN(ROUND($BM8,0),SUM($X$6:$AQ$6))>=50,2,IF(MIN(ROUND($BM8,0),SUM($X$6:$AQ$6))>=20,1,0)),MIN(MIN($X$6:$AQ$6)-2,ROUND(MIN(ROUND($BM8,0),SUM($X$6:$AQ$6))/20,0)-1))+2)),MIN(MIN(MAX(IF(MIN(ROUND($BM8,0),SUM($X$6:$AQ$6))>=50,2,IF(MIN(ROUND($BM8,0),SUM($X$6:$AQ$6))>=20,1,0)),MIN(MIN($X$6:$AQ$6)-2,ROUND(MIN(ROUND($BM8,0),SUM($X$6:$AQ$6))/20,0)-1))+2,(MIN(ROUND($BM8,0),SUM($X$6:$AQ$6))-SUM($X8:AI8))-7*MAX(IF(MIN(ROUND($BM8,0),SUM($X$6:$AQ$6))>=50,2,IF(MIN(ROUND($BM8,0),SUM($X$6:$AQ$6))>=20,1,0)),MIN(MIN($X$6:$AQ$6)-2,ROUND(MIN(ROUND($BM8,0),SUM($X$6:$AQ$6))/20,0)-1))),ROUND((MIN(ROUND($BM8,0),SUM($X$6:$AQ$6))-SUM($X8:AI8))/8+(MOD(SIN($BS$2*7919+ROW()*12.9898+COLUMN()*78.233)*43758.5453,1)-0.5)*2.4,0)))) -> 4 | AK8: =IF($BM8="","",MAX(MAX(MAX(IF(MIN(ROUND($BM8,0),SUM($X$6:$AQ$6))>=50,2,IF(MIN(ROUND($BM8,0),SUM($X$6:$AQ$6))>=20,1,0)),MIN(MIN($X$6:$AQ$6)-2,ROUND(MIN(ROUND($BM8,0),SUM($X$6:$AQ$6))/20,0)-1)),(MIN(ROUND($BM8,0),SUM($X$6:$AQ$6))-SUM($X8:AJ8))-6*(MAX(IF(MIN(ROUND($BM8,0),SUM($X$6:$AQ$6))>=50,2,IF(MIN(ROUND($BM8,0),SUM($X$6:$AQ$6))>=20,1,0)),MIN(MIN($X$6:$AQ$6)-2,ROUND(MIN(ROUND($BM8,0),SUM($X$6:$AQ$6))/20,0)-1))+2)),MIN(MIN(MAX(IF(MIN(ROUND($BM8,0),SUM($X$6:$AQ$6))>=50,2,IF(MIN(ROUND($BM8,0),SUM($X$6:$AQ$6))>=20,1,0)),MIN(MIN($X$6:$AQ$6)-2,ROUND(MIN(ROUND($BM8,0),SUM($X$6:$AQ$6))/20,0)-1))+2,(MIN(ROUND($BM8,0),SUM($X$6:$AQ$6))-SUM($X8:AJ8))-6*MAX(IF(MIN(ROUND($BM8,0),SUM($X$6:$AQ$6))>=50,2,IF(MIN(ROUND($BM8,0),SUM($X$6:$AQ$6))>=20,1,0)),MIN(MIN($X$6:$AQ$6)-2,ROUND(MIN(ROUND($BM8,0),SUM($X$6:$AQ$6))/20,0)-1))),ROUND((MIN(ROUND($BM8,0),SUM($X$6:$AQ$6))-SUM($X8:AJ8))/7+(MOD(SIN($BS$2*7919+ROW()*12.9898+COLUMN()*78.233)*43758.5453,1)-0.5)*2.4,0)))) -> 3 | AL8: =IF($BM8="","",MAX(MAX(MAX(IF(MIN(ROUND($BM8,0),SUM($X$6:$AQ$6))>=50,2,IF(MIN(ROUND($BM8,0),SUM($X$6:$AQ$6))>=20,1,0)),MIN(MIN($X$6:$AQ$6)-2,ROUND(MIN(ROUND($BM8,0),SUM($X$6:$AQ$6))/20,0)-1)),(MIN(ROUND($BM8,0),SUM($X$6:$AQ$6))-SUM($X8:AK8))-5*(MAX(IF(MIN(ROUND($BM8,0),SUM($X$6:$AQ$6))>=50,2,IF(MIN(ROUND($BM8,0),SUM($X$6:$AQ$6))>=20,1,0)),MIN(MIN($X$6:$AQ$6)-2,ROUND(MIN(ROUND($BM8,0),SUM($X$6:$AQ$6))/20,0)-1))+2)),MIN(MIN(MAX(IF(MIN(ROUND($BM8,0),SUM($X$6:$AQ$6))>=50,2,IF(MIN(ROUND($BM8,0),SUM($X$6:$AQ$6))>=20,1,0)),MIN(MIN($X$6:$AQ$6)-2,ROUND(MIN(ROUND($BM8,0),SUM($X$6:$AQ$6))/20,0)-1))+2,(MIN(ROUND($BM8,0),SUM($X$6:$AQ$6))-SUM($X8:AK8))-5*MAX(IF(MIN(ROUND($BM8,0),SUM($X$6:$AQ$6))>=50,2,IF(MIN(ROUND($BM8,0),SUM($X$6:$AQ$6))>=20,1,0)),MIN(MIN($X$6:$AQ$6)-2,ROUND(MIN(ROUND($BM8,0),SUM($X$6:$AQ$6))/20,0)-1))),ROUND((MIN(ROUND($BM8,0),SUM($X$6:$AQ$6))-SUM($X8:AK8))/6+(MOD(SIN($BS$2*7919+ROW()*12.9898+COLUMN()*78.233)*43758.5453,1)-0.5)*2.4,0)))) -> 4 | AM8: =IF($BM8="","",MAX(MAX(MAX(IF(MIN(ROUND($BM8,0),SUM($X$6:$AQ$6))>=50,2,IF(MIN(ROUND($BM8,0),SUM($X$6:$AQ$6))>=20,1,0)),MIN(MIN($X$6:$AQ$6)-2,ROUND(MIN(ROUND($BM8,0),SUM($X$6:$AQ$6))/20,0)-1)),(MIN(ROUND($BM8,0),SUM($X$6:$AQ$6))-SUM($X8:AL8))-4*(MAX(IF(MIN(ROUND($BM8,0),SUM($X$6:$AQ$6))>=50,2,IF(MIN(ROUND($BM8,0),SUM($X$6:$AQ$6))>=20,1,0)),MIN(MIN($X$6:$AQ$6)-2,ROUND(MIN(ROUND($BM8,0),SUM($X$6:$AQ$6))/20,0)-1))+2)),MIN(MIN(MAX(IF(MIN(ROUND($BM8,0),SUM($X$6:$AQ$6))>=50,2,IF(MIN(ROUND($BM8,0),SUM($X$6:$AQ$6))>=20,1,0)),MIN(MIN($X$6:$AQ$6)-2,ROUND(MIN(ROUND($BM8,0),SUM($X$6:$AQ$6))/20,0)-1))+2,(MIN(ROUND($BM8,0),SUM($X$6:$AQ$6))-SUM($X8:AL8))-4*MAX(IF(MIN(ROUND($BM8,0),SUM($X$6:$AQ$6))>=50,2,IF(MIN(ROUND($BM8,0),SUM($X$6:$AQ$6))>=20,1,0)),MIN(MIN($X$6:$AQ$6)-2,ROUND(MIN(ROUND($BM8,0),SUM($X$6:$AQ$6))/20,0)-1))),ROUND((MIN(ROUND($BM8,0),SUM($X$6:$AQ$6))-SUM($X8:AL8))/5+(MOD(SIN($BS$2*7919+ROW()*12.9898+COLUMN()*78.233)*43758.5453,1)-0.5)*2.4,0)))) -> 4 | AN8: =IF($BM8="","",MAX(MAX(MAX(IF(MIN(ROUND($BM8,0),SUM($X$6:$AQ$6))>=50,2,IF(MIN(ROUND($BM8,0),SUM($X$6:$AQ$6))>=20,1,0)),MIN(MIN($X$6:$AQ$6)-2,ROUND(MIN(ROUND($BM8,0),SUM($X$6:$AQ$6))/20,0)-1)),(MIN(ROUND($BM8,0),SUM($X$6:$AQ$6))-SUM($X8:AM8))-3*(MAX(IF(MIN(ROUND($BM8,0),SUM($X$6:$AQ$6))>=50,2,IF(MIN(ROUND($BM8,0),SUM($X$6:$AQ$6))>=20,1,0)),MIN(MIN($X$6:$AQ$6)-2,ROUND(MIN(ROUND($BM8,0),SUM($X$6:$AQ$6))/20,0)-1))+2)),MIN(MIN(MAX(IF(MIN(ROUND($BM8,0),SUM($X$6:$AQ$6))>=50,2,IF(MIN(ROUND($BM8,0),SUM($X$6:$AQ$6))>=20,1,0)),MIN(MIN($X$6:$AQ$6)-2,ROUND(MIN(ROUND($BM8,0),SUM($X$6:$AQ$6))/20,0)-1))+2,(MIN(ROUND($BM8,0),SUM($X$6:$AQ$6))-SUM($X8:AM8))-3*MAX(IF(MIN(ROUND($BM8,0),SUM($X$6:$AQ$6))>=50,2,IF(MIN(ROUND($BM8,0),SUM($X$6:$AQ$6))>=20,1,0)),MIN(MIN($X$6:$AQ$6)-2,ROUND(MIN(ROUND($BM8,0),SUM($X$6:$AQ$6))/20,0)-1))),ROUND((MIN(ROUND($BM8,0),SUM($X$6:$AQ$6))-SUM($X8:AM8))/4+(MOD(SIN($BS$2*7919+ROW()*12.9898+COLUMN()*78.233)*43758.5453,1)-0.5)*2.4,0)))) -> 3 | AO8: =IF($BM8="","",MAX(MAX(MAX(IF(MIN(ROUND($BM8,0),SUM($X$6:$AQ$6))>=50,2,IF(MIN(ROUND($BM8,0),SUM($X$6:$AQ$6))>=20,1,0)),MIN(MIN($X$6:$AQ$6)-2,ROUND(MIN(ROUND($BM8,0),SUM($X$6:$AQ$6))/20,0)-1)),(MIN(ROUND($BM8,0),SUM($X$6:$AQ$6))-SUM($X8:AN8))-2*(MAX(IF(MIN(ROUND($BM8,0),SUM($X$6:$AQ$6))>=50,2,IF(MIN(ROUND($BM8,0),SUM($X$6:$AQ$6))>=20,1,0)),MIN(MIN($X$6:$AQ$6)-2,ROUND(MIN(ROUND($BM8,0),SUM($X$6:$AQ$6))/20,0)-1))+2)),MIN(MIN(MAX(IF(MIN(ROUND($BM8,0),SUM($X$6:$AQ$6))>=50,2,IF(MIN(ROUND($BM8,0),SUM($X$6:$AQ$6))>=20,1,0)),MIN(MIN($X$6:$AQ$6)-2,ROUND(MIN(ROUND($BM8,0),SUM($X$6:$AQ$6))/20,0)-1))+2,(MIN(ROUND($BM8,0),SUM($X$6:$AQ$6))-SUM($X8:AN8))-2*MAX(IF(MIN(ROUND($BM8,0),SUM($X$6:$AQ$6))>=50,2,IF(MIN(ROUND($BM8,0),SUM($X$6:$AQ$6))>=20,1,0)),MIN(MIN($X$6:$AQ$6)-2,ROUND(MIN(ROUND($BM8,0),SUM($X$6:$AQ$6))/20,0)-1))),ROUND((MIN(ROUND($BM8,0),SUM($X$6:$AQ$6))-SUM($X8:AN8))/3+(MOD(SIN($BS$2*7919+ROW()*12.9898+COLUMN()*78.233)*43758.5453,1)-0.5)*2.4,0)))) -> 5 | AP8: =IF($BM8="","",MAX(MAX(MAX(IF(MIN(ROUND($BM8,0),SUM($X$6:$AQ$6))>=50,2,IF(MIN(ROUND($BM8,0),SUM($X$6:$AQ$6))>=20,1,0)),MIN(MIN($X$6:$AQ$6)-2,ROUND(MIN(ROUND($BM8,0),SUM($X$6:$AQ$6))/20,0)-1)),(MIN(ROUND($BM8,0),SUM($X$6:$AQ$6))-SUM($X8:AO8))-1*(MAX(IF(MIN(ROUND($BM8,0),SUM($X$6:$AQ$6))>=50,2,IF(MIN(ROUND($BM8,0),SUM($X$6:$AQ$6))>=20,1,0)),MIN(MIN($X$6:$AQ$6)-2,ROUND(MIN(ROUND($BM8,0),SUM($X$6:$AQ$6))/20,0)-1))+2)),MIN(MIN(MAX(IF(MIN(ROUND($BM8,0),SUM($X$6:$AQ$6))>=50,2,IF(MIN(ROUND($BM8,0),SUM($X$6:$AQ$6))>=20,1,0)),MIN(MIN($X$6:$AQ$6)-2,ROUND(MIN(ROUND($BM8,0),SUM($X$6:$AQ$6))/20,0)-1))+2,(MIN(ROUND($BM8,0),SUM($X$6:$AQ$6))-SUM($X8:AO8))-1*MAX(IF(MIN(ROUND($BM8,0),SUM($X$6:$AQ$6))>=50,2,IF(MIN(ROUND($BM8,0),SUM($X$6:$AQ$6))>=20,1,0)),MIN(MIN($X$6:$AQ$6)-2,ROUND(MIN(ROUND($BM8,0),SUM($X$6:$AQ$6))/20,0)-1))),ROUND((MIN(ROUND($BM8,0),SUM($X$6:$AQ$6))-SUM($X8:AO8))/2+(MOD(SIN($BS$2*7919+ROW()*12.9898+COLUMN()*78.233)*43758.5453,1)-0.5)*2.4,0)))) -> 5 | AQ8: =IF($BM8="","",(MIN(ROUND($BM8,0),SUM($X$6:$AQ$6))-SUM($X8:AP8))) -> 4 | AR8: =IF($BN8="","",MAX(MAX(MAX(IF(MIN(ROUND($BN8,0),SUM($AR$6:$BA$6))>=50,3,IF(MIN(ROUND($BN8,0),SUM($AR$6:$BA$6))>=10,1,0)),MIN(MIN($AR$6:$BA$6)-2,ROUND(MIN(ROUND($BN8,0),SUM($AR$6:$BA$6))/10,0)-1)),MIN(ROUND($BN8,0),SUM($AR$6:$BA$6))-9*(MAX(IF(MIN(ROUND($BN8,0),SUM($AR$6:$BA$6))>=50,3,IF(MIN(ROUND($BN8,0),SUM($AR$6:$BA$6))>=10,1,0)),MIN(MIN($AR$6:$BA$6)-2,ROUND(MIN(ROUND($BN8,0),SUM($AR$6:$BA$6))/10,0)-1))+2)),MIN(MIN(MAX(IF(MIN(ROUND($BN8,0),SUM($AR$6:$BA$6))>=50,3,IF(MIN(ROUND($BN8,0),SUM($AR$6:$BA$6))>=10,1,0)),MIN(MIN($AR$6:$BA$6)-2,ROUND(MIN(ROUND($BN8,0),SUM($AR$6:$BA$6))/10,0)-1))+2,MIN(ROUND($BN8,0),SUM($AR$6:$BA$6))-9*MAX(IF(MIN(ROUND($BN8,0),SUM($AR$6:$BA$6))>=50,3,IF(MIN(ROUND($BN8,0),SUM($AR$6:$BA$6))>=10,1,0)),MIN(MIN($AR$6:$BA$6)-2,ROUND(MIN(ROUND($BN8,0),SUM($AR$6:$BA$6))/10,0)-1))),ROUND(MIN(ROUND($BN8,0),SUM($AR$6:$BA$6))/10+(MOD(SIN($BS$2*7919+ROW()*12.9898+COLUMN()*78.233)*43758.5453,1)-0.5)*2.4,0)))) -> 10 | AS8: =IF($BN8="","",MAX(MAX(MAX(IF(MIN(ROUND($BN8,0),SUM($AR$6:$BA$6))>=50,3,IF(MIN(ROUND($BN8,0),SUM($AR$6:$BA$6))>=10,1,0)),MIN(MIN($AR$6:$BA$6)-2,ROUND(MIN(ROUND($BN8,0),SUM($AR$6:$BA$6))/10,0)-1)),(MIN(ROUND($BN8,0),SUM($AR$6:$BA$6))-SUM($AR8:AR8))-8*(MAX(IF(MIN(ROUND($BN8,0),SUM($AR$6:$BA$6))>=50,3,IF(MIN(ROUND($BN8,0),SUM($AR$6:$BA$6))>=10,1,0)),MIN(MIN($AR$6:$BA$6)-2,ROUND(MIN(ROUND($BN8,0),SUM($AR$6:$BA$6))/10,0)-1))+2)),MIN(MIN(MAX(IF(MIN(ROUND($BN8,0),SUM($AR$6:$BA$6))>=50,3,IF(MIN(ROUND($BN8,0),SUM($AR$6:$BA$6))>=10,1,0)),MIN(MIN($AR$6:$BA$6)-2,ROUND(MIN(ROUND($BN8,0),SUM($AR$6:$BA$6))/10,0)-1))+2,(MIN(ROUND($BN8,0),SUM($AR$6:$BA$6))-SUM($AR8:AR8))-8*MAX(IF(MIN(ROUND($BN8,0),SUM($AR$6:$BA$6))>=50,3,IF(MIN(ROUND($BN8,0),SUM($AR$6:$BA$6))>=10,1,0)),MIN(MIN($AR$6:$BA$6)-2,ROUND(MIN(ROUND($BN8,0),SUM($AR$6:$BA$6))/10,0)-1))),ROUND((MIN(ROUND($BN8,0),SUM($AR$6:$BA$6))-SUM($AR8:AR8))/9+(MOD(SIN($BS$2*7919+ROW()*12.9898+COLUMN()*78.233)*43758.5453,1)-0.5)*2.4,0)))) -> 10 | AT8: =IF($BN8="","",MAX(MAX(MAX(IF(MIN(ROUND($BN8,0),SUM($AR$6:$BA$6))>=50,3,IF(MIN(ROUND($BN8,0),SUM($AR$6:$BA$6))>=10,1,0)),MIN(MIN($AR$6:$BA$6)-2,ROUND(MIN(ROUND($BN8,0),SUM($AR$6:$BA$6))/10,0)-1)),(MIN(ROUND($BN8,0),SUM($AR$6:$BA$6))-SUM($AR8:AS8))-7*(MAX(IF(MIN(ROUND($BN8,0),SUM($AR$6:$BA$6))>=50,3,IF(MIN(ROUND($BN8,0),SUM($AR$6:$BA$6))>=10,1,0)),MIN(MIN($AR$6:$BA$6)-2,ROUND(MIN(ROUND($BN8,0),SUM($AR$6:$BA$6))/10,0)-1))+2)),MIN(MIN(MAX(IF(MIN(ROUND($BN8,0),SUM($AR$6:$BA$6))>=50,3,IF(MIN(ROUND($BN8,0),SUM($AR$6:$BA$6))>=10,1,0)),MIN(MIN($AR$6:$BA$6)-2,ROUND(MIN(ROUND($BN8,0),SUM($AR$6:$BA$6))/10,0)-1))+2,(MIN(ROUND($BN8,0),SUM($AR$6:$BA$6))-SUM($AR8:AS8))-7*MAX(IF(MIN(ROUND($BN8,0),SUM($AR$6:$BA$6))>=50,3,IF(MIN(ROUND($BN8,0),SUM($AR$6:$BA$6))>=10,1,0)),MIN(MIN($AR$6:$BA$6)-2,ROUND(MIN(ROUND($BN8,0),SUM($AR$6:$BA$6))/10,0)-1))),ROUND((MIN(ROUND($BN8,0),SUM($AR$6:$BA$6))-SUM($AR8:AS8))/8+(MOD(SIN($BS$2*7919+ROW()*12.9898+COLUMN()*78.233)*43758.5453,1)-0.5)*2.4,0)))) -> 10 | AU8: =IF($BN8="","",MAX(MAX(MAX(IF(MIN(ROUND($BN8,0),SUM($AR$6:$BA$6))>=50,3,IF(MIN(ROUND($BN8,0),SUM($AR$6:$BA$6))>=10,1,0)),MIN(MIN($AR$6:$BA$6)-2,ROUND(MIN(ROUND($BN8,0),SUM($AR$6:$BA$6))/10,0)-1)),(MIN(ROUND($BN8,0),SUM($AR$6:$BA$6))-SUM($AR8:AT8))-6*(MAX(IF(MIN(ROUND($BN8,0),SUM($AR$6:$BA$6))>=50,3,IF(MIN(ROUND($BN8,0),SUM($AR$6:$BA$6))>=10,1,0)),MIN(MIN($AR$6:$BA$6)-2,ROUND(MIN(ROUND($BN8,0),SUM($AR$6:$BA$6))/10,0)-1))+2)),MIN(MIN(MAX(IF(MIN(ROUND($BN8,0),SUM($AR$6:$BA$6))>=50,3,IF(MIN(ROUND($BN8,0),SUM($AR$6:$BA$6))>=10,1,0)),MIN(MIN($AR$6:$BA$6)-2,ROUND(MIN(ROUND($BN8,0),SUM($AR$6:$BA$6))/10,0)-1))+2,(MIN(ROUND($BN8,0),SUM($AR$6:$BA$6))-SUM($AR8:AT8))-6*MAX(IF(MIN(ROUND($BN8,0),SUM($AR$6:$BA$6))>=50,3,IF(MIN(ROUND($BN8,0),SUM($AR$6:$BA$6))>=10,1,0)),MIN(MIN($AR$6:$BA$6)-2,ROUND(MIN(ROUND($BN8,0),SUM($AR$6:$BA$6))/10,0)-1))),ROUND((MIN(ROUND($BN8,0),SUM($AR$6:$BA$6))-SUM($AR8:AT8))/7+(MOD(SIN($BS$2*7919+ROW()*12.9898+COLUMN()*78.233)*43758.5453,1)-0.5)*2.4,0)))) -> 10 | AV8: =IF($BN8="","",MAX(MAX(MAX(IF(MIN(ROUND($BN8,0),SUM($AR$6:$BA$6))>=50,3,IF(MIN(ROUND($BN8,0),SUM($AR$6:$BA$6))>=10,1,0)),MIN(MIN($AR$6:$BA$6)-2,ROUND(MIN(ROUND($BN8,0),SUM($AR$6:$BA$6))/10,0)-1)),(MIN(ROUND($BN8,0),SUM($AR$6:$BA$6))-SUM($AR8:AU8))-5*(MAX(IF(MIN(ROUND($BN8,0),SUM($AR$6:$BA$6))>=50,3,IF(MIN(ROUND($BN8,0),SUM($AR$6:$BA$6))>=10,1,0)),MIN(MIN($AR$6:$BA$6)-2,ROUND(MIN(ROUND($BN8,0),SUM($AR$6:$BA$6))/10,0)-1))+2)),MIN(MIN(MAX(IF(MIN(ROUND($BN8,0),SUM($AR$6:$BA$6))>=50,3,IF(MIN(ROUND($BN8,0),SUM($AR$6:$BA$6))>=10,1,0)),MIN(MIN($AR$6:$BA$6)-2,ROUND(MIN(ROUND($BN8,0),SUM($AR$6:$BA$6))/10,0)-1))+2,(MIN(ROUND($BN8,0),SUM($AR$6:$BA$6))-SUM($AR8:AU8))-5*MAX(IF(MIN(ROUND($BN8,0),SUM($AR$6:$BA$6))>=50,3,IF(MIN(ROUND($BN8,0),SUM($AR$6:$BA$6))>=10,1,0)),MIN(MIN($AR$6:$BA$6)-2,ROUND(MIN(ROUND($BN8,0),SUM($AR$6:$BA$6))/10,0)-1))),ROUND((MIN(ROUND($BN8,0),SUM($AR$6:$BA$6))-SUM($AR8:AU8))/6+(MOD(SIN($BS$2*7919+ROW()*12.9898+COLUMN()*78.233)*43758.5453,1)-0.5)*2.4,0)))) -> 10 | AW8: =IF($BN8="","",MAX(MAX(MAX(IF(MIN(ROUND($BN8,0),SUM($AR$6:$BA$6))>=50,3,IF(MIN(ROUND($BN8,0),SUM($AR$6:$BA$6))>=10,1,0)),MIN(MIN($AR$6:$BA$6)-2,ROUND(MIN(ROUND($BN8,0),SUM($AR$6:$BA$6))/10,0)-1)),(MIN(ROUND($BN8,0),SUM($AR$6:$BA$6))-SUM($AR8:AV8))-4*(MAX(IF(MIN(ROUND($BN8,0),SUM($AR$6:$BA$6))>=50,3,IF(MIN(ROUND($BN8,0),SUM($AR$6:$BA$6))>=10,1,0)),MIN(MIN($AR$6:$BA$6)-2,ROUND(MIN(ROUND($BN8,0),SUM($AR$6:$BA$6))/10,0)-1))+2)),MIN(MIN(MAX(IF(MIN(ROUND($BN8,0),SUM($AR$6:$BA$6))>=50,3,IF(MIN(ROUND($BN8,0),SUM($AR$6:$BA$6))>=10,1,0)),MIN(MIN($AR$6:$BA$6)-2,ROUND(MIN(ROUND($BN8,0),SUM($AR$6:$BA$6))/10,0)-1))+2,(MIN(ROUND($BN8,0),SUM($AR$6:$BA$6))-SUM($AR8:AV8))-4*MAX(IF(MIN(ROUND($BN8,0),SUM($AR$6:$BA$6))>=50,3,IF(MIN(ROUND($BN8,0),SUM($AR$6:$BA$6))>=10,1,0)),MIN(MIN($AR$6:$BA$6)-2,ROUND(MIN(ROUND($BN8,0),SUM($AR$6:$BA$6))/10,0)-1))),ROUND((MIN(ROUND($BN8,0),SUM($AR$6:$BA$6))-SUM($AR8:AV8))/5+(MOD(SIN($BS$2*7919+ROW()*12.9898+COLUMN()*78.233)*43758.5453,1)-0.5)*2.4,0)))) -> 10 | AX8: =IF($BN8="","",MAX(MAX(MAX(IF(MIN(ROUND($BN8,0),SUM($AR$6:$BA$6))>=50,3,IF(MIN(ROUND($BN8,0),SUM($AR$6:$BA$6))>=10,1,0)),MIN(MIN($AR$6:$BA$6)-2,ROUND(MIN(ROUND($BN8,0),SUM($AR$6:$BA$6))/10,0)-1)),(MIN(ROUND($BN8,0),SUM($AR$6:$BA$6))-SUM($AR8:AW8))-3*(MAX(IF(MIN(ROUND($BN8,0),SUM($AR$6:$BA$6))>=50,3,IF(MIN(ROUND($BN8,0),SUM($AR$6:$BA$6))>=10,1,0)),MIN(MIN($AR$6:$BA$6)-2,ROUND(MIN(ROUND($BN8,0),SUM($AR$6:$BA$6))/10,0)-1))+2)),MIN(MIN(MAX(IF(MIN(ROUND($BN8,0),SUM($AR$6:$BA$6))>=50,3,IF(MIN(ROUND($BN8,0),SUM($AR$6:$BA$6))>=10,1,0)),MIN(MIN($AR$6:$BA$6)-2,ROUND(MIN(ROUND($BN8,0),SUM($AR$6:$BA$6))/10,0)-1))+2,(MIN(ROUND($BN8,0),SUM($AR$6:$BA$6))-SUM($AR8:AW8))-3*MAX(IF(MIN(ROUND($BN8,0),SUM($AR$6:$BA$6))>=50,3,IF(MIN(ROUND($BN8,0),SUM($AR$6:$BA$6))>=10,1,0)),MIN(MIN($AR$6:$BA$6)-2,ROUND(MIN(ROUND($BN8,0),SUM($AR$6:$BA$6))/10,0)-1))),ROUND((MIN(ROUND($BN8,0),SUM($AR$6:$BA$6))-SUM($AR8:AW8))/4+(MOD(SIN($BS$2*7919+ROW()*12.9898+COLUMN()*78.233)*43758.5453,1)-0.5)*2.4,0)))) -> 10 | AY8: =IF($BN8="","",MAX(MAX(MAX(IF(MIN(ROUND($BN8,0),SUM($AR$6:$BA$6))>=50,3,IF(MIN(ROUND($BN8,0),SUM($AR$6:$BA$6))>=10,1,0)),MIN(MIN($AR$6:$BA$6)-2,ROUND(MIN(ROUND($BN8,0),SUM($AR$6:$BA$6))/10,0)-1)),(MIN(ROUND($BN8,0),SUM($AR$6:$BA$6))-SUM($AR8:AX8))-2*(MAX(IF(MIN(ROUND($BN8,0),SUM($AR$6:$BA$6))>=50,3,IF(MIN(ROUND($BN8,0),SUM($AR$6:$BA$6))>=10,1,0)),MIN(MIN($AR$6:$BA$6)-2,ROUND(MIN(ROUND($BN8,0),SUM($AR$6:$BA$6))/10,0)-1))+2)),MIN(MIN(MAX(IF(MIN(ROUND($BN8,0),SUM($AR$6:$BA$6))>=50,3,IF(MIN(ROUND($BN8,0),SUM($AR$6:$BA$6))>=10,1,0)),MIN(MIN($AR$6:$BA$6)-2,ROUND(MIN(ROUND($BN8,0),SUM($AR$6:$BA$6))/10,0)-1))+2,(MIN(ROUND($BN8,0),SUM($AR$6:$BA$6))-SUM($AR8:AX8))-2*MAX(IF(MIN(ROUND($BN8,0),SUM($AR$6:$BA$6))>=50,3,IF(MIN(ROUND($BN8,0),SUM($AR$6:$BA$6))>=10,1,0)),MIN(MIN($AR$6:$BA$6)-2,ROUND(MIN(ROUND($BN8,0),SUM($AR$6:$BA$6))/10,0)-1))),ROUND((MIN(ROUND($BN8,0),SUM($AR$6:$BA$6))-SUM($AR8:AX8))/3+(MOD(SIN($BS$2*7919+ROW()*12.9898+COLUMN()*78.233)*43758.5453,1)-0.5)*2.4,0)))) -> 10 | AZ8: =IF($BN8="","",MAX(MAX(MAX(IF(MIN(ROUND($BN8,0),SUM($AR$6:$BA$6))>=50,3,IF(MIN(ROUND($BN8,0),SUM($AR$6:$BA$6))>=10,1,0)),MIN(MIN($AR$6:$BA$6)-2,ROUND(MIN(ROUND($BN8,0),SUM($AR$6:$BA$6))/10,0)-1)),(MIN(ROUND($BN8,0),SUM($AR$6:$BA$6))-SUM($AR8:AY8))-1*(MAX(IF(MIN(ROUND($BN8,0),SUM($AR$6:$BA$6))>=50,3,IF(MIN(ROUND($BN8,0),SUM($AR$6:$BA$6))>=10,1,0)),MIN(MIN($AR$6:$BA$6)-2,ROUND(MIN(ROUND($BN8,0),SUM($AR$6:$BA$6))/10,0)-1))+2)),MIN(MIN(MAX(IF(MIN(ROUND($BN8,0),SUM($AR$6:$BA$6))>=50,3,IF(MIN(ROUND($BN8,0),SUM($AR$6:$BA$6))>=10,1,0)),MIN(MIN($AR$6:$BA$6)-2,ROUND(MIN(ROUND($BN8,0),SUM($AR$6:$BA$6))/10,0)-1))+2,(MIN(ROUND($BN8,0),SUM($AR$6:$BA$6))-SUM($AR8:AY8))-1*MAX(IF(MIN(ROUND($BN8,0),SUM($AR$6:$BA$6))>=50,3,IF(MIN(ROUND($BN8,0),SUM($AR$6:$BA$6))>=10,1,0)),MIN(MIN($AR$6:$BA$6)-2,ROUND(MIN(ROUND($BN8,0),SUM($AR$6:$BA$6))/10,0)-1))),ROUND((MIN(ROUND($BN8,0),SUM($AR$6:$BA$6))-SUM($AR8:AY8))/2+(MOD(SIN($BS$2*7919+ROW()*12.9898+COLUMN()*78.233)*43758.5453,1)-0.5)*2.4,0)))) -> 10 | BA8: =IF($BN8="","",(MIN(ROUND($BN8,0),SUM($AR$6:$BA$6))-SUM($AR8:AZ8))) -> 10 | BB8: =IF($BO8="","",MAX(MAX(MAX(IF(MIN(ROUND($BO8,0),SUM($BB$6:$BK$6))>=50,3,IF(MIN(ROUND($BO8,0),SUM($BB$6:$BK$6))>=10,1,0)),MIN(MIN($BB$6:$BK$6)-2,ROUND(MIN(ROUND($BO8,0),SUM($BB$6:$BK$6))/10,0)-1)),MIN(ROUND($BO8,0),SUM($BB$6:$BK$6))-9*(MAX(IF(MIN(ROUND($BO8,0),SUM($BB$6:$BK$6))>=50,3,IF(MIN(ROUND($BO8,0),SUM($BB$6:$BK$6))>=10,1,0)),MIN(MIN($BB$6:$BK$6)-2,ROUND(MIN(ROUND($BO8,0),SUM($BB$6:$BK$6))/10,0)-1))+2)),MIN(MIN(MAX(IF(MIN(ROUND($BO8,0),SUM($BB$6:$BK$6))>=50,3,IF(MIN(ROUND($BO8,0),SUM($BB$6:$BK$6))>=10,1,0)),MIN(MIN($BB$6:$BK$6)-2,ROUND(MIN(ROUND($BO8,0),SUM($BB$6:$BK$6))/10,0)-1))+2,MIN(ROUND($BO8,0),SUM($BB$6:$BK$6))-9*MAX(IF(MIN(ROUND($BO8,0),SUM($BB$6:$BK$6))>=50,3,IF(MIN(ROUND($BO8,0),SUM($BB$6:$BK$6))>=10,1,0)),MIN(MIN($BB$6:$BK$6)-2,ROUND(MIN(ROUND($BO8,0),SUM($BB$6:$BK$6))/10,0)-1))),ROUND(MIN(ROUND($BO8,0),SUM($BB$6:$BK$6))/10+(MOD(SIN($BS$2*7919+ROW()*12.9898+COLUMN()*78.233)*43758.5453,1)-0.5)*2.4,0)))) -> 8 | BC8: =IF($BO8="","",MAX(MAX(MAX(IF(MIN(ROUND($BO8,0),SUM($BB$6:$BK$6))>=50,3,IF(MIN(ROUND($BO8,0),SUM($BB$6:$BK$6))>=10,1,0)),MIN(MIN($BB$6:$BK$6)-2,ROUND(MIN(ROUND($BO8,0),SUM($BB$6:$BK$6))/10,0)-1)),(MIN(ROUND($BO8,0),SUM($BB$6:$BK$6))-SUM($BB8:BB8))-8*(MAX(IF(MIN(ROUND($BO8,0),SUM($BB$6:$BK$6))>=50,3,IF(MIN(ROUND($BO8,0),SUM($BB$6:$BK$6))>=10,1,0)),MIN(MIN($BB$6:$BK$6)-2,ROUND(MIN(ROUND($BO8,0),SUM($BB$6:$BK$6))/10,0)-1))+2)),MIN(MIN(MAX(IF(MIN(ROUND($BO8,0),SUM($BB$6:$BK$6))>=50,3,IF(MIN(ROUND($BO8,0),SUM($BB$6:$BK$6))>=10,1,0)),MIN(MIN($BB$6:$BK$6)-2,ROUND(MIN(ROUND($BO8,0),SUM($BB$6:$BK$6))/10,0)-1))+2,(MIN(ROUND($BO8,0),SUM($BB$6:$BK$6))-SUM($BB8:BB8))-8*MAX(IF(MIN(ROUND($BO8,0),SUM($BB$6:$BK$6))>=50,3,IF(MIN(ROUND($BO8,0),SUM($BB$6:$BK$6))>=10,1,0)),MIN(MIN($BB$6:$BK$6)-2,ROUND(MIN(ROUND($BO8,0),SUM($BB$6:$BK$6))/10,0)-1))),ROUND((MIN(ROUND($BO8,0),SUM($BB$6:$BK$6))-SUM($BB8:BB8))/9+(MOD(SIN($BS$2*7919+ROW()*12.9898+COLUMN()*78.233)*43758.5453,1)-0.5)*2.4,0)))) -> 10 | BD8: =IF($BO8="","",MAX(MAX(MAX(IF(MIN(ROUND($BO8,0),SUM($BB$6:$BK$6))>=50,3,IF(MIN(ROUND($BO8,0),SUM($BB$6:$BK$6))>=10,1,0)),MIN(MIN($BB$6:$BK$6)-2,ROUND(MIN(ROUND($BO8,0),SUM($BB$6:$BK$6))/10,0)-1)),(MIN(ROUND($BO8,0),SUM($BB$6:$BK$6))-SUM($BB8:BC8))-7*(MAX(IF(MIN(ROUND($BO8,0),SUM($BB$6:$BK$6))>=50,3,IF(MIN(ROUND($BO8,0),SUM($BB$6:$BK$6))>=10,1,0)),MIN(MIN($BB$6:$BK$6)-2,ROUND(MIN(ROUND($BO8,0),SUM($BB$6:$BK$6))/10,0)-1))+2)),MIN(MIN(MAX(IF(MIN(ROUND($BO8,0),SUM($BB$6:$BK$6))>=50,3,IF(MIN(ROUND($BO8,0),SUM($BB$6:$BK$6))>=10,1,0)),MIN(MIN($BB$6:$BK$6)-2,ROUND(MIN(ROUND($BO8,0),SUM($BB$6:$BK$6))/10,0)-1))+2,(MIN(ROUND($BO8,0),SUM($BB$6:$BK$6))-SUM($BB8:BC8))-7*MAX(IF(MIN(ROUND($BO8,0),SUM($BB$6:$BK$6))>=50,3,IF(MIN(ROUND($BO8,0),SUM($BB$6:$BK$6))>=10,1,0)),MIN(MIN($BB$6:$BK$6)-2,ROUND(MIN(ROUND($BO8,0),SUM($BB$6:$BK$6))/10,0)-1))),ROUND((MIN(ROUND($BO8,0),SUM($BB$6:$BK$6))-SUM($BB8:BC8))/8+(MOD(SIN($BS$2*7919+ROW()*12.9898+COLUMN()*78.233)*43758.5453,1)-0.5)*2.4,0)))) -> 9 | BE8: =IF($BO8="","",MAX(MAX(MAX(IF(MIN(ROUND($BO8,0),SUM($BB$6:$BK$6))>=50,3,IF(MIN(ROUND($BO8,0),SUM($BB$6:$BK$6))>=10,1,0)),MIN(MIN($BB$6:$BK$6)-2,ROUND(MIN(ROUND($BO8,0),SUM($BB$6:$BK$6))/10,0)-1)),(MIN(ROUND($BO8,0),SUM($BB$6:$BK$6))-SUM($BB8:BD8))-6*(MAX(IF(MIN(ROUND($BO8,0),SUM($BB$6:$BK$6))>=50,3,IF(MIN(ROUND($BO8,0),SUM($BB$6:$BK$6))>=10,1,0)),MIN(MIN($BB$6:$BK$6)-2,ROUND(MIN(ROUND($BO8,0),SUM($BB$6:$BK$6))/10,0)-1))+2)),MIN(MIN(MAX(IF(MIN(ROUND($BO8,0),SUM($BB$6:$BK$6))>=50,3,IF(MIN(ROUND($BO8,0),SUM($BB$6:$BK$6))>=10,1,0)),MIN(MIN($BB$6:$BK$6)-2,ROUND(MIN(ROUND($BO8,0),SUM($BB$6:$BK$6))/10,0)-1))+2,(MIN(ROUND($BO8,0),SUM($BB$6:$BK$6))-SUM($BB8:BD8))-6*MAX(IF(MIN(ROUND($BO8,0),SUM($BB$6:$BK$6))>=50,3,IF(MIN(ROUND($BO8,0),SUM($BB$6:$BK$6))>=10,1,0)),MIN(MIN($BB$6:$BK$6)-2,ROUND(MIN(ROUND($BO8,0),SUM($BB$6:$BK$6))/10,0)-1))),ROUND((MIN(ROUND($BO8,0),SUM($BB$6:$BK$6))-SUM($BB8:BD8))/7+(MOD(SIN($BS$2*7919+ROW()*12.9898+COLUMN()*78.233)*43758.5453,1)-0.5)*2.4,0)))) -> 9 | BF8: =IF($BO8="","",MAX(MAX(MAX(IF(MIN(ROUND($BO8,0),SUM($BB$6:$BK$6))>=50,3,IF(MIN(ROUND($BO8,0),SUM($BB$6:$BK$6))>=10,1,0)),MIN(MIN($BB$6:$BK$6)-2,ROUND(MIN(ROUND($BO8,0),SUM($BB$6:$BK$6))/10,0)-1)),(MIN(ROUND($BO8,0),SUM($BB$6:$BK$6))-SUM($BB8:BE8))-5*(MAX(IF(MIN(ROUND($BO8,0),SUM($BB$6:$BK$6))>=50,3,IF(MIN(ROUND($BO8,0),SUM($BB$6:$BK$6))>=10,1,0)),MIN(MIN($BB$6:$BK$6)-2,ROUND(MIN(ROUND($BO8,0),SUM($BB$6:$BK$6))/10,0)-1))+2)),MIN(MIN(MAX(IF(MIN(ROUND($BO8,0),SUM($BB$6:$BK$6))>=50,3,IF(MIN(ROUND($BO8,0),SUM($BB$6:$BK$6))>=10,1,0)),MIN(MIN($BB$6:$BK$6)-2,ROUND(MIN(ROUND($BO8,0),SUM($BB$6:$BK$6))/10,0)-1))+2,(MIN(ROUND($BO8,0),SUM($BB$6:$BK$6))-SUM($BB8:BE8))-5*MAX(IF(MIN(ROUND($BO8,0),SUM($BB$6:$BK$6))>=50,3,IF(MIN(ROUND($BO8,0),SUM($BB$6:$BK$6))>=10,1,0)),MIN(MIN($BB$6:$BK$6)-2,ROUND(MIN(ROUND($BO8,0),SUM($BB$6:$BK$6))/10,0)-1))),ROUND((MIN(ROUND($BO8,0),SUM($BB$6:$BK$6))-SUM($BB8:BE8))/6+(MOD(SIN($BS$2*7919+ROW()*12.9898+COLUMN()*78.233)*43758.5453,1)-0.5)*2.4,0)))) -> 9 | BG8: =IF($BO8="","",MAX(MAX(MAX(IF(MIN(ROUND($BO8,0),SUM($BB$6:$BK$6))>=50,3,IF(MIN(ROUND($BO8,0),SUM($BB$6:$BK$6))>=10,1,0)),MIN(MIN($BB$6:$BK$6)-2,ROUND(MIN(ROUND($BO8,0),SUM($BB$6:$BK$6))/10,0)-1)),(MIN(ROUND($BO8,0),SUM($BB$6:$BK$6))-SUM($BB8:BF8))-4*(MAX(IF(MIN(ROUND($BO8,0),SUM($BB$6:$BK$6))>=50,3,IF(MIN(ROUND($BO8,0),SUM($BB$6:$BK$6))>=10,1,0)),MIN(MIN($BB$6:$BK$6)-2,ROUND(MIN(ROUND($BO8,0),SUM($BB$6:$BK$6))/10,0)-1))+2)),MIN(MIN(MAX(IF(MIN(ROUND($BO8,0),SUM($BB$6:$BK$6))>=50,3,IF(MIN(ROUND($BO8,0),SUM($BB$6:$BK$6))>=10,1,0)),MIN(MIN($BB$6:$BK$6)-2,ROUND(MIN(ROUND($BO8,0),SUM($BB$6:$BK$6))/10,0)-1))+2,(MIN(ROUND($BO8,0),SUM($BB$6:$BK$6))-SUM($BB8:BF8))-4*MAX(IF(MIN(ROUND($BO8,0),SUM($BB$6:$BK$6))>=50,3,IF(MIN(ROUND($BO8,0),SUM($BB$6:$BK$6))>=10,1,0)),MIN(MIN($BB$6:$BK$6)-2,ROUND(MIN(ROUND($BO8,0),SUM($BB$6:$BK$6))/10,0)-1))),ROUND((MIN(ROUND($BO8,0),SUM($BB$6:$BK$6))-SUM($BB8:BF8))/5+(MOD(SIN($BS$2*7919+ROW()*12.9898+COLUMN()*78.233)*43758.5453,1)-0.5)*2.4,0)))) -> 8 | BH8: =IF($BO8="","",MAX(MAX(MAX(IF(MIN(ROUND($BO8,0),SUM($BB$6:$BK$6))>=50,3,IF(MIN(ROUND($BO8,0),SUM($BB$6:$BK$6))>=10,1,0)),MIN(MIN($BB$6:$BK$6)-2,ROUND(MIN(ROUND($BO8,0),SUM($BB$6:$BK$6))/10,0)-1)),(MIN(ROUND($BO8,0),SUM($BB$6:$BK$6))-SUM($BB8:BG8))-3*(MAX(IF(MIN(ROUND($BO8,0),SUM($BB$6:$BK$6))>=50,3,IF(MIN(ROUND($BO8,0),SUM($BB$6:$BK$6))>=10,1,0)),MIN(MIN($BB$6:$BK$6)-2,ROUND(MIN(ROUND($BO8,0),SUM($BB$6:$BK$6))/10,0)-1))+2)),MIN(MIN(MAX(IF(MIN(ROUND($BO8,0),SUM($BB$6:$BK$6))>=50,3,IF(MIN(ROUND($BO8,0),SUM($BB$6:$BK$6))>=10,1,0)),MIN(MIN($BB$6:$BK$6)-2,ROUND(MIN(ROUND($BO8,0),SUM($BB$6:$BK$6))/10,0)-1))+2,(MIN(ROUND($BO8,0),SUM($BB$6:$BK$6))-SUM($BB8:BG8))-3*MAX(IF(MIN(ROUND($BO8,0),SUM($BB$6:$BK$6))>=50,3,IF(MIN(ROUND($BO8,0),SUM($BB$6:$BK$6))>=10,1,0)),MIN(MIN($BB$6:$BK$6)-2,ROUND(MIN(ROUND($BO8,0),SUM($BB$6:$BK$6))/10,0)-1))),ROUND((MIN(ROUND($BO8,0),SUM($BB$6:$BK$6))-SUM($BB8:BG8))/4+(MOD(SIN($BS$2*7919+ROW()*12.9898+COLUMN()*78.233)*43758.5453,1)-0.5)*2.4,0)))) -> 8 | BI8: =IF($BO8="","",MAX(MAX(MAX(IF(MIN(ROUND($BO8,0),SUM($BB$6:$BK$6))>=50,3,IF(MIN(ROUND($BO8,0),SUM($BB$6:$BK$6))>=10,1,0)),MIN(MIN($BB$6:$BK$6)-2,ROUND(MIN(ROUND($BO8,0),SUM($BB$6:$BK$6))/10,0)-1)),(MIN(ROUND($BO8,0),SUM($BB$6:$BK$6))-SUM($BB8:BH8))-2*(MAX(IF(MIN(ROUND($BO8,0),SUM($BB$6:$BK$6))>=50,3,IF(MIN(ROUND($BO8,0),SUM($BB$6:$BK$6))>=10,1,0)),MIN(MIN($BB$6:$BK$6)-2,ROUND(MIN(ROUND($BO8,0),SUM($BB$6:$BK$6))/10,0)-1))+2)),MIN(MIN(MAX(IF(MIN(ROUND($BO8,0),SUM($BB$6:$BK$6))>=50,3,IF(MIN(ROUND($BO8,0),SUM($BB$6:$BK$6))>=10,1,0)),MIN(MIN($BB$6:$BK$6)-2,ROUND(MIN(ROUND($BO8,0),SUM($BB$6:$BK$6))/10,0)-1))+2,(MIN(ROUND($BO8,0),SUM($BB$6:$BK$6))-SUM($BB8:BH8))-2*MAX(IF(MIN(ROUND($BO8,0),SUM($BB$6:$BK$6))>=50,3,IF(MIN(ROUND($BO8,0),SUM($BB$6:$BK$6))>=10,1,0)),MIN(MIN($BB$6:$BK$6)-2,ROUND(MIN(ROUND($BO8,0),SUM($BB$6:$BK$6))/10,0)-1))),ROUND((MIN(ROUND($BO8,0),SUM($BB$6:$BK$6))-SUM($BB8:BH8))/3+(MOD(SIN($BS$2*7919+ROW()*12.9898+COLUMN()*78.233)*43758.5453,1)-0.5)*2.4,0)))) -> 8 | BJ8: =IF($BO8="","",MAX(MAX(MAX(IF(MIN(ROUND($BO8,0),SUM($BB$6:$BK$6))>=50,3,IF(MIN(ROUND($BO8,0),SUM($BB$6:$BK$6))>=10,1,0)),MIN(MIN($BB$6:$BK$6)-2,ROUND(MIN(ROUND($BO8,0),SUM($BB$6:$BK$6))/10,0)-1)),(MIN(ROUND($BO8,0),SUM($BB$6:$BK$6))-SUM($BB8:BI8))-1*(MAX(IF(MIN(ROUND($BO8,0),SUM($BB$6:$BK$6))>=50,3,IF(MIN(ROUND($BO8,0),SUM($BB$6:$BK$6))>=10,1,0)),MIN(MIN($BB$6:$BK$6)-2,ROUND(MIN(ROUND($BO8,0),SUM($BB$6:$BK$6))/10,0)-1))+2)),MIN(MIN(MAX(IF(MIN(ROUND($BO8,0),SUM($BB$6:$BK$6))>=50,3,IF(MIN(ROUND($BO8,0),SUM($BB$6:$BK$6))>=10,1,0)),MIN(MIN($BB$6:$BK$6)-2,ROUND(MIN(ROUND($BO8,0),SUM($BB$6:$BK$6))/10,0)-1))+2,(MIN(ROUND($BO8,0),SUM($BB$6:$BK$6))-SUM($BB8:BI8))-1*MAX(IF(MIN(ROUND($BO8,0),SUM($BB$6:$BK$6))>=50,3,IF(MIN(ROUND($BO8,0),SUM($BB$6:$BK$6))>=10,1,0)),MIN(MIN($BB$6:$BK$6)-2,ROUND(MIN(ROUND($BO8,0),SUM($BB$6:$BK$6))/10,0)-1))),ROUND((MIN(ROUND($BO8,0),SUM($BB$6:$BK$6))-SUM($BB8:BI8))/2+(MOD(SIN($BS$2*7919+ROW()*12.9898+COLUMN()*78.233)*43758.5453,1)-0.5)*2.4,0)))) -> 8 | BK8: =IF($BO8="","",(MIN(ROUND($BO8,0),SUM($BB$6:$BK$6))-SUM($BB8:BJ8))) -> 8 | BL8: =IF('SINIF LİSTESİ'!D6="", "", 'SINIF LİSTESİ'!D6) -> 95 | BM8: =IF('SINIF LİSTESİ'!E6="", "", 'SINIF LİSTESİ'!E6) -> 75 | BN8: =IF('SINIF LİSTESİ'!F6="", "", 'SINIF LİSTESİ'!F6) -> 100 | BO8: =IF('SINIF LİSTESİ'!G6="", "", 'SINIF LİSTESİ'!G6) -> 85 | BP8: =IF('SINIF LİSTESİ'!H6="", "", 'SINIF LİSTESİ'!H6) -> 87.5
A9: ='SINIF LİSTESİ'!A7 -> 3 | B9: =IF('SINIF LİSTESİ'!B7="", "", 'SINIF LİSTESİ'!B7) | C9: =IF('SINIF LİSTESİ'!C7="", "", 'SINIF LİSTESİ'!C7) | D9: =IF($BL9="","",MAX(MAX(MAX(IF(MIN(ROUND($BL9,0),SUM($D$6:$W$6))>=50,2,IF(MIN(ROUND($BL9,0),SUM($D$6:$W$6))>=20,1,0)),MIN(MIN($D$6:$W$6)-2,ROUND(MIN(ROUND($BL9,0),SUM($D$6:$W$6))/20,0)-1)),MIN(ROUND($BL9,0),SUM($D$6:$W$6))-19*(MAX(IF(MIN(ROUND($BL9,0),SUM($D$6:$W$6))>=50,2,IF(MIN(ROUND($BL9,0),SUM($D$6:$W$6))>=20,1,0)),MIN(MIN($D$6:$W$6)-2,ROUND(MIN(ROUND($BL9,0),SUM($D$6:$W$6))/20,0)-1))+2)),MIN(MIN(MAX(IF(MIN(ROUND($BL9,0),SUM($D$6:$W$6))>=50,2,IF(MIN(ROUND($BL9,0),SUM($D$6:$W$6))>=20,1,0)),MIN(MIN($D$6:$W$6)-2,ROUND(MIN(ROUND($BL9,0),SUM($D$6:$W$6))/20,0)-1))+2,MIN(ROUND($BL9,0),SUM($D$6:$W$6))-19*MAX(IF(MIN(ROUND($BL9,0),SUM($D$6:$W$6))>=50,2,IF(MIN(ROUND($BL9,0),SUM($D$6:$W$6))>=20,1,0)),MIN(MIN($D$6:$W$6)-2,ROUND(MIN(ROUND($BL9,0),SUM($D$6:$W$6))/20,0)-1))),ROUND(MIN(ROUND($BL9,0),SUM($D$6:$W$6))/20+(MOD(SIN($BS$2*7919+ROW()*12.9898+COLUMN()*78.233)*43758.5453,1)-0.5)*2.4,0)))) | E9: =IF($BL9="","",MAX(MAX(MAX(IF(MIN(ROUND($BL9,0),SUM($D$6:$W$6))>=50,2,IF(MIN(ROUND($BL9,0),SUM($D$6:$W$6))>=20,1,0)),MIN(MIN($D$6:$W$6)-2,ROUND(MIN(ROUND($BL9,0),SUM($D$6:$W$6))/20,0)-1)),(MIN(ROUND($BL9,0),SUM($D$6:$W$6))-SUM($D9:D9))-18*(MAX(IF(MIN(ROUND($BL9,0),SUM($D$6:$W$6))>=50,2,IF(MIN(ROUND($BL9,0),SUM($D$6:$W$6))>=20,1,0)),MIN(MIN($D$6:$W$6)-2,ROUND(MIN(ROUND($BL9,0),SUM($D$6:$W$6))/20,0)-1))+2)),MIN(MIN(MAX(IF(MIN(ROUND($BL9,0),SUM($D$6:$W$6))>=50,2,IF(MIN(ROUND($BL9,0),SUM($D$6:$W$6))>=20,1,0)),MIN(MIN($D$6:$W$6)-2,ROUND(MIN(ROUND($BL9,0),SUM($D$6:$W$6))/20,0)-1))+2,(MIN(ROUND($BL9,0),SUM($D$6:$W$6))-SUM($D9:D9))-18*MAX(IF(MIN(ROUND($BL9,0),SUM($D$6:$W$6))>=50,2,IF(MIN(ROUND($BL9,0),SUM($D$6:$W$6))>=20,1,0)),MIN(MIN($D$6:$W$6)-2,ROUND(MIN(ROUND($BL9,0),SUM($D$6:$W$6))/20,0)-1))),ROUND((MIN(ROUND($BL9,0),SUM($D$6:$W$6))-SUM($D9:D9))/19+(MOD(SIN($BS$2*7919+ROW()*12.9898+COLUMN()*78.233)*43758.5453,1)-0.5)*2.4,0)))) | F9: =IF($BL9="","",MAX(MAX(MAX(IF(MIN(ROUND($BL9,0),SUM($D$6:$W$6))>=50,2,IF(MIN(ROUND($BL9,0),SUM($D$6:$W$6))>=20,1,0)),MIN(MIN($D$6:$W$6)-2,ROUND(MIN(ROUND($BL9,0),SUM($D$6:$W$6))/20,0)-1)),(MIN(ROUND($BL9,0),SUM($D$6:$W$6))-SUM($D9:E9))-17*(MAX(IF(MIN(ROUND($BL9,0),SUM($D$6:$W$6))>=50,2,IF(MIN(ROUND($BL9,0),SUM($D$6:$W$6))>=20,1,0)),MIN(MIN($D$6:$W$6)-2,ROUND(MIN(ROUND($BL9,0),SUM($D$6:$W$6))/20,0)-1))+2)),MIN(MIN(MAX(IF(MIN(ROUND($BL9,0),SUM($D$6:$W$6))>=50,2,IF(MIN(ROUND($BL9,0),SUM($D$6:$W$6))>=20,1,0)),MIN(MIN($D$6:$W$6)-2,ROUND(MIN(ROUND($BL9,0),SUM($D$6:$W$6))/20,0)-1))+2,(MIN(ROUND($BL9,0),SUM($D$6:$W$6))-SUM($D9:E9))-17*MAX(IF(MIN(ROUND($BL9,0),SUM($D$6:$W$6))>=50,2,IF(MIN(ROUND($BL9,0),SUM($D$6:$W$6))>=20,1,0)),MIN(MIN($D$6:$W$6)-2,ROUND(MIN(ROUND($BL9,0),SUM($D$6:$W$6))/20,0)-1))),ROUND((MIN(ROUND($BL9,0),SUM($D$6:$W$6))-SUM($D9:E9))/18+(MOD(SIN($BS$2*7919+ROW()*12.9898+COLUMN()*78.233)*43758.5453,1)-0.5)*2.4,0)))) | G9: =IF($BL9="","",MAX(MAX(MAX(IF(MIN(ROUND($BL9,0),SUM($D$6:$W$6))>=50,2,IF(MIN(ROUND($BL9,0),SUM($D$6:$W$6))>=20,1,0)),MIN(MIN($D$6:$W$6)-2,ROUND(MIN(ROUND($BL9,0),SUM($D$6:$W$6))/20,0)-1)),(MIN(ROUND($BL9,0),SUM($D$6:$W$6))-SUM($D9:F9))-16*(MAX(IF(MIN(ROUND($BL9,0),SUM($D$6:$W$6))>=50,2,IF(MIN(ROUND($BL9,0),SUM($D$6:$W$6))>=20,1,0)),MIN(MIN($D$6:$W$6)-2,ROUND(MIN(ROUND($BL9,0),SUM($D$6:$W$6))/20,0)-1))+2)),MIN(MIN(MAX(IF(MIN(ROUND($BL9,0),SUM($D$6:$W$6))>=50,2,IF(MIN(ROUND($BL9,0),SUM($D$6:$W$6))>=20,1,0)),MIN(MIN($D$6:$W$6)-2,ROUND(MIN(ROUND($BL9,0),SUM($D$6:$W$6))/20,0)-1))+2,(MIN(ROUND($BL9,0),SUM($D$6:$W$6))-SUM($D9:F9))-16*MAX(IF(MIN(ROUND($BL9,0),SUM($D$6:$W$6))>=50,2,IF(MIN(ROUND($BL9,0),SUM($D$6:$W$6))>=20,1,0)),MIN(MIN($D$6:$W$6)-2,ROUND(MIN(ROUND($BL9,0),SUM($D$6:$W$6))/20,0)-1))),ROUND((MIN(ROUND($BL9,0),SUM($D$6:$W$6))-SUM($D9:F9))/17+(MOD(SIN($BS$2*7919+ROW()*12.9898+COLUMN()*78.233)*43758.5453,1)-0.5)*2.4,0)))) | H9: =IF($BL9="","",MAX(MAX(MAX(IF(MIN(ROUND($BL9,0),SUM($D$6:$W$6))>=50,2,IF(MIN(ROUND($BL9,0),SUM($D$6:$W$6))>=20,1,0)),MIN(MIN($D$6:$W$6)-2,ROUND(MIN(ROUND($BL9,0),SUM($D$6:$W$6))/20,0)-1)),(MIN(ROUND($BL9,0),SUM($D$6:$W$6))-SUM($D9:G9))-15*(MAX(IF(MIN(ROUND($BL9,0),SUM($D$6:$W$6))>=50,2,IF(MIN(ROUND($BL9,0),SUM($D$6:$W$6))>=20,1,0)),MIN(MIN($D$6:$W$6)-2,ROUND(MIN(ROUND($BL9,0),SUM($D$6:$W$6))/20,0)-1))+2)),MIN(MIN(MAX(IF(MIN(ROUND($BL9,0),SUM($D$6:$W$6))>=50,2,IF(MIN(ROUND($BL9,0),SUM($D$6:$W$6))>=20,1,0)),MIN(MIN($D$6:$W$6)-2,ROUND(MIN(ROUND($BL9,0),SUM($D$6:$W$6))/20,0)-1))+2,(MIN(ROUND($BL9,0),SUM($D$6:$W$6))-SUM($D9:G9))-15*MAX(IF(MIN(ROUND($BL9,0),SUM($D$6:$W$6))>=50,2,IF(MIN(ROUND($BL9,0),SUM($D$6:$W$6))>=20,1,0)),MIN(MIN($D$6:$W$6)-2,ROUND(MIN(ROUND($BL9,0),SUM($D$6:$W$6))/20,0)-1))),ROUND((MIN(ROUND($BL9,0),SUM($D$6:$W$6))-SUM($D9:G9))/16+(MOD(SIN($BS$2*7919+ROW()*12.9898+COLUMN()*78.233)*43758.5453,1)-0.5)*2.4,0)))) | I9: =IF($BL9="","",MAX(MAX(MAX(IF(MIN(ROUND($BL9,0),SUM($D$6:$W$6))>=50,2,IF(MIN(ROUND($BL9,0),SUM($D$6:$W$6))>=20,1,0)),MIN(MIN($D$6:$W$6)-2,ROUND(MIN(ROUND($BL9,0),SUM($D$6:$W$6))/20,0)-1)),(MIN(ROUND($BL9,0),SUM($D$6:$W$6))-SUM($D9:H9))-14*(MAX(IF(MIN(ROUND($BL9,0),SUM($D$6:$W$6))>=50,2,IF(MIN(ROUND($BL9,0),SUM($D$6:$W$6))>=20,1,0)),MIN(MIN($D$6:$W$6)-2,ROUND(MIN(ROUND($BL9,0),SUM($D$6:$W$6))/20,0)-1))+2)),MIN(MIN(MAX(IF(MIN(ROUND($BL9,0),SUM($D$6:$W$6))>=50,2,IF(MIN(ROUND($BL9,0),SUM($D$6:$W$6))>=20,1,0)),MIN(MIN($D$6:$W$6)-2,ROUND(MIN(ROUND($BL9,0),SUM($D$6:$W$6))/20,0)-1))+2,(MIN(ROUND($BL9,0),SUM($D$6:$W$6))-SUM($D9:H9))-14*MAX(IF(MIN(ROUND($BL9,0),SUM($D$6:$W$6))>=50,2,IF(MIN(ROUND($BL9,0),SUM($D$6:$W$6))>=20,1,0)),MIN(MIN($D$6:$W$6)-2,ROUND(MIN(ROUND($BL9,0),SUM($D$6:$W$6))/20,0)-1))),ROUND((MIN(ROUND($BL9,0),SUM($D$6:$W$6))-SUM($D9:H9))/15+(MOD(SIN($BS$2*7919+ROW()*12.9898+COLUMN()*78.233)*43758.5453,1)-0.5)*2.4,0)))) | J9: =IF($BL9="","",MAX(MAX(MAX(IF(MIN(ROUND($BL9,0),SUM($D$6:$W$6))>=50,2,IF(MIN(ROUND($BL9,0),SUM($D$6:$W$6))>=20,1,0)),MIN(MIN($D$6:$W$6)-2,ROUND(MIN(ROUND($BL9,0),SUM($D$6:$W$6))/20,0)-1)),(MIN(ROUND($BL9,0),SUM($D$6:$W$6))-SUM($D9:I9))-13*(MAX(IF(MIN(ROUND($BL9,0),SUM($D$6:$W$6))>=50,2,IF(MIN(ROUND($BL9,0),SUM($D$6:$W$6))>=20,1,0)),MIN(MIN($D$6:$W$6)-2,ROUND(MIN(ROUND($BL9,0),SUM($D$6:$W$6))/20,0)-1))+2)),MIN(MIN(MAX(IF(MIN(ROUND($BL9,0),SUM($D$6:$W$6))>=50,2,IF(MIN(ROUND($BL9,0),SUM($D$6:$W$6))>=20,1,0)),MIN(MIN($D$6:$W$6)-2,ROUND(MIN(ROUND($BL9,0),SUM($D$6:$W$6))/20,0)-1))+2,(MIN(ROUND($BL9,0),SUM($D$6:$W$6))-SUM($D9:I9))-13*MAX(IF(MIN(ROUND($BL9,0),SUM($D$6:$W$6))>=50,2,IF(MIN(ROUND($BL9,0),SUM($D$6:$W$6))>=20,1,0)),MIN(MIN($D$6:$W$6)-2,ROUND(MIN(ROUND($BL9,0),SUM($D$6:$W$6))/20,0)-1))),ROUND((MIN(ROUND($BL9,0),SUM($D$6:$W$6))-SUM($D9:I9))/14+(MOD(SIN($BS$2*7919+ROW()*12.9898+COLUMN()*78.233)*43758.5453,1)-0.5)*2.4,0)))) | K9: =IF($BL9="","",MAX(MAX(MAX(IF(MIN(ROUND($BL9,0),SUM($D$6:$W$6))>=50,2,IF(MIN(ROUND($BL9,0),SUM($D$6:$W$6))>=20,1,0)),MIN(MIN($D$6:$W$6)-2,ROUND(MIN(ROUND($BL9,0),SUM($D$6:$W$6))/20,0)-1)),(MIN(ROUND($BL9,0),SUM($D$6:$W$6))-SUM($D9:J9))-12*(MAX(IF(MIN(ROUND($BL9,0),SUM($D$6:$W$6))>=50,2,IF(MIN(ROUND($BL9,0),SUM($D$6:$W$6))>=20,1,0)),MIN(MIN($D$6:$W$6)-2,ROUND(MIN(ROUND($BL9,0),SUM($D$6:$W$6))/20,0)-1))+2)),MIN(MIN(MAX(IF(MIN(ROUND($BL9,0),SUM($D$6:$W$6))>=50,2,IF(MIN(ROUND($BL9,0),SUM($D$6:$W$6))>=20,1,0)),MIN(MIN($D$6:$W$6)-2,ROUND(MIN(ROUND($BL9,0),SUM($D$6:$W$6))/20,0)-1))+2,(MIN(ROUND($BL9,0),SUM($D$6:$W$6))-SUM($D9:J9))-12*MAX(IF(MIN(ROUND($BL9,0),SUM($D$6:$W$6))>=50,2,IF(MIN(ROUND($BL9,0),SUM($D$6:$W$6))>=20,1,0)),MIN(MIN($D$6:$W$6)-2,ROUND(MIN(ROUND($BL9,0),SUM($D$6:$W$6))/20,0)-1))),ROUND((MIN(ROUND($BL9,0),SUM($D$6:$W$6))-SUM($D9:J9))/13+(MOD(SIN($BS$2*7919+ROW()*12.9898+COLUMN()*78.233)*43758.5453,1)-0.5)*2.4,0)))) | L9: =IF($BL9="","",MAX(MAX(MAX(IF(MIN(ROUND($BL9,0),SUM($D$6:$W$6))>=50,2,IF(MIN(ROUND($BL9,0),SUM($D$6:$W$6))>=20,1,0)),MIN(MIN($D$6:$W$6)-2,ROUND(MIN(ROUND($BL9,0),SUM($D$6:$W$6))/20,0)-1)),(MIN(ROUND($BL9,0),SUM($D$6:$W$6))-SUM($D9:K9))-11*(MAX(IF(MIN(ROUND($BL9,0),SUM($D$6:$W$6))>=50,2,IF(MIN(ROUND($BL9,0),SUM($D$6:$W$6))>=20,1,0)),MIN(MIN($D$6:$W$6)-2,ROUND(MIN(ROUND($BL9,0),SUM($D$6:$W$6))/20,0)-1))+2)),MIN(MIN(MAX(IF(MIN(ROUND($BL9,0),SUM($D$6:$W$6))>=50,2,IF(MIN(ROUND($BL9,0),SUM($D$6:$W$6))>=20,1,0)),MIN(MIN($D$6:$W$6)-2,ROUND(MIN(ROUND($BL9,0),SUM($D$6:$W$6))/20,0)-1))+2,(MIN(ROUND($BL9,0),SUM($D$6:$W$6))-SUM($D9:K9))-11*MAX(IF(MIN(ROUND($BL9,0),SUM($D$6:$W$6))>=50,2,IF(MIN(ROUND($BL9,0),SUM($D$6:$W$6))>=20,1,0)),MIN(MIN($D$6:$W$6)-2,ROUND(MIN(ROUND($BL9,0),SUM($D$6:$W$6))/20,0)-1))),ROUND((MIN(ROUND($BL9,0),SUM($D$6:$W$6))-SUM($D9:K9))/12+(MOD(SIN($BS$2*7919+ROW()*12.9898+COLUMN()*78.233)*43758.5453,1)-0.5)*2.4,0)))) | M9: =IF($BL9="","",MAX(MAX(MAX(IF(MIN(ROUND($BL9,0),SUM($D$6:$W$6))>=50,2,IF(MIN(ROUND($BL9,0),SUM($D$6:$W$6))>=20,1,0)),MIN(MIN($D$6:$W$6)-2,ROUND(MIN(ROUND($BL9,0),SUM($D$6:$W$6))/20,0)-1)),(MIN(ROUND($BL9,0),SUM($D$6:$W$6))-SUM($D9:L9))-10*(MAX(IF(MIN(ROUND($BL9,0),SUM($D$6:$W$6))>=50,2,IF(MIN(ROUND($BL9,0),SUM($D$6:$W$6))>=20,1,0)),MIN(MIN($D$6:$W$6)-2,ROUND(MIN(ROUND($BL9,0),SUM($D$6:$W$6))/20,0)-1))+2)),MIN(MIN(MAX(IF(MIN(ROUND($BL9,0),SUM($D$6:$W$6))>=50,2,IF(MIN(ROUND($BL9,0),SUM($D$6:$W$6))>=20,1,0)),MIN(MIN($D$6:$W$6)-2,ROUND(MIN(ROUND($BL9,0),SUM($D$6:$W$6))/20,0)-1))+2,(MIN(ROUND($BL9,0),SUM($D$6:$W$6))-SUM($D9:L9))-10*MAX(IF(MIN(ROUND($BL9,0),SUM($D$6:$W$6))>=50,2,IF(MIN(ROUND($BL9,0),SUM($D$6:$W$6))>=20,1,0)),MIN(MIN($D$6:$W$6)-2,ROUND(MIN(ROUND($BL9,0),SUM($D$6:$W$6))/20,0)-1))),ROUND((MIN(ROUND($BL9,0),SUM($D$6:$W$6))-SUM($D9:L9))/11+(MOD(SIN($BS$2*7919+ROW()*12.9898+COLUMN()*78.233)*43758.5453,1)-0.5)*2.4,0)))) | N9: =IF($BL9="","",MAX(MAX(MAX(IF(MIN(ROUND($BL9,0),SUM($D$6:$W$6))>=50,2,IF(MIN(ROUND($BL9,0),SUM($D$6:$W$6))>=20,1,0)),MIN(MIN($D$6:$W$6)-2,ROUND(MIN(ROUND($BL9,0),SUM($D$6:$W$6))/20,0)-1)),(MIN(ROUND($BL9,0),SUM($D$6:$W$6))-SUM($D9:M9))-9*(MAX(IF(MIN(ROUND($BL9,0),SUM($D$6:$W$6))>=50,2,IF(MIN(ROUND($BL9,0),SUM($D$6:$W$6))>=20,1,0)),MIN(MIN($D$6:$W$6)-2,ROUND(MIN(ROUND($BL9,0),SUM($D$6:$W$6))/20,0)-1))+2)),MIN(MIN(MAX(IF(MIN(ROUND($BL9,0),SUM($D$6:$W$6))>=50,2,IF(MIN(ROUND($BL9,0),SUM($D$6:$W$6))>=20,1,0)),MIN(MIN($D$6:$W$6)-2,ROUND(MIN(ROUND($BL9,0),SUM($D$6:$W$6))/20,0)-1))+2,(MIN(ROUND($BL9,0),SUM($D$6:$W$6))-SUM($D9:M9))-9*MAX(IF(MIN(ROUND($BL9,0),SUM($D$6:$W$6))>=50,2,IF(MIN(ROUND($BL9,0),SUM($D$6:$W$6))>=20,1,0)),MIN(MIN($D$6:$W$6)-2,ROUND(MIN(ROUND($BL9,0),SUM($D$6:$W$6))/20,0)-1))),ROUND((MIN(ROUND($BL9,0),SUM($D$6:$W$6))-SUM($D9:M9))/10+(MOD(SIN($BS$2*7919+ROW()*12.9898+COLUMN()*78.233)*43758.5453,1)-0.5)*2.4,0)))) | O9: =IF($BL9="","",MAX(MAX(MAX(IF(MIN(ROUND($BL9,0),SUM($D$6:$W$6))>=50,2,IF(MIN(ROUND($BL9,0),SUM($D$6:$W$6))>=20,1,0)),MIN(MIN($D$6:$W$6)-2,ROUND(MIN(ROUND($BL9,0),SUM($D$6:$W$6))/20,0)-1)),(MIN(ROUND($BL9,0),SUM($D$6:$W$6))-SUM($D9:N9))-8*(MAX(IF(MIN(ROUND($BL9,0),SUM($D$6:$W$6))>=50,2,IF(MIN(ROUND($BL9,0),SUM($D$6:$W$6))>=20,1,0)),MIN(MIN($D$6:$W$6)-2,ROUND(MIN(ROUND($BL9,0),SUM($D$6:$W$6))/20,0)-1))+2)),MIN(MIN(MAX(IF(MIN(ROUND($BL9,0),SUM($D$6:$W$6))>=50,2,IF(MIN(ROUND($BL9,0),SUM($D$6:$W$6))>=20,1,0)),MIN(MIN($D$6:$W$6)-2,ROUND(MIN(ROUND($BL9,0),SUM($D$6:$W$6))/20,0)-1))+2,(MIN(ROUND($BL9,0),SUM($D$6:$W$6))-SUM($D9:N9))-8*MAX(IF(MIN(ROUND($BL9,0),SUM($D$6:$W$6))>=50,2,IF(MIN(ROUND($BL9,0),SUM($D$6:$W$6))>=20,1,0)),MIN(MIN($D$6:$W$6)-2,ROUND(MIN(ROUND($BL9,0),SUM($D$6:$W$6))/20,0)-1))),ROUND((MIN(ROUND($BL9,0),SUM($D$6:$W$6))-SUM($D9:N9))/9+(MOD(SIN($BS$2*7919+ROW()*12.9898+COLUMN()*78.233)*43758.5453,1)-0.5)*2.4,0)))) | P9: =IF($BL9="","",MAX(MAX(MAX(IF(MIN(ROUND($BL9,0),SUM($D$6:$W$6))>=50,2,IF(MIN(ROUND($BL9,0),SUM($D$6:$W$6))>=20,1,0)),MIN(MIN($D$6:$W$6)-2,ROUND(MIN(ROUND($BL9,0),SUM($D$6:$W$6))/20,0)-1)),(MIN(ROUND($BL9,0),SUM($D$6:$W$6))-SUM($D9:O9))-7*(MAX(IF(MIN(ROUND($BL9,0),SUM($D$6:$W$6))>=50,2,IF(MIN(ROUND($BL9,0),SUM($D$6:$W$6))>=20,1,0)),MIN(MIN($D$6:$W$6)-2,ROUND(MIN(ROUND($BL9,0),SUM($D$6:$W$6))/20,0)-1))+2)),MIN(MIN(MAX(IF(MIN(ROUND($BL9,0),SUM($D$6:$W$6))>=50,2,IF(MIN(ROUND($BL9,0),SUM($D$6:$W$6))>=20,1,0)),MIN(MIN($D$6:$W$6)-2,ROUND(MIN(ROUND($BL9,0),SUM($D$6:$W$6))/20,0)-1))+2,(MIN(ROUND($BL9,0),SUM($D$6:$W$6))-SUM($D9:O9))-7*MAX(IF(MIN(ROUND($BL9,0),SUM($D$6:$W$6))>=50,2,IF(MIN(ROUND($BL9,0),SUM($D$6:$W$6))>=20,1,0)),MIN(MIN($D$6:$W$6)-2,ROUND(MIN(ROUND($BL9,0),SUM($D$6:$W$6))/20,0)-1))),ROUND((MIN(ROUND($BL9,0),SUM($D$6:$W$6))-SUM($D9:O9))/8+(MOD(SIN($BS$2*7919+ROW()*12.9898+COLUMN()*78.233)*43758.5453,1)-0.5)*2.4,0)))) | Q9: =IF($BL9="","",MAX(MAX(MAX(IF(MIN(ROUND($BL9,0),SUM($D$6:$W$6))>=50,2,IF(MIN(ROUND($BL9,0),SUM($D$6:$W$6))>=20,1,0)),MIN(MIN($D$6:$W$6)-2,ROUND(MIN(ROUND($BL9,0),SUM($D$6:$W$6))/20,0)-1)),(MIN(ROUND($BL9,0),SUM($D$6:$W$6))-SUM($D9:P9))-6*(MAX(IF(MIN(ROUND($BL9,0),SUM($D$6:$W$6))>=50,2,IF(MIN(ROUND($BL9,0),SUM($D$6:$W$6))>=20,1,0)),MIN(MIN($D$6:$W$6)-2,ROUND(MIN(ROUND($BL9,0),SUM($D$6:$W$6))/20,0)-1))+2)),MIN(MIN(MAX(IF(MIN(ROUND($BL9,0),SUM($D$6:$W$6))>=50,2,IF(MIN(ROUND($BL9,0),SUM($D$6:$W$6))>=20,1,0)),MIN(MIN($D$6:$W$6)-2,ROUND(MIN(ROUND($BL9,0),SUM($D$6:$W$6))/20,0)-1))+2,(MIN(ROUND($BL9,0),SUM($D$6:$W$6))-SUM($D9:P9))-6*MAX(IF(MIN(ROUND($BL9,0),SUM($D$6:$W$6))>=50,2,IF(MIN(ROUND($BL9,0),SUM($D$6:$W$6))>=20,1,0)),MIN(MIN($D$6:$W$6)-2,ROUND(MIN(ROUND($BL9,0),SUM($D$6:$W$6))/20,0)-1))),ROUND((MIN(ROUND($BL9,0),SUM($D$6:$W$6))-SUM($D9:P9))/7+(MOD(SIN($BS$2*7919+ROW()*12.9898+COLUMN()*78.233)*43758.5453,1)-0.5)*2.4,0)))) | R9: =IF($BL9="","",MAX(MAX(MAX(IF(MIN(ROUND($BL9,0),SUM($D$6:$W$6))>=50,2,IF(MIN(ROUND($BL9,0),SUM($D$6:$W$6))>=20,1,0)),MIN(MIN($D$6:$W$6)-2,ROUND(MIN(ROUND($BL9,0),SUM($D$6:$W$6))/20,0)-1)),(MIN(ROUND($BL9,0),SUM($D$6:$W$6))-SUM($D9:Q9))-5*(MAX(IF(MIN(ROUND($BL9,0),SUM($D$6:$W$6))>=50,2,IF(MIN(ROUND($BL9,0),SUM($D$6:$W$6))>=20,1,0)),MIN(MIN($D$6:$W$6)-2,ROUND(MIN(ROUND($BL9,0),SUM($D$6:$W$6))/20,0)-1))+2)),MIN(MIN(MAX(IF(MIN(ROUND($BL9,0),SUM($D$6:$W$6))>=50,2,IF(MIN(ROUND($BL9,0),SUM($D$6:$W$6))>=20,1,0)),MIN(MIN($D$6:$W$6)-2,ROUND(MIN(ROUND($BL9,0),SUM($D$6:$W$6))/20,0)-1))+2,(MIN(ROUND($BL9,0),SUM($D$6:$W$6))-SUM($D9:Q9))-5*MAX(IF(MIN(ROUND($BL9,0),SUM($D$6:$W$6))>=50,2,IF(MIN(ROUND($BL9,0),SUM($D$6:$W$6))>=20,1,0)),MIN(MIN($D$6:$W$6)-2,ROUND(MIN(ROUND($BL9,0),SUM($D$6:$W$6))/20,0)-1))),ROUND((MIN(ROUND($BL9,0),SUM($D$6:$W$6))-SUM($D9:Q9))/6+(MOD(SIN($BS$2*7919+ROW()*12.9898+COLUMN()*78.233)*43758.5453,1)-0.5)*2.4,0)))) | S9: =IF($BL9="","",MAX(MAX(MAX(IF(MIN(ROUND($BL9,0),SUM($D$6:$W$6))>=50,2,IF(MIN(ROUND($BL9,0),SUM($D$6:$W$6))>=20,1,0)),MIN(MIN($D$6:$W$6)-2,ROUND(MIN(ROUND($BL9,0),SUM($D$6:$W$6))/20,0)-1)),(MIN(ROUND($BL9,0),SUM($D$6:$W$6))-SUM($D9:R9))-4*(MAX(IF(MIN(ROUND($BL9,0),SUM($D$6:$W$6))>=50,2,IF(MIN(ROUND($BL9,0),SUM($D$6:$W$6))>=20,1,0)),MIN(MIN($D$6:$W$6)-2,ROUND(MIN(ROUND($BL9,0),SUM($D$6:$W$6))/20,0)-1))+2)),MIN(MIN(MAX(IF(MIN(ROUND($BL9,0),SUM($D$6:$W$6))>=50,2,IF(MIN(ROUND($BL9,0),SUM($D$6:$W$6))>=20,1,0)),MIN(MIN($D$6:$W$6)-2,ROUND(MIN(ROUND($BL9,0),SUM($D$6:$W$6))/20,0)-1))+2,(MIN(ROUND($BL9,0),SUM($D$6:$W$6))-SUM($D9:R9))-4*MAX(IF(MIN(ROUND($BL9,0),SUM($D$6:$W$6))>=50,2,IF(MIN(ROUND($BL9,0),SUM($D$6:$W$6))>=20,1,0)),MIN(MIN($D$6:$W$6)-2,ROUND(MIN(ROUND($BL9,0),SUM($D$6:$W$6))/20,0)-1))),ROUND((MIN(ROUND($BL9,0),SUM($D$6:$W$6))-SUM($D9:R9))/5+(MOD(SIN($BS$2*7919+ROW()*12.9898+COLUMN()*78.233)*43758.5453,1)-0.5)*2.4,0)))) | T9: =IF($BL9="","",MAX(MAX(MAX(IF(MIN(ROUND($BL9,0),SUM($D$6:$W$6))>=50,2,IF(MIN(ROUND($BL9,0),SUM($D$6:$W$6))>=20,1,0)),MIN(MIN($D$6:$W$6)-2,ROUND(MIN(ROUND($BL9,0),SUM($D$6:$W$6))/20,0)-1)),(MIN(ROUND($BL9,0),SUM($D$6:$W$6))-SUM($D9:S9))-3*(MAX(IF(MIN(ROUND($BL9,0),SUM($D$6:$W$6))>=50,2,IF(MIN(ROUND($BL9,0),SUM($D$6:$W$6))>=20,1,0)),MIN(MIN($D$6:$W$6)-2,ROUND(MIN(ROUND($BL9,0),SUM($D$6:$W$6))/20,0)-1))+2)),MIN(MIN(MAX(IF(MIN(ROUND($BL9,0),SUM($D$6:$W$6))>=50,2,IF(MIN(ROUND($BL9,0),SUM($D$6:$W$6))>=20,1,0)),MIN(MIN($D$6:$W$6)-2,ROUND(MIN(ROUND($BL9,0),SUM($D$6:$W$6))/20,0)-1))+2,(MIN(ROUND($BL9,0),SUM($D$6:$W$6))-SUM($D9:S9))-3*MAX(IF(MIN(ROUND($BL9,0),SUM($D$6:$W$6))>=50,2,IF(MIN(ROUND($BL9,0),SUM($D$6:$W$6))>=20,1,0)),MIN(MIN($D$6:$W$6)-2,ROUND(MIN(ROUND($BL9,0),SUM($D$6:$W$6))/20,0)-1))),ROUND((MIN(ROUND($BL9,0),SUM($D$6:$W$6))-SUM($D9:S9))/4+(MOD(SIN($BS$2*7919+ROW()*12.9898+COLUMN()*78.233)*43758.5453,1)-0.5)*2.4,0)))) | U9: =IF($BL9="","",MAX(MAX(MAX(IF(MIN(ROUND($BL9,0),SUM($D$6:$W$6))>=50,2,IF(MIN(ROUND($BL9,0),SUM($D$6:$W$6))>=20,1,0)),MIN(MIN($D$6:$W$6)-2,ROUND(MIN(ROUND($BL9,0),SUM($D$6:$W$6))/20,0)-1)),(MIN(ROUND($BL9,0),SUM($D$6:$W$6))-SUM($D9:T9))-2*(MAX(IF(MIN(ROUND($BL9,0),SUM($D$6:$W$6))>=50,2,IF(MIN(ROUND($BL9,0),SUM($D$6:$W$6))>=20,1,0)),MIN(MIN($D$6:$W$6)-2,ROUND(MIN(ROUND($BL9,0),SUM($D$6:$W$6))/20,0)-1))+2)),MIN(MIN(MAX(IF(MIN(ROUND($BL9,0),SUM($D$6:$W$6))>=50,2,IF(MIN(ROUND($BL9,0),SUM($D$6:$W$6))>=20,1,0)),MIN(MIN($D$6:$W$6)-2,ROUND(MIN(ROUND($BL9,0),SUM($D$6:$W$6))/20,0)-1))+2,(MIN(ROUND($BL9,0),SUM($D$6:$W$6))-SUM($D9:T9))-2*MAX(IF(MIN(ROUND($BL9,0),SUM($D$6:$W$6))>=50,2,IF(MIN(ROUND($BL9,0),SUM($D$6:$W$6))>=20,1,0)),MIN(MIN($D$6:$W$6)-2,ROUND(MIN(ROUND($BL9,0),SUM($D$6:$W$6))/20,0)-1))),ROUND((MIN(ROUND($BL9,0),SUM($D$6:$W$6))-SUM($D9:T9))/3+(MOD(SIN($BS$2*7919+ROW()*12.9898+COLUMN()*78.233)*43758.5453,1)-0.5)*2.4,0)))) | V9: =IF($BL9="","",MAX(MAX(MAX(IF(MIN(ROUND($BL9,0),SUM($D$6:$W$6))>=50,2,IF(MIN(ROUND($BL9,0),SUM($D$6:$W$6))>=20,1,0)),MIN(MIN($D$6:$W$6)-2,ROUND(MIN(ROUND($BL9,0),SUM($D$6:$W$6))/20,0)-1)),(MIN(ROUND($BL9,0),SUM($D$6:$W$6))-SUM($D9:U9))-1*(MAX(IF(MIN(ROUND($BL9,0),SUM($D$6:$W$6))>=50,2,IF(MIN(ROUND($BL9,0),SUM($D$6:$W$6))>=20,1,0)),MIN(MIN($D$6:$W$6)-2,ROUND(MIN(ROUND($BL9,0),SUM($D$6:$W$6))/20,0)-1))+2)),MIN(MIN(MAX(IF(MIN(ROUND($BL9,0),SUM($D$6:$W$6))>=50,2,IF(MIN(ROUND($BL9,0),SUM($D$6:$W$6))>=20,1,0)),MIN(MIN($D$6:$W$6)-2,ROUND(MIN(ROUND($BL9,0),SUM($D$6:$W$6))/20,0)-1))+2,(MIN(ROUND($BL9,0),SUM($D$6:$W$6))-SUM($D9:U9))-1*MAX(IF(MIN(ROUND($BL9,0),SUM($D$6:$W$6))>=50,2,IF(MIN(ROUND($BL9,0),SUM($D$6:$W$6))>=20,1,0)),MIN(MIN($D$6:$W$6)-2,ROUND(MIN(ROUND($BL9,0),SUM($D$6:$W$6))/20,0)-1))),ROUND((MIN(ROUND($BL9,0),SUM($D$6:$W$6))-SUM($D9:U9))/2+(MOD(SIN($BS$2*7919+ROW()*12.9898+COLUMN()*78.233)*43758.5453,1)-0.5)*2.4,0)))) | W9: =IF($BL9="","",(MIN(ROUND($BL9,0),SUM($D$6:$W$6))-SUM($D9:V9))) | X9: =IF($BM9="","",MAX(MAX(MAX(IF(MIN(ROUND($BM9,0),SUM($X$6:$AQ$6))>=50,2,IF(MIN(ROUND($BM9,0),SUM($X$6:$AQ$6))>=20,1,0)),MIN(MIN($X$6:$AQ$6)-2,ROUND(MIN(ROUND($BM9,0),SUM($X$6:$AQ$6))/20,0)-1)),MIN(ROUND($BM9,0),SUM($X$6:$AQ$6))-19*(MAX(IF(MIN(ROUND($BM9,0),SUM($X$6:$AQ$6))>=50,2,IF(MIN(ROUND($BM9,0),SUM($X$6:$AQ$6))>=20,1,0)),MIN(MIN($X$6:$AQ$6)-2,ROUND(MIN(ROUND($BM9,0),SUM($X$6:$AQ$6))/20,0)-1))+2)),MIN(MIN(MAX(IF(MIN(ROUND($BM9,0),SUM($X$6:$AQ$6))>=50,2,IF(MIN(ROUND($BM9,0),SUM($X$6:$AQ$6))>=20,1,0)),MIN(MIN($X$6:$AQ$6)-2,ROUND(MIN(ROUND($BM9,0),SUM($X$6:$AQ$6))/20,0)-1))+2,MIN(ROUND($BM9,0),SUM($X$6:$AQ$6))-19*MAX(IF(MIN(ROUND($BM9,0),SUM($X$6:$AQ$6))>=50,2,IF(MIN(ROUND($BM9,0),SUM($X$6:$AQ$6))>=20,1,0)),MIN(MIN($X$6:$AQ$6)-2,ROUND(MIN(ROUND($BM9,0),SUM($X$6:$AQ$6))/20,0)-1))),ROUND(MIN(ROUND($BM9,0),SUM($X$6:$AQ$6))/20+(MOD(SIN($BS$2*7919+ROW()*12.9898+COLUMN()*78.233)*43758.5453,1)-0.5)*2.4,0)))) | Y9: =IF($BM9="","",MAX(MAX(MAX(IF(MIN(ROUND($BM9,0),SUM($X$6:$AQ$6))>=50,2,IF(MIN(ROUND($BM9,0),SUM($X$6:$AQ$6))>=20,1,0)),MIN(MIN($X$6:$AQ$6)-2,ROUND(MIN(ROUND($BM9,0),SUM($X$6:$AQ$6))/20,0)-1)),(MIN(ROUND($BM9,0),SUM($X$6:$AQ$6))-SUM($X9:X9))-18*(MAX(IF(MIN(ROUND($BM9,0),SUM($X$6:$AQ$6))>=50,2,IF(MIN(ROUND($BM9,0),SUM($X$6:$AQ$6))>=20,1,0)),MIN(MIN($X$6:$AQ$6)-2,ROUND(MIN(ROUND($BM9,0),SUM($X$6:$AQ$6))/20,0)-1))+2)),MIN(MIN(MAX(IF(MIN(ROUND($BM9,0),SUM($X$6:$AQ$6))>=50,2,IF(MIN(ROUND($BM9,0),SUM($X$6:$AQ$6))>=20,1,0)),MIN(MIN($X$6:$AQ$6)-2,ROUND(MIN(ROUND($BM9,0),SUM($X$6:$AQ$6))/20,0)-1))+2,(MIN(ROUND($BM9,0),SUM($X$6:$AQ$6))-SUM($X9:X9))-18*MAX(IF(MIN(ROUND($BM9,0),SUM($X$6:$AQ$6))>=50,2,IF(MIN(ROUND($BM9,0),SUM($X$6:$AQ$6))>=20,1,0)),MIN(MIN($X$6:$AQ$6)-2,ROUND(MIN(ROUND($BM9,0),SUM($X$6:$AQ$6))/20,0)-1))),ROUND((MIN(ROUND($BM9,0),SUM($X$6:$AQ$6))-SUM($X9:X9))/19+(MOD(SIN($BS$2*7919+ROW()*12.9898+COLUMN()*78.233)*43758.5453,1)-0.5)*2.4,0)))) | Z9: =IF($BM9="","",MAX(MAX(MAX(IF(MIN(ROUND($BM9,0),SUM($X$6:$AQ$6))>=50,2,IF(MIN(ROUND($BM9,0),SUM($X$6:$AQ$6))>=20,1,0)),MIN(MIN($X$6:$AQ$6)-2,ROUND(MIN(ROUND($BM9,0),SUM($X$6:$AQ$6))/20,0)-1)),(MIN(ROUND($BM9,0),SUM($X$6:$AQ$6))-SUM($X9:Y9))-17*(MAX(IF(MIN(ROUND($BM9,0),SUM($X$6:$AQ$6))>=50,2,IF(MIN(ROUND($BM9,0),SUM($X$6:$AQ$6))>=20,1,0)),MIN(MIN($X$6:$AQ$6)-2,ROUND(MIN(ROUND($BM9,0),SUM($X$6:$AQ$6))/20,0)-1))+2)),MIN(MIN(MAX(IF(MIN(ROUND($BM9,0),SUM($X$6:$AQ$6))>=50,2,IF(MIN(ROUND($BM9,0),SUM($X$6:$AQ$6))>=20,1,0)),MIN(MIN($X$6:$AQ$6)-2,ROUND(MIN(ROUND($BM9,0),SUM($X$6:$AQ$6))/20,0)-1))+2,(MIN(ROUND($BM9,0),SUM($X$6:$AQ$6))-SUM($X9:Y9))-17*MAX(IF(MIN(ROUND($BM9,0),SUM($X$6:$AQ$6))>=50,2,IF(MIN(ROUND($BM9,0),SUM($X$6:$AQ$6))>=20,1,0)),MIN(MIN($X$6:$AQ$6)-2,ROUND(MIN(ROUND($BM9,0),SUM($X$6:$AQ$6))/20,0)-1))),ROUND((MIN(ROUND($BM9,0),SUM($X$6:$AQ$6))-SUM($X9:Y9))/18+(MOD(SIN($BS$2*7919+ROW()*12.9898+COLUMN()*78.233)*43758.5453,1)-0.5)*2.4,0)))) | AA9: =IF($BM9="","",MAX(MAX(MAX(IF(MIN(ROUND($BM9,0),SUM($X$6:$AQ$6))>=50,2,IF(MIN(ROUND($BM9,0),SUM($X$6:$AQ$6))>=20,1,0)),MIN(MIN($X$6:$AQ$6)-2,ROUND(MIN(ROUND($BM9,0),SUM($X$6:$AQ$6))/20,0)-1)),(MIN(ROUND($BM9,0),SUM($X$6:$AQ$6))-SUM($X9:Z9))-16*(MAX(IF(MIN(ROUND($BM9,0),SUM($X$6:$AQ$6))>=50,2,IF(MIN(ROUND($BM9,0),SUM($X$6:$AQ$6))>=20,1,0)),MIN(MIN($X$6:$AQ$6)-2,ROUND(MIN(ROUND($BM9,0),SUM($X$6:$AQ$6))/20,0)-1))+2)),MIN(MIN(MAX(IF(MIN(ROUND($BM9,0),SUM($X$6:$AQ$6))>=50,2,IF(MIN(ROUND($BM9,0),SUM($X$6:$AQ$6))>=20,1,0)),MIN(MIN($X$6:$AQ$6)-2,ROUND(MIN(ROUND($BM9,0),SUM($X$6:$AQ$6))/20,0)-1))+2,(MIN(ROUND($BM9,0),SUM($X$6:$AQ$6))-SUM($X9:Z9))-16*MAX(IF(MIN(ROUND($BM9,0),SUM($X$6:$AQ$6))>=50,2,IF(MIN(ROUND($BM9,0),SUM($X$6:$AQ$6))>=20,1,0)),MIN(MIN($X$6:$AQ$6)-2,ROUND(MIN(ROUND($BM9,0),SUM($X$6:$AQ$6))/20,0)-1))),ROUND((MIN(ROUND($BM9,0),SUM($X$6:$AQ$6))-SUM($X9:Z9))/17+(MOD(SIN($BS$2*7919+ROW()*12.9898+COLUMN()*78.233)*43758.5453,1)-0.5)*2.4,0)))) | AB9: =IF($BM9="","",MAX(MAX(MAX(IF(MIN(ROUND($BM9,0),SUM($X$6:$AQ$6))>=50,2,IF(MIN(ROUND($BM9,0),SUM($X$6:$AQ$6))>=20,1,0)),MIN(MIN($X$6:$AQ$6)-2,ROUND(MIN(ROUND($BM9,0),SUM($X$6:$AQ$6))/20,0)-1)),(MIN(ROUND($BM9,0),SUM($X$6:$AQ$6))-SUM($X9:AA9))-15*(MAX(IF(MIN(ROUND($BM9,0),SUM($X$6:$AQ$6))>=50,2,IF(MIN(ROUND($BM9,0),SUM($X$6:$AQ$6))>=20,1,0)),MIN(MIN($X$6:$AQ$6)-2,ROUND(MIN(ROUND($BM9,0),SUM($X$6:$AQ$6))/20,0)-1))+2)),MIN(MIN(MAX(IF(MIN(ROUND($BM9,0),SUM($X$6:$AQ$6))>=50,2,IF(MIN(ROUND($BM9,0),SUM($X$6:$AQ$6))>=20,1,0)),MIN(MIN($X$6:$AQ$6)-2,ROUND(MIN(ROUND($BM9,0),SUM($X$6:$AQ$6))/20,0)-1))+2,(MIN(ROUND($BM9,0),SUM($X$6:$AQ$6))-SUM($X9:AA9))-15*MAX(IF(MIN(ROUND($BM9,0),SUM($X$6:$AQ$6))>=50,2,IF(MIN(ROUND($BM9,0),SUM($X$6:$AQ$6))>=20,1,0)),MIN(MIN($X$6:$AQ$6)-2,ROUND(MIN(ROUND($BM9,0),SUM($X$6:$AQ$6))/20,0)-1))),ROUND((MIN(ROUND($BM9,0),SUM($X$6:$AQ$6))-SUM($X9:AA9))/16+(MOD(SIN($BS$2*7919+ROW()*12.9898+COLUMN()*78.233)*43758.5453,1)-0.5)*2.4,0)))) | AC9: =IF($BM9="","",MAX(MAX(MAX(IF(MIN(ROUND($BM9,0),SUM($X$6:$AQ$6))>=50,2,IF(MIN(ROUND($BM9,0),SUM($X$6:$AQ$6))>=20,1,0)),MIN(MIN($X$6:$AQ$6)-2,ROUND(MIN(ROUND($BM9,0),SUM($X$6:$AQ$6))/20,0)-1)),(MIN(ROUND($BM9,0),SUM($X$6:$AQ$6))-SUM($X9:AB9))-14*(MAX(IF(MIN(ROUND($BM9,0),SUM($X$6:$AQ$6))>=50,2,IF(MIN(ROUND($BM9,0),SUM($X$6:$AQ$6))>=20,1,0)),MIN(MIN($X$6:$AQ$6)-2,ROUND(MIN(ROUND($BM9,0),SUM($X$6:$AQ$6))/20,0)-1))+2)),MIN(MIN(MAX(IF(MIN(ROUND($BM9,0),SUM($X$6:$AQ$6))>=50,2,IF(MIN(ROUND($BM9,0),SUM($X$6:$AQ$6))>=20,1,0)),MIN(MIN($X$6:$AQ$6)-2,ROUND(MIN(ROUND($BM9,0),SUM($X$6:$AQ$6))/20,0)-1))+2,(MIN(ROUND($BM9,0),SUM($X$6:$AQ$6))-SUM($X9:AB9))-14*MAX(IF(MIN(ROUND($BM9,0),SUM($X$6:$AQ$6))>=50,2,IF(MIN(ROUND($BM9,0),SUM($X$6:$AQ$6))>=20,1,0)),MIN(MIN($X$6:$AQ$6)-2,ROUND(MIN(ROUND($BM9,0),SUM($X$6:$AQ$6))/20,0)-1))),ROUND((MIN(ROUND($BM9,0),SUM($X$6:$AQ$6))-SUM($X9:AB9))/15+(MOD(SIN($BS$2*7919+ROW()*12.9898+COLUMN()*78.233)*43758.5453,1)-0.5)*2.4,0)))) | AD9: =IF($BM9="","",MAX(MAX(MAX(IF(MIN(ROUND($BM9,0),SUM($X$6:$AQ$6))>=50,2,IF(MIN(ROUND($BM9,0),SUM($X$6:$AQ$6))>=20,1,0)),MIN(MIN($X$6:$AQ$6)-2,ROUND(MIN(ROUND($BM9,0),SUM($X$6:$AQ$6))/20,0)-1)),(MIN(ROUND($BM9,0),SUM($X$6:$AQ$6))-SUM($X9:AC9))-13*(MAX(IF(MIN(ROUND($BM9,0),SUM($X$6:$AQ$6))>=50,2,IF(MIN(ROUND($BM9,0),SUM($X$6:$AQ$6))>=20,1,0)),MIN(MIN($X$6:$AQ$6)-2,ROUND(MIN(ROUND($BM9,0),SUM($X$6:$AQ$6))/20,0)-1))+2)),MIN(MIN(MAX(IF(MIN(ROUND($BM9,0),SUM($X$6:$AQ$6))>=50,2,IF(MIN(ROUND($BM9,0),SUM($X$6:$AQ$6))>=20,1,0)),MIN(MIN($X$6:$AQ$6)-2,ROUND(MIN(ROUND($BM9,0),SUM($X$6:$AQ$6))/20,0)-1))+2,(MIN(ROUND($BM9,0),SUM($X$6:$AQ$6))-SUM($X9:AC9))-13*MAX(IF(MIN(ROUND($BM9,0),SUM($X$6:$AQ$6))>=50,2,IF(MIN(ROUND($BM9,0),SUM($X$6:$AQ$6))>=20,1,0)),MIN(MIN($X$6:$AQ$6)-2,ROUND(MIN(ROUND($BM9,0),SUM($X$6:$AQ$6))/20,0)-1))),ROUND((MIN(ROUND($BM9,0),SUM($X$6:$AQ$6))-SUM($X9:AC9))/14+(MOD(SIN($BS$2*7919+ROW()*12.9898+COLUMN()*78.233)*43758.5453,1)-0.5)*2.4,0)))) | AE9: =IF($BM9="","",MAX(MAX(MAX(IF(MIN(ROUND($BM9,0),SUM($X$6:$AQ$6))>=50,2,IF(MIN(ROUND($BM9,0),SUM($X$6:$AQ$6))>=20,1,0)),MIN(MIN($X$6:$AQ$6)-2,ROUND(MIN(ROUND($BM9,0),SUM($X$6:$AQ$6))/20,0)-1)),(MIN(ROUND($BM9,0),SUM($X$6:$AQ$6))-SUM($X9:AD9))-12*(MAX(IF(MIN(ROUND($BM9,0),SUM($X$6:$AQ$6))>=50,2,IF(MIN(ROUND($BM9,0),SUM($X$6:$AQ$6))>=20,1,0)),MIN(MIN($X$6:$AQ$6)-2,ROUND(MIN(ROUND($BM9,0),SUM($X$6:$AQ$6))/20,0)-1))+2)),MIN(MIN(MAX(IF(MIN(ROUND($BM9,0),SUM($X$6:$AQ$6))>=50,2,IF(MIN(ROUND($BM9,0),SUM($X$6:$AQ$6))>=20,1,0)),MIN(MIN($X$6:$AQ$6)-2,ROUND(MIN(ROUND($BM9,0),SUM($X$6:$AQ$6))/20,0)-1))+2,(MIN(ROUND($BM9,0),SUM($X$6:$AQ$6))-SUM($X9:AD9))-12*MAX(IF(MIN(ROUND($BM9,0),SUM($X$6:$AQ$6))>=50,2,IF(MIN(ROUND($BM9,0),SUM($X$6:$AQ$6))>=20,1,0)),MIN(MIN($X$6:$AQ$6)-2,ROUND(MIN(ROUND($BM9,0),SUM($X$6:$AQ$6))/20,0)-1))),ROUND((MIN(ROUND($BM9,0),SUM($X$6:$AQ$6))-SUM($X9:AD9))/13+(MOD(SIN($BS$2*7919+ROW()*12.9898+COLUMN()*78.233)*43758.5453,1)-0.5)*2.4,0)))) | AF9: =IF($BM9="","",MAX(MAX(MAX(IF(MIN(ROUND($BM9,0),SUM($X$6:$AQ$6))>=50,2,IF(MIN(ROUND($BM9,0),SUM($X$6:$AQ$6))>=20,1,0)),MIN(MIN($X$6:$AQ$6)-2,ROUND(MIN(ROUND($BM9,0),SUM($X$6:$AQ$6))/20,0)-1)),(MIN(ROUND($BM9,0),SUM($X$6:$AQ$6))-SUM($X9:AE9))-11*(MAX(IF(MIN(ROUND($BM9,0),SUM($X$6:$AQ$6))>=50,2,IF(MIN(ROUND($BM9,0),SUM($X$6:$AQ$6))>=20,1,0)),MIN(MIN($X$6:$AQ$6)-2,ROUND(MIN(ROUND($BM9,0),SUM($X$6:$AQ$6))/20,0)-1))+2)),MIN(MIN(MAX(IF(MIN(ROUND($BM9,0),SUM($X$6:$AQ$6))>=50,2,IF(MIN(ROUND($BM9,0),SUM($X$6:$AQ$6))>=20,1,0)),MIN(MIN($X$6:$AQ$6)-2,ROUND(MIN(ROUND($BM9,0),SUM($X$6:$AQ$6))/20,0)-1))+2,(MIN(ROUND($BM9,0),SUM($X$6:$AQ$6))-SUM($X9:AE9))-11*MAX(IF(MIN(ROUND($BM9,0),SUM($X$6:$AQ$6))>=50,2,IF(MIN(ROUND($BM9,0),SUM($X$6:$AQ$6))>=20,1,0)),MIN(MIN($X$6:$AQ$6)-2,ROUND(MIN(ROUND($BM9,0),SUM($X$6:$AQ$6))/20,0)-1))),ROUND((MIN(ROUND($BM9,0),SUM($X$6:$AQ$6))-SUM($X9:AE9))/12+(MOD(SIN($BS$2*7919+ROW()*12.9898+COLUMN()*78.233)*43758.5453,1)-0.5)*2.4,0)))) | AG9: =IF($BM9="","",MAX(MAX(MAX(IF(MIN(ROUND($BM9,0),SUM($X$6:$AQ$6))>=50,2,IF(MIN(ROUND($BM9,0),SUM($X$6:$AQ$6))>=20,1,0)),MIN(MIN($X$6:$AQ$6)-2,ROUND(MIN(ROUND($BM9,0),SUM($X$6:$AQ$6))/20,0)-1)),(MIN(ROUND($BM9,0),SUM($X$6:$AQ$6))-SUM($X9:AF9))-10*(MAX(IF(MIN(ROUND($BM9,0),SUM($X$6:$AQ$6))>=50,2,IF(MIN(ROUND($BM9,0),SUM($X$6:$AQ$6))>=20,1,0)),MIN(MIN($X$6:$AQ$6)-2,ROUND(MIN(ROUND($BM9,0),SUM($X$6:$AQ$6))/20,0)-1))+2)),MIN(MIN(MAX(IF(MIN(ROUND($BM9,0),SUM($X$6:$AQ$6))>=50,2,IF(MIN(ROUND($BM9,0),SUM($X$6:$AQ$6))>=20,1,0)),MIN(MIN($X$6:$AQ$6)-2,ROUND(MIN(ROUND($BM9,0),SUM($X$6:$AQ$6))/20,0)-1))+2,(MIN(ROUND($BM9,0),SUM($X$6:$AQ$6))-SUM($X9:AF9))-10*MAX(IF(MIN(ROUND($BM9,0),SUM($X$6:$AQ$6))>=50,2,IF(MIN(ROUND($BM9,0),SUM($X$6:$AQ$6))>=20,1,0)),MIN(MIN($X$6:$AQ$6)-2,ROUND(MIN(ROUND($BM9,0),SUM($X$6:$AQ$6))/20,0)-1))),ROUND((MIN(ROUND($BM9,0),SUM($X$6:$AQ$6))-SUM($X9:AF9))/11+(MOD(SIN($BS$2*7919+ROW()*12.9898+COLUMN()*78.233)*43758.5453,1)-0.5)*2.4,0)))) | AH9: =IF($BM9="","",MAX(MAX(MAX(IF(MIN(ROUND($BM9,0),SUM($X$6:$AQ$6))>=50,2,IF(MIN(ROUND($BM9,0),SUM($X$6:$AQ$6))>=20,1,0)),MIN(MIN($X$6:$AQ$6)-2,ROUND(MIN(ROUND($BM9,0),SUM($X$6:$AQ$6))/20,0)-1)),(MIN(ROUND($BM9,0),SUM($X$6:$AQ$6))-SUM($X9:AG9))-9*(MAX(IF(MIN(ROUND($BM9,0),SUM($X$6:$AQ$6))>=50,2,IF(MIN(ROUND($BM9,0),SUM($X$6:$AQ$6))>=20,1,0)),MIN(MIN($X$6:$AQ$6)-2,ROUND(MIN(ROUND($BM9,0),SUM($X$6:$AQ$6))/20,0)-1))+2)),MIN(MIN(MAX(IF(MIN(ROUND($BM9,0),SUM($X$6:$AQ$6))>=50,2,IF(MIN(ROUND($BM9,0),SUM($X$6:$AQ$6))>=20,1,0)),MIN(MIN($X$6:$AQ$6)-2,ROUND(MIN(ROUND($BM9,0),SUM($X$6:$AQ$6))/20,0)-1))+2,(MIN(ROUND($BM9,0),SUM($X$6:$AQ$6))-SUM($X9:AG9))-9*MAX(IF(MIN(ROUND($BM9,0),SUM($X$6:$AQ$6))>=50,2,IF(MIN(ROUND($BM9,0),SUM($X$6:$AQ$6))>=20,1,0)),MIN(MIN($X$6:$AQ$6)-2,ROUND(MIN(ROUND($BM9,0),SUM($X$6:$AQ$6))/20,0)-1))),ROUND((MIN(ROUND($BM9,0),SUM($X$6:$AQ$6))-SUM($X9:AG9))/10+(MOD(SIN($BS$2*7919+ROW()*12.9898+COLUMN()*78.233)*43758.5453,1)-0.5)*2.4,0)))) | AI9: =IF($BM9="","",MAX(MAX(MAX(IF(MIN(ROUND($BM9,0),SUM($X$6:$AQ$6))>=50,2,IF(MIN(ROUND($BM9,0),SUM($X$6:$AQ$6))>=20,1,0)),MIN(MIN($X$6:$AQ$6)-2,ROUND(MIN(ROUND($BM9,0),SUM($X$6:$AQ$6))/20,0)-1)),(MIN(ROUND($BM9,0),SUM($X$6:$AQ$6))-SUM($X9:AH9))-8*(MAX(IF(MIN(ROUND($BM9,0),SUM($X$6:$AQ$6))>=50,2,IF(MIN(ROUND($BM9,0),SUM($X$6:$AQ$6))>=20,1,0)),MIN(MIN($X$6:$AQ$6)-2,ROUND(MIN(ROUND($BM9,0),SUM($X$6:$AQ$6))/20,0)-1))+2)),MIN(MIN(MAX(IF(MIN(ROUND($BM9,0),SUM($X$6:$AQ$6))>=50,2,IF(MIN(ROUND($BM9,0),SUM($X$6:$AQ$6))>=20,1,0)),MIN(MIN($X$6:$AQ$6)-2,ROUND(MIN(ROUND($BM9,0),SUM($X$6:$AQ$6))/20,0)-1))+2,(MIN(ROUND($BM9,0),SUM($X$6:$AQ$6))-SUM($X9:AH9))-8*MAX(IF(MIN(ROUND($BM9,0),SUM($X$6:$AQ$6))>=50,2,IF(MIN(ROUND($BM9,0),SUM($X$6:$AQ$6))>=20,1,0)),MIN(MIN($X$6:$AQ$6)-2,ROUND(MIN(ROUND($BM9,0),SUM($X$6:$AQ$6))/20,0)-1))),ROUND((MIN(ROUND($BM9,0),SUM($X$6:$AQ$6))-SUM($X9:AH9))/9+(MOD(SIN($BS$2*7919+ROW()*12.9898+COLUMN()*78.233)*43758.5453,1)-0.5)*2.4,0)))) | AJ9: =IF($BM9="","",MAX(MAX(MAX(IF(MIN(ROUND($BM9,0),SUM($X$6:$AQ$6))>=50,2,IF(MIN(ROUND($BM9,0),SUM($X$6:$AQ$6))>=20,1,0)),MIN(MIN($X$6:$AQ$6)-2,ROUND(MIN(ROUND($BM9,0),SUM($X$6:$AQ$6))/20,0)-1)),(MIN(ROUND($BM9,0),SUM($X$6:$AQ$6))-SUM($X9:AI9))-7*(MAX(IF(MIN(ROUND($BM9,0),SUM($X$6:$AQ$6))>=50,2,IF(MIN(ROUND($BM9,0),SUM($X$6:$AQ$6))>=20,1,0)),MIN(MIN($X$6:$AQ$6)-2,ROUND(MIN(ROUND($BM9,0),SUM($X$6:$AQ$6))/20,0)-1))+2)),MIN(MIN(MAX(IF(MIN(ROUND($BM9,0),SUM($X$6:$AQ$6))>=50,2,IF(MIN(ROUND($BM9,0),SUM($X$6:$AQ$6))>=20,1,0)),MIN(MIN($X$6:$AQ$6)-2,ROUND(MIN(ROUND($BM9,0),SUM($X$6:$AQ$6))/20,0)-1))+2,(MIN(ROUND($BM9,0),SUM($X$6:$AQ$6))-SUM($X9:AI9))-7*MAX(IF(MIN(ROUND($BM9,0),SUM($X$6:$AQ$6))>=50,2,IF(MIN(ROUND($BM9,0),SUM($X$6:$AQ$6))>=20,1,0)),MIN(MIN($X$6:$AQ$6)-2,ROUND(MIN(ROUND($BM9,0),SUM($X$6:$AQ$6))/20,0)-1))),ROUND((MIN(ROUND($BM9,0),SUM($X$6:$AQ$6))-SUM($X9:AI9))/8+(MOD(SIN($BS$2*7919+ROW()*12.9898+COLUMN()*78.233)*43758.5453,1)-0.5)*2.4,0)))) | AK9: =IF($BM9="","",MAX(MAX(MAX(IF(MIN(ROUND($BM9,0),SUM($X$6:$AQ$6))>=50,2,IF(MIN(ROUND($BM9,0),SUM($X$6:$AQ$6))>=20,1,0)),MIN(MIN($X$6:$AQ$6)-2,ROUND(MIN(ROUND($BM9,0),SUM($X$6:$AQ$6))/20,0)-1)),(MIN(ROUND($BM9,0),SUM($X$6:$AQ$6))-SUM($X9:AJ9))-6*(MAX(IF(MIN(ROUND($BM9,0),SUM($X$6:$AQ$6))>=50,2,IF(MIN(ROUND($BM9,0),SUM($X$6:$AQ$6))>=20,1,0)),MIN(MIN($X$6:$AQ$6)-2,ROUND(MIN(ROUND($BM9,0),SUM($X$6:$AQ$6))/20,0)-1))+2)),MIN(MIN(MAX(IF(MIN(ROUND($BM9,0),SUM($X$6:$AQ$6))>=50,2,IF(MIN(ROUND($BM9,0),SUM($X$6:$AQ$6))>=20,1,0)),MIN(MIN($X$6:$AQ$6)-2,ROUND(MIN(ROUND($BM9,0),SUM($X$6:$AQ$6))/20,0)-1))+2,(MIN(ROUND($BM9,0),SUM($X$6:$AQ$6))-SUM($X9:AJ9))-6*MAX(IF(MIN(ROUND($BM9,0),SUM($X$6:$AQ$6))>=50,2,IF(MIN(ROUND($BM9,0),SUM($X$6:$AQ$6))>=20,1,0)),MIN(MIN($X$6:$AQ$6)-2,ROUND(MIN(ROUND($BM9,0),SUM($X$6:$AQ$6))/20,0)-1))),ROUND((MIN(ROUND($BM9,0),SUM($X$6:$AQ$6))-SUM($X9:AJ9))/7+(MOD(SIN($BS$2*7919+ROW()*12.9898+COLUMN()*78.233)*43758.5453,1)-0.5)*2.4,0)))) | AL9: =IF($BM9="","",MAX(MAX(MAX(IF(MIN(ROUND($BM9,0),SUM($X$6:$AQ$6))>=50,2,IF(MIN(ROUND($BM9,0),SUM($X$6:$AQ$6))>=20,1,0)),MIN(MIN($X$6:$AQ$6)-2,ROUND(MIN(ROUND($BM9,0),SUM($X$6:$AQ$6))/20,0)-1)),(MIN(ROUND($BM9,0),SUM($X$6:$AQ$6))-SUM($X9:AK9))-5*(MAX(IF(MIN(ROUND($BM9,0),SUM($X$6:$AQ$6))>=50,2,IF(MIN(ROUND($BM9,0),SUM($X$6:$AQ$6))>=20,1,0)),MIN(MIN($X$6:$AQ$6)-2,ROUND(MIN(ROUND($BM9,0),SUM($X$6:$AQ$6))/20,0)-1))+2)),MIN(MIN(MAX(IF(MIN(ROUND($BM9,0),SUM($X$6:$AQ$6))>=50,2,IF(MIN(ROUND($BM9,0),SUM($X$6:$AQ$6))>=20,1,0)),MIN(MIN($X$6:$AQ$6)-2,ROUND(MIN(ROUND($BM9,0),SUM($X$6:$AQ$6))/20,0)-1))+2,(MIN(ROUND($BM9,0),SUM($X$6:$AQ$6))-SUM($X9:AK9))-5*MAX(IF(MIN(ROUND($BM9,0),SUM($X$6:$AQ$6))>=50,2,IF(MIN(ROUND($BM9,0),SUM($X$6:$AQ$6))>=20,1,0)),MIN(MIN($X$6:$AQ$6)-2,ROUND(MIN(ROUND($BM9,0),SUM($X$6:$AQ$6))/20,0)-1))),ROUND((MIN(ROUND($BM9,0),SUM($X$6:$AQ$6))-SUM($X9:AK9))/6+(MOD(SIN($BS$2*7919+ROW()*12.9898+COLUMN()*78.233)*43758.5453,1)-0.5)*2.4,0)))) | AM9: =IF($BM9="","",MAX(MAX(MAX(IF(MIN(ROUND($BM9,0),SUM($X$6:$AQ$6))>=50,2,IF(MIN(ROUND($BM9,0),SUM($X$6:$AQ$6))>=20,1,0)),MIN(MIN($X$6:$AQ$6)-2,ROUND(MIN(ROUND($BM9,0),SUM($X$6:$AQ$6))/20,0)-1)),(MIN(ROUND($BM9,0),SUM($X$6:$AQ$6))-SUM($X9:AL9))-4*(MAX(IF(MIN(ROUND($BM9,0),SUM($X$6:$AQ$6))>=50,2,IF(MIN(ROUND($BM9,0),SUM($X$6:$AQ$6))>=20,1,0)),MIN(MIN($X$6:$AQ$6)-2,ROUND(MIN(ROUND($BM9,0),SUM($X$6:$AQ$6))/20,0)-1))+2)),MIN(MIN(MAX(IF(MIN(ROUND($BM9,0),SUM($X$6:$AQ$6))>=50,2,IF(MIN(ROUND($BM9,0),SUM($X$6:$AQ$6))>=20,1,0)),MIN(MIN($X$6:$AQ$6)-2,ROUND(MIN(ROUND($BM9,0),SUM($X$6:$AQ$6))/20,0)-1))+2,(MIN(ROUND($BM9,0),SUM($X$6:$AQ$6))-SUM($X9:AL9))-4*MAX(IF(MIN(ROUND($BM9,0),SUM($X$6:$AQ$6))>=50,2,IF(MIN(ROUND($BM9,0),SUM($X$6:$AQ$6))>=20,1,0)),MIN(MIN($X$6:$AQ$6)-2,ROUND(MIN(ROUND($BM9,0),SUM($X$6:$AQ$6))/20,0)-1))),ROUND((MIN(ROUND($BM9,0),SUM($X$6:$AQ$6))-SUM($X9:AL9))/5+(MOD(SIN($BS$2*7919+ROW()*12.9898+COLUMN()*78.233)*43758.5453,1)-0.5)*2.4,0)))) | AN9: =IF($BM9="","",MAX(MAX(MAX(IF(MIN(ROUND($BM9,0),SUM($X$6:$AQ$6))>=50,2,IF(MIN(ROUND($BM9,0),SUM($X$6:$AQ$6))>=20,1,0)),MIN(MIN($X$6:$AQ$6)-2,ROUND(MIN(ROUND($BM9,0),SUM($X$6:$AQ$6))/20,0)-1)),(MIN(ROUND($BM9,0),SUM($X$6:$AQ$6))-SUM($X9:AM9))-3*(MAX(IF(MIN(ROUND($BM9,0),SUM($X$6:$AQ$6))>=50,2,IF(MIN(ROUND($BM9,0),SUM($X$6:$AQ$6))>=20,1,0)),MIN(MIN($X$6:$AQ$6)-2,ROUND(MIN(ROUND($BM9,0),SUM($X$6:$AQ$6))/20,0)-1))+2)),MIN(MIN(MAX(IF(MIN(ROUND($BM9,0),SUM($X$6:$AQ$6))>=50,2,IF(MIN(ROUND($BM9,0),SUM($X$6:$AQ$6))>=20,1,0)),MIN(MIN($X$6:$AQ$6)-2,ROUND(MIN(ROUND($BM9,0),SUM($X$6:$AQ$6))/20,0)-1))+2,(MIN(ROUND($BM9,0),SUM($X$6:$AQ$6))-SUM($X9:AM9))-3*MAX(IF(MIN(ROUND($BM9,0),SUM($X$6:$AQ$6))>=50,2,IF(MIN(ROUND($BM9,0),SUM($X$6:$AQ$6))>=20,1,0)),MIN(MIN($X$6:$AQ$6)-2,ROUND(MIN(ROUND($BM9,0),SUM($X$6:$AQ$6))/20,0)-1))),ROUND((MIN(ROUND($BM9,0),SUM($X$6:$AQ$6))-SUM($X9:AM9))/4+(MOD(SIN($BS$2*7919+ROW()*12.9898+COLUMN()*78.233)*43758.5453,1)-0.5)*2.4,0)))) | AO9: =IF($BM9="","",MAX(MAX(MAX(IF(MIN(ROUND($BM9,0),SUM($X$6:$AQ$6))>=50,2,IF(MIN(ROUND($BM9,0),SUM($X$6:$AQ$6))>=20,1,0)),MIN(MIN($X$6:$AQ$6)-2,ROUND(MIN(ROUND($BM9,0),SUM($X$6:$AQ$6))/20,0)-1)),(MIN(ROUND($BM9,0),SUM($X$6:$AQ$6))-SUM($X9:AN9))-2*(MAX(IF(MIN(ROUND($BM9,0),SUM($X$6:$AQ$6))>=50,2,IF(MIN(ROUND($BM9,0),SUM($X$6:$AQ$6))>=20,1,0)),MIN(MIN($X$6:$AQ$6)-2,ROUND(MIN(ROUND($BM9,0),SUM($X$6:$AQ$6))/20,0)-1))+2)),MIN(MIN(MAX(IF(MIN(ROUND($BM9,0),SUM($X$6:$AQ$6))>=50,2,IF(MIN(ROUND($BM9,0),SUM($X$6:$AQ$6))>=20,1,0)),MIN(MIN($X$6:$AQ$6)-2,ROUND(MIN(ROUND($BM9,0),SUM($X$6:$AQ$6))/20,0)-1))+2,(MIN(ROUND($BM9,0),SUM($X$6:$AQ$6))-SUM($X9:AN9))-2*MAX(IF(MIN(ROUND($BM9,0),SUM($X$6:$AQ$6))>=50,2,IF(MIN(ROUND($BM9,0),SUM($X$6:$AQ$6))>=20,1,0)),MIN(MIN($X$6:$AQ$6)-2,ROUND(MIN(ROUND($BM9,0),SUM($X$6:$AQ$6))/20,0)-1))),ROUND((MIN(ROUND($BM9,0),SUM($X$6:$AQ$6))-SUM($X9:AN9))/3+(MOD(SIN($BS$2*7919+ROW()*12.9898+COLUMN()*78.233)*43758.5453,1)-0.5)*2.4,0)))) | AP9: =IF($BM9="","",MAX(MAX(MAX(IF(MIN(ROUND($BM9,0),SUM($X$6:$AQ$6))>=50,2,IF(MIN(ROUND($BM9,0),SUM($X$6:$AQ$6))>=20,1,0)),MIN(MIN($X$6:$AQ$6)-2,ROUND(MIN(ROUND($BM9,0),SUM($X$6:$AQ$6))/20,0)-1)),(MIN(ROUND($BM9,0),SUM($X$6:$AQ$6))-SUM($X9:AO9))-1*(MAX(IF(MIN(ROUND($BM9,0),SUM($X$6:$AQ$6))>=50,2,IF(MIN(ROUND($BM9,0),SUM($X$6:$AQ$6))>=20,1,0)),MIN(MIN($X$6:$AQ$6)-2,ROUND(MIN(ROUND($BM9,0),SUM($X$6:$AQ$6))/20,0)-1))+2)),MIN(MIN(MAX(IF(MIN(ROUND($BM9,0),SUM($X$6:$AQ$6))>=50,2,IF(MIN(ROUND($BM9,0),SUM($X$6:$AQ$6))>=20,1,0)),MIN(MIN($X$6:$AQ$6)-2,ROUND(MIN(ROUND($BM9,0),SUM($X$6:$AQ$6))/20,0)-1))+2,(MIN(ROUND($BM9,0),SUM($X$6:$AQ$6))-SUM($X9:AO9))-1*MAX(IF(MIN(ROUND($BM9,0),SUM($X$6:$AQ$6))>=50,2,IF(MIN(ROUND($BM9,0),SUM($X$6:$AQ$6))>=20,1,0)),MIN(MIN($X$6:$AQ$6)-2,ROUND(MIN(ROUND($BM9,0),SUM($X$6:$AQ$6))/20,0)-1))),ROUND((MIN(ROUND($BM9,0),SUM($X$6:$AQ$6))-SUM($X9:AO9))/2+(MOD(SIN($BS$2*7919+ROW()*12.9898+COLUMN()*78.233)*43758.5453,1)-0.5)*2.4,0)))) | AQ9: =IF($BM9="","",(MIN(ROUND($BM9,0),SUM($X$6:$AQ$6))-SUM($X9:AP9))) | AR9: =IF($BN9="","",MAX(MAX(MAX(IF(MIN(ROUND($BN9,0),SUM($AR$6:$BA$6))>=50,3,IF(MIN(ROUND($BN9,0),SUM($AR$6:$BA$6))>=10,1,0)),MIN(MIN($AR$6:$BA$6)-2,ROUND(MIN(ROUND($BN9,0),SUM($AR$6:$BA$6))/10,0)-1)),MIN(ROUND($BN9,0),SUM($AR$6:$BA$6))-9*(MAX(IF(MIN(ROUND($BN9,0),SUM($AR$6:$BA$6))>=50,3,IF(MIN(ROUND($BN9,0),SUM($AR$6:$BA$6))>=10,1,0)),MIN(MIN($AR$6:$BA$6)-2,ROUND(MIN(ROUND($BN9,0),SUM($AR$6:$BA$6))/10,0)-1))+2)),MIN(MIN(MAX(IF(MIN(ROUND($BN9,0),SUM($AR$6:$BA$6))>=50,3,IF(MIN(ROUND($BN9,0),SUM($AR$6:$BA$6))>=10,1,0)),MIN(MIN($AR$6:$BA$6)-2,ROUND(MIN(ROUND($BN9,0),SUM($AR$6:$BA$6))/10,0)-1))+2,MIN(ROUND($BN9,0),SUM($AR$6:$BA$6))-9*MAX(IF(MIN(ROUND($BN9,0),SUM($AR$6:$BA$6))>=50,3,IF(MIN(ROUND($BN9,0),SUM($AR$6:$BA$6))>=10,1,0)),MIN(MIN($AR$6:$BA$6)-2,ROUND(MIN(ROUND($BN9,0),SUM($AR$6:$BA$6))/10,0)-1))),ROUND(MIN(ROUND($BN9,0),SUM($AR$6:$BA$6))/10+(MOD(SIN($BS$2*7919+ROW()*12.9898+COLUMN()*78.233)*43758.5453,1)-0.5)*2.4,0)))) | AS9: =IF($BN9="","",MAX(MAX(MAX(IF(MIN(ROUND($BN9,0),SUM($AR$6:$BA$6))>=50,3,IF(MIN(ROUND($BN9,0),SUM($AR$6:$BA$6))>=10,1,0)),MIN(MIN($AR$6:$BA$6)-2,ROUND(MIN(ROUND($BN9,0),SUM($AR$6:$BA$6))/10,0)-1)),(MIN(ROUND($BN9,0),SUM($AR$6:$BA$6))-SUM($AR9:AR9))-8*(MAX(IF(MIN(ROUND($BN9,0),SUM($AR$6:$BA$6))>=50,3,IF(MIN(ROUND($BN9,0),SUM($AR$6:$BA$6))>=10,1,0)),MIN(MIN($AR$6:$BA$6)-2,ROUND(MIN(ROUND($BN9,0),SUM($AR$6:$BA$6))/10,0)-1))+2)),MIN(MIN(MAX(IF(MIN(ROUND($BN9,0),SUM($AR$6:$BA$6))>=50,3,IF(MIN(ROUND($BN9,0),SUM($AR$6:$BA$6))>=10,1,0)),MIN(MIN($AR$6:$BA$6)-2,ROUND(MIN(ROUND($BN9,0),SUM($AR$6:$BA$6))/10,0)-1))+2,(MIN(ROUND($BN9,0),SUM($AR$6:$BA$6))-SUM($AR9:AR9))-8*MAX(IF(MIN(ROUND($BN9,0),SUM($AR$6:$BA$6))>=50,3,IF(MIN(ROUND($BN9,0),SUM($AR$6:$BA$6))>=10,1,0)),MIN(MIN($AR$6:$BA$6)-2,ROUND(MIN(ROUND($BN9,0),SUM($AR$6:$BA$6))/10,0)-1))),ROUND((MIN(ROUND($BN9,0),SUM($AR$6:$BA$6))-SUM($AR9:AR9))/9+(MOD(SIN($BS$2*7919+ROW()*12.9898+COLUMN()*78.233)*43758.5453,1)-0.5)*2.4,0)))) | AT9: =IF($BN9="","",MAX(MAX(MAX(IF(MIN(ROUND($BN9,0),SUM($AR$6:$BA$6))>=50,3,IF(MIN(ROUND($BN9,0),SUM($AR$6:$BA$6))>=10,1,0)),MIN(MIN($AR$6:$BA$6)-2,ROUND(MIN(ROUND($BN9,0),SUM($AR$6:$BA$6))/10,0)-1)),(MIN(ROUND($BN9,0),SUM($AR$6:$BA$6))-SUM($AR9:AS9))-7*(MAX(IF(MIN(ROUND($BN9,0),SUM($AR$6:$BA$6))>=50,3,IF(MIN(ROUND($BN9,0),SUM($AR$6:$BA$6))>=10,1,0)),MIN(MIN($AR$6:$BA$6)-2,ROUND(MIN(ROUND($BN9,0),SUM($AR$6:$BA$6))/10,0)-1))+2)),MIN(MIN(MAX(IF(MIN(ROUND($BN9,0),SUM($AR$6:$BA$6))>=50,3,IF(MIN(ROUND($BN9,0),SUM($AR$6:$BA$6))>=10,1,0)),MIN(MIN($AR$6:$BA$6)-2,ROUND(MIN(ROUND($BN9,0),SUM($AR$6:$BA$6))/10,0)-1))+2,(MIN(ROUND($BN9,0),SUM($AR$6:$BA$6))-SUM($AR9:AS9))-7*MAX(IF(MIN(ROUND($BN9,0),SUM($AR$6:$BA$6))>=50,3,IF(MIN(ROUND($BN9,0),SUM($AR$6:$BA$6))>=10,1,0)),MIN(MIN($AR$6:$BA$6)-2,ROUND(MIN(ROUND($BN9,0),SUM($AR$6:$BA$6))/10,0)-1))),ROUND((MIN(ROUND($BN9,0),SUM($AR$6:$BA$6))-SUM($AR9:AS9))/8+(MOD(SIN($BS$2*7919+ROW()*12.9898+COLUMN()*78.233)*43758.5453,1)-0.5)*2.4,0)))) | AU9: =IF($BN9="","",MAX(MAX(MAX(IF(MIN(ROUND($BN9,0),SUM($AR$6:$BA$6))>=50,3,IF(MIN(ROUND($BN9,0),SUM($AR$6:$BA$6))>=10,1,0)),MIN(MIN($AR$6:$BA$6)-2,ROUND(MIN(ROUND($BN9,0),SUM($AR$6:$BA$6))/10,0)-1)),(MIN(ROUND($BN9,0),SUM($AR$6:$BA$6))-SUM($AR9:AT9))-6*(MAX(IF(MIN(ROUND($BN9,0),SUM($AR$6:$BA$6))>=50,3,IF(MIN(ROUND($BN9,0),SUM($AR$6:$BA$6))>=10,1,0)),MIN(MIN($AR$6:$BA$6)-2,ROUND(MIN(ROUND($BN9,0),SUM($AR$6:$BA$6))/10,0)-1))+2)),MIN(MIN(MAX(IF(MIN(ROUND($BN9,0),SUM($AR$6:$BA$6))>=50,3,IF(MIN(ROUND($BN9,0),SUM($AR$6:$BA$6))>=10,1,0)),MIN(MIN($AR$6:$BA$6)-2,ROUND(MIN(ROUND($BN9,0),SUM($AR$6:$BA$6))/10,0)-1))+2,(MIN(ROUND($BN9,0),SUM($AR$6:$BA$6))-SUM($AR9:AT9))-6*MAX(IF(MIN(ROUND($BN9,0),SUM($AR$6:$BA$6))>=50,3,IF(MIN(ROUND($BN9,0),SUM($AR$6:$BA$6))>=10,1,0)),MIN(MIN($AR$6:$BA$6)-2,ROUND(MIN(ROUND($BN9,0),SUM($AR$6:$BA$6))/10,0)-1))),ROUND((MIN(ROUND($BN9,0),SUM($AR$6:$BA$6))-SUM($AR9:AT9))/7+(MOD(SIN($BS$2*7919+ROW()*12.9898+COLUMN()*78.233)*43758.5453,1)-0.5)*2.4,0)))) | AV9: =IF($BN9="","",MAX(MAX(MAX(IF(MIN(ROUND($BN9,0),SUM($AR$6:$BA$6))>=50,3,IF(MIN(ROUND($BN9,0),SUM($AR$6:$BA$6))>=10,1,0)),MIN(MIN($AR$6:$BA$6)-2,ROUND(MIN(ROUND($BN9,0),SUM($AR$6:$BA$6))/10,0)-1)),(MIN(ROUND($BN9,0),SUM($AR$6:$BA$6))-SUM($AR9:AU9))-5*(MAX(IF(MIN(ROUND($BN9,0),SUM($AR$6:$BA$6))>=50,3,IF(MIN(ROUND($BN9,0),SUM($AR$6:$BA$6))>=10,1,0)),MIN(MIN($AR$6:$BA$6)-2,ROUND(MIN(ROUND($BN9,0),SUM($AR$6:$BA$6))/10,0)-1))+2)),MIN(MIN(MAX(IF(MIN(ROUND($BN9,0),SUM($AR$6:$BA$6))>=50,3,IF(MIN(ROUND($BN9,0),SUM($AR$6:$BA$6))>=10,1,0)),MIN(MIN($AR$6:$BA$6)-2,ROUND(MIN(ROUND($BN9,0),SUM($AR$6:$BA$6))/10,0)-1))+2,(MIN(ROUND($BN9,0),SUM($AR$6:$BA$6))-SUM($AR9:AU9))-5*MAX(IF(MIN(ROUND($BN9,0),SUM($AR$6:$BA$6))>=50,3,IF(MIN(ROUND($BN9,0),SUM($AR$6:$BA$6))>=10,1,0)),MIN(MIN($AR$6:$BA$6)-2,ROUND(MIN(ROUND($BN9,0),SUM($AR$6:$BA$6))/10,0)-1))),ROUND((MIN(ROUND($BN9,0),SUM($AR$6:$BA$6))-SUM($AR9:AU9))/6+(MOD(SIN($BS$2*7919+ROW()*12.9898+COLUMN()*78.233)*43758.5453,1)-0.5)*2.4,0)))) | AW9: =IF($BN9="","",MAX(MAX(MAX(IF(MIN(ROUND($BN9,0),SUM($AR$6:$BA$6))>=50,3,IF(MIN(ROUND($BN9,0),SUM($AR$6:$BA$6))>=10,1,0)),MIN(MIN($AR$6:$BA$6)-2,ROUND(MIN(ROUND($BN9,0),SUM($AR$6:$BA$6))/10,0)-1)),(MIN(ROUND($BN9,0),SUM($AR$6:$BA$6))-SUM($AR9:AV9))-4*(MAX(IF(MIN(ROUND($BN9,0),SUM($AR$6:$BA$6))>=50,3,IF(MIN(ROUND($BN9,0),SUM($AR$6:$BA$6))>=10,1,0)),MIN(MIN($AR$6:$BA$6)-2,ROUND(MIN(ROUND($BN9,0),SUM($AR$6:$BA$6))/10,0)-1))+2)),MIN(MIN(MAX(IF(MIN(ROUND($BN9,0),SUM($AR$6:$BA$6))>=50,3,IF(MIN(ROUND($BN9,0),SUM($AR$6:$BA$6))>=10,1,0)),MIN(MIN($AR$6:$BA$6)-2,ROUND(MIN(ROUND($BN9,0),SUM($AR$6:$BA$6))/10,0)-1))+2,(MIN(ROUND($BN9,0),SUM($AR$6:$BA$6))-SUM($AR9:AV9))-4*MAX(IF(MIN(ROUND($BN9,0),SUM($AR$6:$BA$6))>=50,3,IF(MIN(ROUND($BN9,0),SUM($AR$6:$BA$6))>=10,1,0)),MIN(MIN($AR$6:$BA$6)-2,ROUND(MIN(ROUND($BN9,0),SUM($AR$6:$BA$6))/10,0)-1))),ROUND((MIN(ROUND($BN9,0),SUM($AR$6:$BA$6))-SUM($AR9:AV9))/5+(MOD(SIN($BS$2*7919+ROW()*12.9898+COLUMN()*78.233)*43758.5453,1)-0.5)*2.4,0)))) | AX9: =IF($BN9="","",MAX(MAX(MAX(IF(MIN(ROUND($BN9,0),SUM($AR$6:$BA$6))>=50,3,IF(MIN(ROUND($BN9,0),SUM($AR$6:$BA$6))>=10,1,0)),MIN(MIN($AR$6:$BA$6)-2,ROUND(MIN(ROUND($BN9,0),SUM($AR$6:$BA$6))/10,0)-1)),(MIN(ROUND($BN9,0),SUM($AR$6:$BA$6))-SUM($AR9:AW9))-3*(MAX(IF(MIN(ROUND($BN9,0),SUM($AR$6:$BA$6))>=50,3,IF(MIN(ROUND($BN9,0),SUM($AR$6:$BA$6))>=10,1,0)),MIN(MIN($AR$6:$BA$6)-2,ROUND(MIN(ROUND($BN9,0),SUM($AR$6:$BA$6))/10,0)-1))+2)),MIN(MIN(MAX(IF(MIN(ROUND($BN9,0),SUM($AR$6:$BA$6))>=50,3,IF(MIN(ROUND($BN9,0),SUM($AR$6:$BA$6))>=10,1,0)),MIN(MIN($AR$6:$BA$6)-2,ROUND(MIN(ROUND($BN9,0),SUM($AR$6:$BA$6))/10,0)-1))+2,(MIN(ROUND($BN9,0),SUM($AR$6:$BA$6))-SUM($AR9:AW9))-3*MAX(IF(MIN(ROUND($BN9,0),SUM($AR$6:$BA$6))>=50,3,IF(MIN(ROUND($BN9,0),SUM($AR$6:$BA$6))>=10,1,0)),MIN(MIN($AR$6:$BA$6)-2,ROUND(MIN(ROUND($BN9,0),SUM($AR$6:$BA$6))/10,0)-1))),ROUND((MIN(ROUND($BN9,0),SUM($AR$6:$BA$6))-SUM($AR9:AW9))/4+(MOD(SIN($BS$2*7919+ROW()*12.9898+COLUMN()*78.233)*43758.5453,1)-0.5)*2.4,0)))) | AY9: =IF($BN9="","",MAX(MAX(MAX(IF(MIN(ROUND($BN9,0),SUM($AR$6:$BA$6))>=50,3,IF(MIN(ROUND($BN9,0),SUM($AR$6:$BA$6))>=10,1,0)),MIN(MIN($AR$6:$BA$6)-2,ROUND(MIN(ROUND($BN9,0),SUM($AR$6:$BA$6))/10,0)-1)),(MIN(ROUND($BN9,0),SUM($AR$6:$BA$6))-SUM($AR9:AX9))-2*(MAX(IF(MIN(ROUND($BN9,0),SUM($AR$6:$BA$6))>=50,3,IF(MIN(ROUND($BN9,0),SUM($AR$6:$BA$6))>=10,1,0)),MIN(MIN($AR$6:$BA$6)-2,ROUND(MIN(ROUND($BN9,0),SUM($AR$6:$BA$6))/10,0)-1))+2)),MIN(MIN(MAX(IF(MIN(ROUND($BN9,0),SUM($AR$6:$BA$6))>=50,3,IF(MIN(ROUND($BN9,0),SUM($AR$6:$BA$6))>=10,1,0)),MIN(MIN($AR$6:$BA$6)-2,ROUND(MIN(ROUND($BN9,0),SUM($AR$6:$BA$6))/10,0)-1))+2,(MIN(ROUND($BN9,0),SUM($AR$6:$BA$6))-SUM($AR9:AX9))-2*MAX(IF(MIN(ROUND($BN9,0),SUM($AR$6:$BA$6))>=50,3,IF(MIN(ROUND($BN9,0),SUM($AR$6:$BA$6))>=10,1,0)),MIN(MIN($AR$6:$BA$6)-2,ROUND(MIN(ROUND($BN9,0),SUM($AR$6:$BA$6))/10,0)-1))),ROUND((MIN(ROUND($BN9,0),SUM($AR$6:$BA$6))-SUM($AR9:AX9))/3+(MOD(SIN($BS$2*7919+ROW()*12.9898+COLUMN()*78.233)*43758.5453,1)-0.5)*2.4,0)))) | AZ9: =IF($BN9="","",MAX(MAX(MAX(IF(MIN(ROUND($BN9,0),SUM($AR$6:$BA$6))>=50,3,IF(MIN(ROUND($BN9,0),SUM($AR$6:$BA$6))>=10,1,0)),MIN(MIN($AR$6:$BA$6)-2,ROUND(MIN(ROUND($BN9,0),SUM($AR$6:$BA$6))/10,0)-1)),(MIN(ROUND($BN9,0),SUM($AR$6:$BA$6))-SUM($AR9:AY9))-1*(MAX(IF(MIN(ROUND($BN9,0),SUM($AR$6:$BA$6))>=50,3,IF(MIN(ROUND($BN9,0),SUM($AR$6:$BA$6))>=10,1,0)),MIN(MIN($AR$6:$BA$6)-2,ROUND(MIN(ROUND($BN9,0),SUM($AR$6:$BA$6))/10,0)-1))+2)),MIN(MIN(MAX(IF(MIN(ROUND($BN9,0),SUM($AR$6:$BA$6))>=50,3,IF(MIN(ROUND($BN9,0),SUM($AR$6:$BA$6))>=10,1,0)),MIN(MIN($AR$6:$BA$6)-2,ROUND(MIN(ROUND($BN9,0),SUM($AR$6:$BA$6))/10,0)-1))+2,(MIN(ROUND($BN9,0),SUM($AR$6:$BA$6))-SUM($AR9:AY9))-1*MAX(IF(MIN(ROUND($BN9,0),SUM($AR$6:$BA$6))>=50,3,IF(MIN(ROUND($BN9,0),SUM($AR$6:$BA$6))>=10,1,0)),MIN(MIN($AR$6:$BA$6)-2,ROUND(MIN(ROUND($BN9,0),SUM($AR$6:$BA$6))/10,0)-1))),ROUND((MIN(ROUND($BN9,0),SUM($AR$6:$BA$6))-SUM($AR9:AY9))/2+(MOD(SIN($BS$2*7919+ROW()*12.9898+COLUMN()*78.233)*43758.5453,1)-0.5)*2.4,0)))) | BA9: =IF($BN9="","",(MIN(ROUND($BN9,0),SUM($AR$6:$BA$6))-SUM($AR9:AZ9))) | BB9: =IF($BO9="","",MAX(MAX(MAX(IF(MIN(ROUND($BO9,0),SUM($BB$6:$BK$6))>=50,3,IF(MIN(ROUND($BO9,0),SUM($BB$6:$BK$6))>=10,1,0)),MIN(MIN($BB$6:$BK$6)-2,ROUND(MIN(ROUND($BO9,0),SUM($BB$6:$BK$6))/10,0)-1)),MIN(ROUND($BO9,0),SUM($BB$6:$BK$6))-9*(MAX(IF(MIN(ROUND($BO9,0),SUM($BB$6:$BK$6))>=50,3,IF(MIN(ROUND($BO9,0),SUM($BB$6:$BK$6))>=10,1,0)),MIN(MIN($BB$6:$BK$6)-2,ROUND(MIN(ROUND($BO9,0),SUM($BB$6:$BK$6))/10,0)-1))+2)),MIN(MIN(MAX(IF(MIN(ROUND($BO9,0),SUM($BB$6:$BK$6))>=50,3,IF(MIN(ROUND($BO9,0),SUM($BB$6:$BK$6))>=10,1,0)),MIN(MIN($BB$6:$BK$6)-2,ROUND(MIN(ROUND($BO9,0),SUM($BB$6:$BK$6))/10,0)-1))+2,MIN(ROUND($BO9,0),SUM($BB$6:$BK$6))-9*MAX(IF(MIN(ROUND($BO9,0),SUM($BB$6:$BK$6))>=50,3,IF(MIN(ROUND($BO9,0),SUM($BB$6:$BK$6))>=10,1,0)),MIN(MIN($BB$6:$BK$6)-2,ROUND(MIN(ROUND($BO9,0),SUM($BB$6:$BK$6))/10,0)-1))),ROUND(MIN(ROUND($BO9,0),SUM($BB$6:$BK$6))/10+(MOD(SIN($BS$2*7919+ROW()*12.9898+COLUMN()*78.233)*43758.5453,1)-0.5)*2.4,0)))) | BC9: =IF($BO9="","",MAX(MAX(MAX(IF(MIN(ROUND($BO9,0),SUM($BB$6:$BK$6))>=50,3,IF(MIN(ROUND($BO9,0),SUM($BB$6:$BK$6))>=10,1,0)),MIN(MIN($BB$6:$BK$6)-2,ROUND(MIN(ROUND($BO9,0),SUM($BB$6:$BK$6))/10,0)-1)),(MIN(ROUND($BO9,0),SUM($BB$6:$BK$6))-SUM($BB9:BB9))-8*(MAX(IF(MIN(ROUND($BO9,0),SUM($BB$6:$BK$6))>=50,3,IF(MIN(ROUND($BO9,0),SUM($BB$6:$BK$6))>=10,1,0)),MIN(MIN($BB$6:$BK$6)-2,ROUND(MIN(ROUND($BO9,0),SUM($BB$6:$BK$6))/10,0)-1))+2)),MIN(MIN(MAX(IF(MIN(ROUND($BO9,0),SUM($BB$6:$BK$6))>=50,3,IF(MIN(ROUND($BO9,0),SUM($BB$6:$BK$6))>=10,1,0)),MIN(MIN($BB$6:$BK$6)-2,ROUND(MIN(ROUND($BO9,0),SUM($BB$6:$BK$6))/10,0)-1))+2,(MIN(ROUND($BO9,0),SUM($BB$6:$BK$6))-SUM($BB9:BB9))-8*MAX(IF(MIN(ROUND($BO9,0),SUM($BB$6:$BK$6))>=50,3,IF(MIN(ROUND($BO9,0),SUM($BB$6:$BK$6))>=10,1,0)),MIN(MIN($BB$6:$BK$6)-2,ROUND(MIN(ROUND($BO9,0),SUM($BB$6:$BK$6))/10,0)-1))),ROUND((MIN(ROUND($BO9,0),SUM($BB$6:$BK$6))-SUM($BB9:BB9))/9+(MOD(SIN($BS$2*7919+ROW()*12.9898+COLUMN()*78.233)*43758.5453,1)-0.5)*2.4,0)))) | BD9: =IF($BO9="","",MAX(MAX(MAX(IF(MIN(ROUND($BO9,0),SUM($BB$6:$BK$6))>=50,3,IF(MIN(ROUND($BO9,0),SUM($BB$6:$BK$6))>=10,1,0)),MIN(MIN($BB$6:$BK$6)-2,ROUND(MIN(ROUND($BO9,0),SUM($BB$6:$BK$6))/10,0)-1)),(MIN(ROUND($BO9,0),SUM($BB$6:$BK$6))-SUM($BB9:BC9))-7*(MAX(IF(MIN(ROUND($BO9,0),SUM($BB$6:$BK$6))>=50,3,IF(MIN(ROUND($BO9,0),SUM($BB$6:$BK$6))>=10,1,0)),MIN(MIN($BB$6:$BK$6)-2,ROUND(MIN(ROUND($BO9,0),SUM($BB$6:$BK$6))/10,0)-1))+2)),MIN(MIN(MAX(IF(MIN(ROUND($BO9,0),SUM($BB$6:$BK$6))>=50,3,IF(MIN(ROUND($BO9,0),SUM($BB$6:$BK$6))>=10,1,0)),MIN(MIN($BB$6:$BK$6)-2,ROUND(MIN(ROUND($BO9,0),SUM($BB$6:$BK$6))/10,0)-1))+2,(MIN(ROUND($BO9,0),SUM($BB$6:$BK$6))-SUM($BB9:BC9))-7*MAX(IF(MIN(ROUND($BO9,0),SUM($BB$6:$BK$6))>=50,3,IF(MIN(ROUND($BO9,0),SUM($BB$6:$BK$6))>=10,1,0)),MIN(MIN($BB$6:$BK$6)-2,ROUND(MIN(ROUND($BO9,0),SUM($BB$6:$BK$6))/10,0)-1))),ROUND((MIN(ROUND($BO9,0),SUM($BB$6:$BK$6))-SUM($BB9:BC9))/8+(MOD(SIN($BS$2*7919+ROW()*12.9898+COLUMN()*78.233)*43758.5453,1)-0.5)*2.4,0)))) | BE9: =IF($BO9="","",MAX(MAX(MAX(IF(MIN(ROUND($BO9,0),SUM($BB$6:$BK$6))>=50,3,IF(MIN(ROUND($BO9,0),SUM($BB$6:$BK$6))>=10,1,0)),MIN(MIN($BB$6:$BK$6)-2,ROUND(MIN(ROUND($BO9,0),SUM($BB$6:$BK$6))/10,0)-1)),(MIN(ROUND($BO9,0),SUM($BB$6:$BK$6))-SUM($BB9:BD9))-6*(MAX(IF(MIN(ROUND($BO9,0),SUM($BB$6:$BK$6))>=50,3,IF(MIN(ROUND($BO9,0),SUM($BB$6:$BK$6))>=10,1,0)),MIN(MIN($BB$6:$BK$6)-2,ROUND(MIN(ROUND($BO9,0),SUM($BB$6:$BK$6))/10,0)-1))+2)),MIN(MIN(MAX(IF(MIN(ROUND($BO9,0),SUM($BB$6:$BK$6))>=50,3,IF(MIN(ROUND($BO9,0),SUM($BB$6:$BK$6))>=10,1,0)),MIN(MIN($BB$6:$BK$6)-2,ROUND(MIN(ROUND($BO9,0),SUM($BB$6:$BK$6))/10,0)-1))+2,(MIN(ROUND($BO9,0),SUM($BB$6:$BK$6))-SUM($BB9:BD9))-6*MAX(IF(MIN(ROUND($BO9,0),SUM($BB$6:$BK$6))>=50,3,IF(MIN(ROUND($BO9,0),SUM($BB$6:$BK$6))>=10,1,0)),MIN(MIN($BB$6:$BK$6)-2,ROUND(MIN(ROUND($BO9,0),SUM($BB$6:$BK$6))/10,0)-1))),ROUND((MIN(ROUND($BO9,0),SUM($BB$6:$BK$6))-SUM($BB9:BD9))/7+(MOD(SIN($BS$2*7919+ROW()*12.9898+COLUMN()*78.233)*43758.5453,1)-0.5)*2.4,0)))) | BF9: =IF($BO9="","",MAX(MAX(MAX(IF(MIN(ROUND($BO9,0),SUM($BB$6:$BK$6))>=50,3,IF(MIN(ROUND($BO9,0),SUM($BB$6:$BK$6))>=10,1,0)),MIN(MIN($BB$6:$BK$6)-2,ROUND(MIN(ROUND($BO9,0),SUM($BB$6:$BK$6))/10,0)-1)),(MIN(ROUND($BO9,0),SUM($BB$6:$BK$6))-SUM($BB9:BE9))-5*(MAX(IF(MIN(ROUND($BO9,0),SUM($BB$6:$BK$6))>=50,3,IF(MIN(ROUND($BO9,0),SUM($BB$6:$BK$6))>=10,1,0)),MIN(MIN($BB$6:$BK$6)-2,ROUND(MIN(ROUND($BO9,0),SUM($BB$6:$BK$6))/10,0)-1))+2)),MIN(MIN(MAX(IF(MIN(ROUND($BO9,0),SUM($BB$6:$BK$6))>=50,3,IF(MIN(ROUND($BO9,0),SUM($BB$6:$BK$6))>=10,1,0)),MIN(MIN($BB$6:$BK$6)-2,ROUND(MIN(ROUND($BO9,0),SUM($BB$6:$BK$6))/10,0)-1))+2,(MIN(ROUND($BO9,0),SUM($BB$6:$BK$6))-SUM($BB9:BE9))-5*MAX(IF(MIN(ROUND($BO9,0),SUM($BB$6:$BK$6))>=50,3,IF(MIN(ROUND($BO9,0),SUM($BB$6:$BK$6))>=10,1,0)),MIN(MIN($BB$6:$BK$6)-2,ROUND(MIN(ROUND($BO9,0),SUM($BB$6:$BK$6))/10,0)-1))),ROUND((MIN(ROUND($BO9,0),SUM($BB$6:$BK$6))-SUM($BB9:BE9))/6+(MOD(SIN($BS$2*7919+ROW()*12.9898+COLUMN()*78.233)*43758.5453,1)-0.5)*2.4,0)))) | BG9: =IF($BO9="","",MAX(MAX(MAX(IF(MIN(ROUND($BO9,0),SUM($BB$6:$BK$6))>=50,3,IF(MIN(ROUND($BO9,0),SUM($BB$6:$BK$6))>=10,1,0)),MIN(MIN($BB$6:$BK$6)-2,ROUND(MIN(ROUND($BO9,0),SUM($BB$6:$BK$6))/10,0)-1)),(MIN(ROUND($BO9,0),SUM($BB$6:$BK$6))-SUM($BB9:BF9))-4*(MAX(IF(MIN(ROUND($BO9,0),SUM($BB$6:$BK$6))>=50,3,IF(MIN(ROUND($BO9,0),SUM($BB$6:$BK$6))>=10,1,0)),MIN(MIN($BB$6:$BK$6)-2,ROUND(MIN(ROUND($BO9,0),SUM($BB$6:$BK$6))/10,0)-1))+2)),MIN(MIN(MAX(IF(MIN(ROUND($BO9,0),SUM($BB$6:$BK$6))>=50,3,IF(MIN(ROUND($BO9,0),SUM($BB$6:$BK$6))>=10,1,0)),MIN(MIN($BB$6:$BK$6)-2,ROUND(MIN(ROUND($BO9,0),SUM($BB$6:$BK$6))/10,0)-1))+2,(MIN(ROUND($BO9,0),SUM($BB$6:$BK$6))-SUM($BB9:BF9))-4*MAX(IF(MIN(ROUND($BO9,0),SUM($BB$6:$BK$6))>=50,3,IF(MIN(ROUND($BO9,0),SUM($BB$6:$BK$6))>=10,1,0)),MIN(MIN($BB$6:$BK$6)-2,ROUND(MIN(ROUND($BO9,0),SUM($BB$6:$BK$6))/10,0)-1))),ROUND((MIN(ROUND($BO9,0),SUM($BB$6:$BK$6))-SUM($BB9:BF9))/5+(MOD(SIN($BS$2*7919+ROW()*12.9898+COLUMN()*78.233)*43758.5453,1)-0.5)*2.4,0)))) | BH9: =IF($BO9="","",MAX(MAX(MAX(IF(MIN(ROUND($BO9,0),SUM($BB$6:$BK$6))>=50,3,IF(MIN(ROUND($BO9,0),SUM($BB$6:$BK$6))>=10,1,0)),MIN(MIN($BB$6:$BK$6)-2,ROUND(MIN(ROUND($BO9,0),SUM($BB$6:$BK$6))/10,0)-1)),(MIN(ROUND($BO9,0),SUM($BB$6:$BK$6))-SUM($BB9:BG9))-3*(MAX(IF(MIN(ROUND($BO9,0),SUM($BB$6:$BK$6))>=50,3,IF(MIN(ROUND($BO9,0),SUM($BB$6:$BK$6))>=10,1,0)),MIN(MIN($BB$6:$BK$6)-2,ROUND(MIN(ROUND($BO9,0),SUM($BB$6:$BK$6))/10,0)-1))+2)),MIN(MIN(MAX(IF(MIN(ROUND($BO9,0),SUM($BB$6:$BK$6))>=50,3,IF(MIN(ROUND($BO9,0),SUM($BB$6:$BK$6))>=10,1,0)),MIN(MIN($BB$6:$BK$6)-2,ROUND(MIN(ROUND($BO9,0),SUM($BB$6:$BK$6))/10,0)-1))+2,(MIN(ROUND($BO9,0),SUM($BB$6:$BK$6))-SUM($BB9:BG9))-3*MAX(IF(MIN(ROUND($BO9,0),SUM($BB$6:$BK$6))>=50,3,IF(MIN(ROUND($BO9,0),SUM($BB$6:$BK$6))>=10,1,0)),MIN(MIN($BB$6:$BK$6)-2,ROUND(MIN(ROUND($BO9,0),SUM($BB$6:$BK$6))/10,0)-1))),ROUND((MIN(ROUND($BO9,0),SUM($BB$6:$BK$6))-SUM($BB9:BG9))/4+(MOD(SIN($BS$2*7919+ROW()*12.9898+COLUMN()*78.233)*43758.5453,1)-0.5)*2.4,0)))) | BI9: =IF($BO9="","",MAX(MAX(MAX(IF(MIN(ROUND($BO9,0),SUM($BB$6:$BK$6))>=50,3,IF(MIN(ROUND($BO9,0),SUM($BB$6:$BK$6))>=10,1,0)),MIN(MIN($BB$6:$BK$6)-2,ROUND(MIN(ROUND($BO9,0),SUM($BB$6:$BK$6))/10,0)-1)),(MIN(ROUND($BO9,0),SUM($BB$6:$BK$6))-SUM($BB9:BH9))-2*(MAX(IF(MIN(ROUND($BO9,0),SUM($BB$6:$BK$6))>=50,3,IF(MIN(ROUND($BO9,0),SUM($BB$6:$BK$6))>=10,1,0)),MIN(MIN($BB$6:$BK$6)-2,ROUND(MIN(ROUND($BO9,0),SUM($BB$6:$BK$6))/10,0)-1))+2)),MIN(MIN(MAX(IF(MIN(ROUND($BO9,0),SUM($BB$6:$BK$6))>=50,3,IF(MIN(ROUND($BO9,0),SUM($BB$6:$BK$6))>=10,1,0)),MIN(MIN($BB$6:$BK$6)-2,ROUND(MIN(ROUND($BO9,0),SUM($BB$6:$BK$6))/10,0)-1))+2,(MIN(ROUND($BO9,0),SUM($BB$6:$BK$6))-SUM($BB9:BH9))-2*MAX(IF(MIN(ROUND($BO9,0),SUM($BB$6:$BK$6))>=50,3,IF(MIN(ROUND($BO9,0),SUM($BB$6:$BK$6))>=10,1,0)),MIN(MIN($BB$6:$BK$6)-2,ROUND(MIN(ROUND($BO9,0),SUM($BB$6:$BK$6))/10,0)-1))),ROUND((MIN(ROUND($BO9,0),SUM($BB$6:$BK$6))-SUM($BB9:BH9))/3+(MOD(SIN($BS$2*7919+ROW()*12.9898+COLUMN()*78.233)*43758.5453,1)-0.5)*2.4,0)))) | BJ9: =IF($BO9="","",MAX(MAX(MAX(IF(MIN(ROUND($BO9,0),SUM($BB$6:$BK$6))>=50,3,IF(MIN(ROUND($BO9,0),SUM($BB$6:$BK$6))>=10,1,0)),MIN(MIN($BB$6:$BK$6)-2,ROUND(MIN(ROUND($BO9,0),SUM($BB$6:$BK$6))/10,0)-1)),(MIN(ROUND($BO9,0),SUM($BB$6:$BK$6))-SUM($BB9:BI9))-1*(MAX(IF(MIN(ROUND($BO9,0),SUM($BB$6:$BK$6))>=50,3,IF(MIN(ROUND($BO9,0),SUM($BB$6:$BK$6))>=10,1,0)),MIN(MIN($BB$6:$BK$6)-2,ROUND(MIN(ROUND($BO9,0),SUM($BB$6:$BK$6))/10,0)-1))+2)),MIN(MIN(MAX(IF(MIN(ROUND($BO9,0),SUM($BB$6:$BK$6))>=50,3,IF(MIN(ROUND($BO9,0),SUM($BB$6:$BK$6))>=10,1,0)),MIN(MIN($BB$6:$BK$6)-2,ROUND(MIN(ROUND($BO9,0),SUM($BB$6:$BK$6))/10,0)-1))+2,(MIN(ROUND($BO9,0),SUM($BB$6:$BK$6))-SUM($BB9:BI9))-1*MAX(IF(MIN(ROUND($BO9,0),SUM($BB$6:$BK$6))>=50,3,IF(MIN(ROUND($BO9,0),SUM($BB$6:$BK$6))>=10,1,0)),MIN(MIN($BB$6:$BK$6)-2,ROUND(MIN(ROUND($BO9,0),SUM($BB$6:$BK$6))/10,0)-1))),ROUND((MIN(ROUND($BO9,0),SUM($BB$6:$BK$6))-SUM($BB9:BI9))/2+(MOD(SIN($BS$2*7919+ROW()*12.9898+COLUMN()*78.233)*43758.5453,1)-0.5)*2.4,0)))) | BK9: =IF($BO9="","",(MIN(ROUND($BO9,0),SUM($BB$6:$BK$6))-SUM($BB9:BJ9))) | BL9: =IF('SINIF LİSTESİ'!D7="", "", 'SINIF LİSTESİ'!D7) | BM9: =IF('SINIF LİSTESİ'!E7="", "", 'SINIF LİSTESİ'!E7) | BN9: =IF('SINIF LİSTESİ'!F7="", "", 'SINIF LİSTESİ'!F7) | BO9: =IF('SINIF LİSTESİ'!G7="", "", 'SINIF LİSTESİ'!G7) | BP9: =IF('SINIF LİSTESİ'!H7="", "", 'SINIF LİSTESİ'!H7)
